| Back to Multiple platform build/check report for BioC 3.20: simplified long | 
 | 
This page was generated on 2024-07-16 11:41 -0400 (Tue, 16 Jul 2024).
| Hostname | OS | Arch (*) | R version | Installed pkgs | 
|---|---|---|---|---|
| nebbiolo2 | Linux (Ubuntu 22.04.3 LTS) | x86_64 | 4.4.1 (2024-06-14) -- "Race for Your Life" | 4677 | 
| palomino6 | Windows Server 2022 Datacenter | x64 | 4.4.1 (2024-06-14 ucrt) -- "Race for Your Life" | 4416 | 
| lconway | macOS 12.7.1 Monterey | x86_64 | 4.4.1 (2024-06-14) -- "Race for Your Life" | 4444 | 
| kjohnson3 | macOS 13.6.5 Ventura | arm64 | 4.4.1 (2024-06-14) -- "Race for Your Life" | 4393 | 
| palomino8 | Windows Server 2022 Datacenter | x64 | 4.4.1 (2024-06-14 ucrt) -- "Race for Your Life" | 4373 | 
| Click on any hostname to see more info about the system (e.g. compilers) (*) as reported by 'uname -p', except on Windows and Mac OS X | ||||
| Package 1683/2243 | Hostname | OS / Arch | INSTALL | BUILD | CHECK | BUILD BIN | ||||||||
| regioneR 1.37.0  (landing page) Bernat Gel 
 | nebbiolo2 | Linux (Ubuntu 22.04.3 LTS) / x86_64 | OK | OK | OK |  | ||||||||
| palomino6 | Windows Server 2022 Datacenter / x64 | OK | OK | OK | OK | |||||||||
| lconway | macOS 12.7.1 Monterey / x86_64 | OK | OK | OK | OK |  | ||||||||
| kjohnson3 | macOS 13.6.5 Ventura / arm64 | OK | OK | OK | OK |  | ||||||||
| palomino8 | Windows Server 2022 Datacenter / x64 | OK | OK | OK | OK | |||||||||
| To the developers/maintainers of the regioneR package: - Allow up to 24 hours (and sometimes 48 hours) for your latest push to git@git.bioconductor.org:packages/regioneR.git to reflect on this report. See Troubleshooting Build Report for more information. - Use the following Renviron settings to reproduce errors and warnings. - If 'R CMD check' started to fail recently on the Linux builder(s) over a missing dependency, add the missing dependency to 'Suggests:' in your DESCRIPTION file. See Renviron.bioc for more information. | 
| Package: regioneR | 
| Version: 1.37.0 | 
| Command: C:\Users\biocbuild\bbs-3.20-bioc\R\bin\R.exe CMD check --no-multiarch --install=check:regioneR.install-out.txt --library=C:\Users\biocbuild\bbs-3.20-bioc\R\library --no-vignettes --timings regioneR_1.37.0.tar.gz | 
| StartedAt: 2024-07-16 03:12:18 -0400 (Tue, 16 Jul 2024) | 
| EndedAt: 2024-07-16 03:30:24 -0400 (Tue, 16 Jul 2024) | 
| EllapsedTime: 1086.0 seconds | 
| RetCode: 0 | 
| Status: OK | 
| CheckDir: regioneR.Rcheck | 
| Warnings: 0 | 
##############################################################################
##############################################################################
###
### Running command:
###
###   C:\Users\biocbuild\bbs-3.20-bioc\R\bin\R.exe CMD check --no-multiarch --install=check:regioneR.install-out.txt --library=C:\Users\biocbuild\bbs-3.20-bioc\R\library --no-vignettes --timings regioneR_1.37.0.tar.gz
###
##############################################################################
##############################################################################
* using log directory 'C:/Users/biocbuild/bbs-3.20-bioc/meat/regioneR.Rcheck'
* using R version 4.4.1 (2024-06-14 ucrt)
* using platform: x86_64-w64-mingw32
* R was compiled by
    gcc.exe (GCC) 13.2.0
    GNU Fortran (GCC) 13.2.0
* running under: Windows Server 2022 x64 (build 20348)
* using session charset: UTF-8
* using option '--no-vignettes'
* checking for file 'regioneR/DESCRIPTION' ... OK
* checking extension type ... Package
* this is package 'regioneR' version '1.37.0'
* package encoding: UTF-8
* checking package namespace information ... OK
* checking package dependencies ... OK
* checking if this is a source package ... OK
* checking if there is a namespace ... OK
* checking for hidden files and directories ... OK
* checking for portable file names ... OK
* checking whether package 'regioneR' can be installed ... OK
* checking installed package size ... OK
* checking package directory ... OK
* checking 'build' directory ... OK
* checking DESCRIPTION meta-information ... NOTE
Package listed in more than one of Depends, Imports, Suggests, Enhances:
  'GenomicRanges'
A package should be listed in only one of these fields.
* checking top-level files ... OK
* checking for left-over files ... OK
* checking index information ... OK
* checking package subdirectories ... OK
* checking code files for non-ASCII characters ... OK
* checking R files for syntax errors ... OK
* checking whether the package can be loaded ... OK
* checking whether the package can be loaded with stated dependencies ... OK
* checking whether the package can be unloaded cleanly ... OK
* checking whether the namespace can be loaded with stated dependencies ... OK
* checking whether the namespace can be unloaded cleanly ... OK
* checking dependencies in R code ... OK
* checking S3 generic/method consistency ... OK
* checking replacement functions ... OK
* checking foreign function calls ... OK
* checking R code for possible problems ... OK
* checking Rd files ... OK
* checking Rd metadata ... OK
* checking Rd cross-references ... OK
* checking for missing documentation entries ... OK
* checking for code/documentation mismatches ... OK
* checking Rd \usage sections ... OK
* checking Rd contents ... OK
* checking for unstated dependencies in examples ... OK
* checking files in 'vignettes' ... OK
* checking examples ... OK
Examples with CPU (user + system) or elapsed time > 5s
                           user system elapsed
maskFromBSGenome         151.55   9.40  163.59
filterChromosomes        153.14   5.14  160.44
circularRandomizeRegions 148.37   5.51  163.64
getMask                  144.74   6.33  156.10
resampleGenome             7.15   1.47    9.06
characterToBSGenome        1.58   4.46    6.04
* checking for unstated dependencies in 'tests' ... OK
* checking tests ...
  Running 'testthat.R'
 OK
* checking for unstated dependencies in vignettes ... OK
* checking package vignettes ... OK
* checking running R code from vignettes ... SKIPPED
* checking re-building of vignette outputs ... SKIPPED
* checking PDF version of manual ... OK
* DONE
Status: 1 NOTE
See
  'C:/Users/biocbuild/bbs-3.20-bioc/meat/regioneR.Rcheck/00check.log'
for details.
regioneR.Rcheck/00install.out
############################################################################## ############################################################################## ### ### Running command: ### ### C:\Users\biocbuild\bbs-3.20-bioc\R\bin\R.exe CMD INSTALL regioneR ### ############################################################################## ############################################################################## * installing to library 'C:/Users/biocbuild/bbs-3.20-bioc/R/library' * installing *source* package 'regioneR' ... ** using staged installation ** R ** inst ** byte-compile and prepare package for lazy loading ** help *** installing help indices ** building package indices ** installing vignettes ** testing if installed package can be loaded from temporary location ** testing if installed package can be loaded from final location ** testing if installed package keeps a record of temporary installation path * DONE (regioneR)
regioneR.Rcheck/tests/testthat.Rout
R version 4.4.1 (2024-06-14 ucrt) -- "Race for Your Life"
Copyright (C) 2024 The R Foundation for Statistical Computing
Platform: x86_64-w64-mingw32/x64
R is free software and comes with ABSOLUTELY NO WARRANTY.
You are welcome to redistribute it under certain conditions.
Type 'license()' or 'licence()' for distribution details.
R is a collaborative project with many contributors.
Type 'contributors()' for more information and
'citation()' on how to cite R or R packages in publications.
Type 'demo()' for some demos, 'help()' for on-line help, or
'help.start()' for an HTML browser interface to help.
Type 'q()' to quit R.
> library(testthat)
> library(regioneR)
Loading required package: GenomicRanges
Loading required package: stats4
Loading required package: BiocGenerics
Attaching package: 'BiocGenerics'
The following objects are masked from 'package:stats':
    IQR, mad, sd, var, xtabs
The following objects are masked from 'package:base':
    Filter, Find, Map, Position, Reduce, anyDuplicated, aperm, append,
    as.data.frame, basename, cbind, colnames, dirname, do.call,
    duplicated, eval, evalq, get, grep, grepl, intersect, is.unsorted,
    lapply, mapply, match, mget, order, paste, pmax, pmax.int, pmin,
    pmin.int, rank, rbind, rownames, sapply, setdiff, table, tapply,
    union, unique, unsplit, which.max, which.min
Loading required package: S4Vectors
Attaching package: 'S4Vectors'
The following object is masked from 'package:utils':
    findMatches
The following objects are masked from 'package:base':
    I, expand.grid, unname
Loading required package: IRanges
Attaching package: 'IRanges'
The following object is masked from 'package:grDevices':
    windows
Loading required package: GenomeInfoDb
> 
> test_check("regioneR")
[ FAIL 0 | WARN 0 | SKIP 0 | PASS 89 ]
> 
> proc.time()
   user  system elapsed 
 166.45   11.73  182.37 
regioneR.Rcheck/regioneR-Ex.timings
| name | user | system | elapsed | |
| characterToBSGenome | 1.58 | 4.46 | 6.04 | |
| circularRandomizeRegions | 148.37 | 5.51 | 163.64 | |
| commonRegions | 0.19 | 0.02 | 0.20 | |
| createFunctionsList | 0.39 | 0.01 | 0.41 | |
| createRandomRegions | 0.15 | 0.00 | 0.15 | |
| emptyCacheRegioneR | 0.02 | 0.00 | 0.02 | |
| extendRegions | 0.09 | 0.00 | 0.09 | |
| filterChromosomes | 153.14 | 5.14 | 160.44 | |
| getChromosomesByOrganism | 0 | 0 | 0 | |
| getGenome | 3.16 | 0.05 | 3.78 | |
| getGenomeAndMask | 0.06 | 0.00 | 0.06 | |
| getMask | 144.74 | 6.33 | 156.10 | |
| joinRegions | 0.08 | 0.00 | 0.07 | |
| listChrTypes | 0.00 | 0.02 | 0.02 | |
| localZScore | 3.71 | 0.14 | 3.83 | |
| maskFromBSGenome | 151.55 | 9.40 | 163.59 | |
| meanDistance | 0.08 | 0.00 | 0.08 | |
| meanInRegions | 0.09 | 0.00 | 0.09 | |
| mergeRegions | 0.1 | 0.0 | 0.1 | |
| numOverlaps | 0.12 | 0.00 | 0.12 | |
| overlapGraphicalSummary | 0.06 | 0.00 | 0.07 | |
| overlapPermTest | 4.11 | 0.05 | 2.78 | |
| overlapRegions | 0.03 | 0.00 | 0.03 | |
| permTest | 0.94 | 0.00 | 0.94 | |
| plot.localZScoreResults | 1.06 | 0.01 | 1.07 | |
| plot.localZScoreResultsList | 2.0 | 0.1 | 2.1 | |
| plot.permTestResults | 2.27 | 0.03 | 2.29 | |
| plot.permTestResultsList | 1.64 | 0.02 | 1.66 | |
| plotRegions | 0.03 | 0.00 | 0.03 | |
| print.permTestResults | 1.03 | 0.01 | 1.05 | |
| randomizeRegions | 0.21 | 0.00 | 0.20 | |
| recomputePermTest | 0.67 | 0.02 | 0.69 | |
| resampleGenome | 7.15 | 1.47 | 9.06 | |
| resampleRegions | 0.02 | 0.00 | 0.01 | |
| splitRegions | 0.05 | 0.00 | 0.05 | |
| subtractRegions | 0.14 | 0.00 | 0.14 | |
| toDataframe | 0 | 0 | 0 | |
| toGRanges | 0.55 | 0.04 | 0.59 | |
| uniqueRegions | 0.23 | 0.00 | 0.24 | |