| Back to Multiple platform build/check report for BioC 3.20: simplified long | 
 | 
This page was generated on 2025-04-02 19:36 -0400 (Wed, 02 Apr 2025).
| Hostname | OS | Arch (*) | R version | Installed pkgs | 
|---|---|---|---|---|
| nebbiolo2 | Linux (Ubuntu 24.04.1 LTS) | x86_64 | 4.4.3 (2025-02-28) -- "Trophy Case" | 4764 | 
| palomino8 | Windows Server 2022 Datacenter | x64 | 4.4.3 (2025-02-28 ucrt) -- "Trophy Case" | 4495 | 
| merida1 | macOS 12.7.5 Monterey | x86_64 | 4.4.3 (2025-02-28) -- "Trophy Case" | 4522 | 
| kjohnson1 | macOS 13.6.6 Ventura | arm64 | 4.4.3 (2025-02-28) -- "Trophy Case" | 4449 | 
| taishan | Linux (openEuler 24.03 LTS) | aarch64 | 4.4.3 (2025-02-28) -- "Trophy Case" | 4426 | 
| Click on any hostname to see more info about the system (e.g. compilers) (*) as reported by 'uname -p', except on Windows and Mac OS X | ||||
| Package 1672/2289 | Hostname | OS / Arch | INSTALL | BUILD | CHECK | BUILD BIN | ||||||||
| rBiopaxParser 2.46.0  (landing page) Frank Kramer 
 | nebbiolo2 | Linux (Ubuntu 24.04.1 LTS) / x86_64 | OK | OK | OK |  | ||||||||
| palomino8 | Windows Server 2022 Datacenter / x64 | OK | OK | OK | OK |  | ||||||||
| merida1 | macOS 12.7.5 Monterey / x86_64 | OK | OK | OK | OK |  | ||||||||
| kjohnson1 | macOS 13.6.6 Ventura / arm64 | OK | OK | OK | OK |  | ||||||||
| taishan | Linux (openEuler 24.03 LTS) / aarch64 | OK | OK | OK | ||||||||||
| To the developers/maintainers of the rBiopaxParser package: - Allow up to 24 hours (and sometimes 48 hours) for your latest push to git@git.bioconductor.org:packages/rBiopaxParser.git to reflect on this report. See Troubleshooting Build Report for more information. - Use the following Renviron settings to reproduce errors and warnings. - If 'R CMD check' started to fail recently on the Linux builder(s) over a missing dependency, add the missing dependency to 'Suggests:' in your DESCRIPTION file. See Renviron.bioc for more information. - See Martin Grigorov's blog post for how to debug Linux ARM64 related issues on a x86_64 host. | 
| Package: rBiopaxParser | 
| Version: 2.46.0 | 
| Command: /home/biocbuild/R/R/bin/R CMD check --install=check:rBiopaxParser.install-out.txt --library=/home/biocbuild/R/R/site-library --no-vignettes --timings rBiopaxParser_2.46.0.tar.gz | 
| StartedAt: 2025-04-01 09:48:03 -0000 (Tue, 01 Apr 2025) | 
| EndedAt: 2025-04-01 09:48:53 -0000 (Tue, 01 Apr 2025) | 
| EllapsedTime: 50.1 seconds | 
| RetCode: 0 | 
| Status: OK | 
| CheckDir: rBiopaxParser.Rcheck | 
| Warnings: 0 | 
##############################################################################
##############################################################################
###
### Running command:
###
###   /home/biocbuild/R/R/bin/R CMD check --install=check:rBiopaxParser.install-out.txt --library=/home/biocbuild/R/R/site-library --no-vignettes --timings rBiopaxParser_2.46.0.tar.gz
###
##############################################################################
##############################################################################
* using log directory ‘/home/biocbuild/bbs-3.20-bioc/meat/rBiopaxParser.Rcheck’
* using R version 4.4.3 (2025-02-28)
* using platform: aarch64-unknown-linux-gnu
* R was compiled by
    aarch64-unknown-linux-gnu-gcc (GCC) 14.2.0
    GNU Fortran (GCC) 14.2.0
* running under: openEuler 24.03 (LTS)
* using session charset: UTF-8
* using option ‘--no-vignettes’
* checking for file ‘rBiopaxParser/DESCRIPTION’ ... OK
* checking extension type ... Package
* this is package ‘rBiopaxParser’ version ‘2.46.0’
* checking package namespace information ... OK
* checking package dependencies ... OK
* checking if this is a source package ... OK
* checking if there is a namespace ... OK
* checking for hidden files and directories ... OK
* checking for portable file names ... OK
* checking for sufficient/correct file permissions ... OK
* checking whether package ‘rBiopaxParser’ can be installed ... OK
* checking installed package size ... OK
* checking package directory ... OK
* checking ‘build’ directory ... OK
* checking DESCRIPTION meta-information ... OK
* checking top-level files ... OK
* checking for left-over files ... OK
* checking index information ... OK
* checking package subdirectories ... OK
* checking code files for non-ASCII characters ... OK
* checking R files for syntax errors ... OK
* checking whether the package can be loaded ... OK
* checking whether the package can be loaded with stated dependencies ... OK
* checking whether the package can be unloaded cleanly ... OK
* checking whether the namespace can be loaded with stated dependencies ... OK
* checking whether the namespace can be unloaded cleanly ... OK
* checking loading without being on the library search path ... OK
* checking dependencies in R code ... NOTE
'library' or 'require' calls in package code:
  ‘RBGL’ ‘RCurl’ ‘Rgraphviz’ ‘graph’ ‘igraph’
  Please use :: or requireNamespace() instead.
  See section 'Suggested packages' in the 'Writing R Extensions' manual.
* checking S3 generic/method consistency ... OK
* checking replacement functions ... OK
* checking foreign function calls ... OK
* checking R code for possible problems ... NOTE
addBiopaxInstance: no visible binding for global variable ‘property’
addBiopaxInstances: no visible binding for global variable ‘id’
addBiopaxInstances: no visible binding for global variable ‘property’
addPropertiesToBiopaxInstance: no visible binding for global variable
  ‘property’
colorGraphNodes: no visible global function definition for ‘hcl’
createBiopax: no visible binding for global variable ‘id’
createBiopax: no visible binding for global variable ‘property’
getReferencedIDs: no visible binding for global variable
  ‘property_attr’
getReferencedIDs: no visible binding for global variable ‘property’
getReferencingIDs: no visible binding for global variable
  ‘property_attr’
getReferencingIDs: no visible binding for global variable ‘property’
internal_XMLInstance2DF: no visible binding for global variable ‘i’
internal_XMLInstance2DF: no visible binding for global variable ‘p’
internal_generateXMLfromBiopax: no visible binding for global variable
  ‘id’
internal_getBiopaxModelAsDataFrame: no visible binding for global
  variable ‘property’
internal_propertyListToDF: no visible binding for global variable
  ‘property’
layoutRegulatoryGraph: no visible global function definition for
  ‘nodes’
listInstances: no visible binding for global variable ‘property_value’
listInstances: no visible binding for global variable ‘property’
pathway2AdjacancyMatrix: no visible global function definition for ‘as’
pathway2Graph: no visible global function definition for ‘new’
pathway2Graph: no visible global function definition for ‘getClassDef’
pathway2Graph: no visible binding for global variable ‘id’
pathway2Graph: no visible binding for global variable ‘property’
pathway2RegulatoryGraph: no visible global function definition for
  ‘new’
pathway2RegulatoryGraph: no visible global function definition for
  ‘getClassDef’
pathway2RegulatoryGraph: no visible binding for global variable ‘id’
pathway2RegulatoryGraph: no visible binding for global variable
  ‘property’
plotRegulatoryGraph: no visible global function definition for ‘nodes’
removeDisconnectedParts: no visible global function definition for
  ‘removeNode’
removeNodes: no visible global function definition for ‘edgeWeights’
removeNodes: no visible global function definition for ‘na.omit’
removeNodes: no visible global function definition for ‘removeNode’
removeNodes: no visible global function definition for ‘addEdge’
removeProperties: no visible binding for global variable ‘property’
selectInstances: no visible binding for global variable
  ‘property_value’
Undefined global functions or variables:
  addEdge as edgeWeights getClassDef hcl i id na.omit new nodes p
  property property_attr property_value removeNode
Consider adding
  importFrom("grDevices", "hcl")
  importFrom("methods", "as", "getClassDef", "new")
  importFrom("stats", "na.omit")
to your NAMESPACE file (and ensure that your DESCRIPTION Imports field
contains 'methods').
* checking Rd files ... OK
* checking Rd metadata ... OK
* checking Rd cross-references ... OK
* checking for missing documentation entries ... OK
* checking for code/documentation mismatches ... OK
* checking Rd \usage sections ... OK
* checking Rd contents ... OK
* checking for unstated dependencies in examples ... OK
* checking contents of ‘data’ directory ... OK
* checking data for non-ASCII characters ... NOTE
  Note: found 1 marked UTF-8 string
* checking data for ASCII and uncompressed saves ... OK
* checking files in ‘vignettes’ ... OK
* checking examples ... OK
* checking for unstated dependencies in ‘tests’ ... OK
* checking tests ...
  Running ‘runTests.R’
 OK
* checking for unstated dependencies in vignettes ... OK
* checking package vignettes ... OK
* checking running R code from vignettes ... SKIPPED
* checking re-building of vignette outputs ... SKIPPED
* checking PDF version of manual ... OK
* DONE
Status: 3 NOTEs
See
  ‘/home/biocbuild/bbs-3.20-bioc/meat/rBiopaxParser.Rcheck/00check.log’
for details.
rBiopaxParser.Rcheck/00install.out
############################################################################## ############################################################################## ### ### Running command: ### ### /home/biocbuild/R/R/bin/R CMD INSTALL rBiopaxParser ### ############################################################################## ############################################################################## * installing to library ‘/home/biocbuild/R/R-4.4.3/site-library’ * installing *source* package ‘rBiopaxParser’ ... ** using staged installation ** R ** data ** inst ** byte-compile and prepare package for lazy loading ** help *** installing help indices ** building package indices ** installing vignettes ** testing if installed package can be loaded from temporary location ** testing if installed package can be loaded from final location ** testing if installed package keeps a record of temporary installation path * DONE (rBiopaxParser)
rBiopaxParser.Rcheck/tests/runTests.Rout
R version 4.4.3 (2025-02-28) -- "Trophy Case"
Copyright (C) 2025 The R Foundation for Statistical Computing
Platform: aarch64-unknown-linux-gnu
R is free software and comes with ABSOLUTELY NO WARRANTY.
You are welcome to redistribute it under certain conditions.
Type 'license()' or 'licence()' for distribution details.
R is a collaborative project with many contributors.
Type 'contributors()' for more information and
'citation()' on how to cite R or R packages in publications.
Type 'demo()' for some demos, 'help()' for on-line help, or
'help.start()' for an HTML browser interface to help.
Type 'q()' to quit R.
> BiocGenerics:::testPackage("rBiopaxParser")
RUNIT TEST PROTOCOL -- Tue Apr  1 09:48:48 2025 
*********************************************** 
Number of test functions: 12 
Number of errors: 0 
Number of failures: 0 
 
1 Test Suite : 
rBiopaxParser RUnit Tests - 12 test functions, 0 errors, 0 failures
Number of test functions: 12 
Number of errors: 0 
Number of failures: 0 
> 
> proc.time()
   user  system elapsed 
  0.495   0.035   0.518 
rBiopaxParser.Rcheck/rBiopaxParser-Ex.timings
| name | user | system | elapsed | |
| addBiochemicalReaction | 0.053 | 0.000 | 0.054 | |
| addBiopaxInstance | 0.006 | 0.000 | 0.007 | |
| addBiopaxInstances | 0.013 | 0.000 | 0.013 | |
| addControl | 0.024 | 0.000 | 0.024 | |
| addPathway | 0.026 | 0.004 | 0.030 | |
| addPathwayComponents | 0.033 | 0.000 | 0.033 | |
| addPhysicalEntity | 0.011 | 0.004 | 0.015 | |
| addPhysicalEntityParticipant | 0.015 | 0.000 | 0.015 | |
| addPropertiesToBiopaxInstance | 0.012 | 0.000 | 0.012 | |
| biopax | 0.021 | 0.000 | 0.021 | |
| calcGraphOverlap | 2.474 | 0.040 | 2.519 | |
| colorGraphNodes | 1.493 | 0.004 | 1.501 | |
| combineNodes | 0.003 | 0.000 | 0.003 | |
| createBiopax | 0.001 | 0.000 | 0.001 | |
| diffGraphs | 2.233 | 0.040 | 2.279 | |
| downloadBiopaxData | 0.001 | 0.000 | 0.000 | |
| getClassProperties | 0.000 | 0.001 | 0.001 | |
| getInstanceClass | 0.003 | 0.002 | 0.005 | |
| getInstanceProperty | 0.008 | 0.000 | 0.008 | |
| getReferencedIDs | 0.024 | 0.004 | 0.028 | |
| getReferencingIDs | 0.021 | 0.000 | 0.020 | |
| getSubClasses | 0 | 0 | 0 | |
| getSuperClasses | 0 | 0 | 0 | |
| getXrefAnnotations | 0.176 | 0.000 | 0.176 | |
| hasProperty | 0.003 | 0.000 | 0.003 | |
| intersectGraphs | 2.126 | 0.008 | 2.139 | |
| isOfClass | 0.003 | 0.000 | 0.003 | |
| layoutRegulatoryGraph | 1.374 | 0.000 | 1.377 | |
| listComplexComponents | 0.016 | 0.000 | 0.015 | |
| listInstances | 0.023 | 0.000 | 0.023 | |
| listInteractionComponents | 0.023 | 0.000 | 0.024 | |
| listPathwayComponents | 0.019 | 0.000 | 0.020 | |
| listPathways | 0.009 | 0.000 | 0.009 | |
| pathway2AdjacancyMatrix | 1.241 | 0.012 | 1.256 | |
| pathway2Geneset | 0.521 | 0.000 | 0.522 | |
| pathway2Graph | 1.157 | 0.004 | 1.166 | |
| pathway2RegulatoryGraph | 1.386 | 0.032 | 1.421 | |
| plotRegulatoryGraph | 1.265 | 0.048 | 1.316 | |
| print.biopax | 0.007 | 0.002 | 0.009 | |
| rBiopaxParser-package | 0 | 0 | 0 | |
| readBiopax | 0.003 | 0.000 | 0.003 | |
| removeInstance | 0.004 | 0.000 | 0.004 | |
| removeNodes | 1.324 | 0.028 | 1.538 | |
| removeProperties | 0.005 | 0.000 | 0.004 | |
| selectInstances | 0.016 | 0.004 | 0.020 | |
| splitComplex | 0.038 | 0.000 | 0.037 | |
| transitiveClosure | 1.158 | 0.052 | 1.214 | |
| transitiveReduction | 1.135 | 0.011 | 1.150 | |
| uniteGraphs | 2.182 | 0.032 | 2.219 | |
| writeBiopax | 0.002 | 0.000 | 0.002 | |