| Back to Multiple platform build/check report for BioC 3.20: simplified long |
|
This page was generated on 2024-07-16 11:41 -0400 (Tue, 16 Jul 2024).
| Hostname | OS | Arch (*) | R version | Installed pkgs |
|---|---|---|---|---|
| nebbiolo2 | Linux (Ubuntu 22.04.3 LTS) | x86_64 | 4.4.1 (2024-06-14) -- "Race for Your Life" | 4677 |
| palomino6 | Windows Server 2022 Datacenter | x64 | 4.4.1 (2024-06-14 ucrt) -- "Race for Your Life" | 4416 |
| lconway | macOS 12.7.1 Monterey | x86_64 | 4.4.1 (2024-06-14) -- "Race for Your Life" | 4444 |
| kjohnson3 | macOS 13.6.5 Ventura | arm64 | 4.4.1 (2024-06-14) -- "Race for Your Life" | 4393 |
| palomino8 | Windows Server 2022 Datacenter | x64 | 4.4.1 (2024-06-14 ucrt) -- "Race for Your Life" | 4373 |
| Click on any hostname to see more info about the system (e.g. compilers) (*) as reported by 'uname -p', except on Windows and Mac OS X | ||||
| Package 1640/2243 | Hostname | OS / Arch | INSTALL | BUILD | CHECK | BUILD BIN | ||||||||
| rBiopaxParser 2.45.0 (landing page) Frank Kramer
| nebbiolo2 | Linux (Ubuntu 22.04.3 LTS) / x86_64 | OK | OK | OK | |||||||||
| palomino6 | Windows Server 2022 Datacenter / x64 | OK | OK | OK | OK | |||||||||
| lconway | macOS 12.7.1 Monterey / x86_64 | OK | OK | OK | OK | |||||||||
| kjohnson3 | macOS 13.6.5 Ventura / arm64 | OK | OK | OK | OK | |||||||||
| palomino8 | Windows Server 2022 Datacenter / x64 | OK | OK | OK | OK | |||||||||
|
To the developers/maintainers of the rBiopaxParser package: - Allow up to 24 hours (and sometimes 48 hours) for your latest push to git@git.bioconductor.org:packages/rBiopaxParser.git to reflect on this report. See Troubleshooting Build Report for more information. - Use the following Renviron settings to reproduce errors and warnings. - If 'R CMD check' started to fail recently on the Linux builder(s) over a missing dependency, add the missing dependency to 'Suggests:' in your DESCRIPTION file. See Renviron.bioc for more information. |
| Package: rBiopaxParser |
| Version: 2.45.0 |
| Command: C:\Users\biocbuild\bbs-3.20-bioc\R\bin\R.exe CMD check --no-multiarch --install=check:rBiopaxParser.install-out.txt --library=C:\Users\biocbuild\bbs-3.20-bioc\R\library --no-vignettes --timings rBiopaxParser_2.45.0.tar.gz |
| StartedAt: 2024-07-16 03:06:51 -0400 (Tue, 16 Jul 2024) |
| EndedAt: 2024-07-16 03:07:51 -0400 (Tue, 16 Jul 2024) |
| EllapsedTime: 60.2 seconds |
| RetCode: 0 |
| Status: OK |
| CheckDir: rBiopaxParser.Rcheck |
| Warnings: 0 |
##############################################################################
##############################################################################
###
### Running command:
###
### C:\Users\biocbuild\bbs-3.20-bioc\R\bin\R.exe CMD check --no-multiarch --install=check:rBiopaxParser.install-out.txt --library=C:\Users\biocbuild\bbs-3.20-bioc\R\library --no-vignettes --timings rBiopaxParser_2.45.0.tar.gz
###
##############################################################################
##############################################################################
* using log directory 'C:/Users/biocbuild/bbs-3.20-bioc/meat/rBiopaxParser.Rcheck'
* using R version 4.4.1 (2024-06-14 ucrt)
* using platform: x86_64-w64-mingw32
* R was compiled by
gcc.exe (GCC) 13.2.0
GNU Fortran (GCC) 13.2.0
* running under: Windows Server 2022 x64 (build 20348)
* using session charset: UTF-8
* using option '--no-vignettes'
* checking for file 'rBiopaxParser/DESCRIPTION' ... OK
* checking extension type ... Package
* this is package 'rBiopaxParser' version '2.45.0'
* checking package namespace information ... OK
* checking package dependencies ... OK
* checking if this is a source package ... OK
* checking if there is a namespace ... OK
* checking for hidden files and directories ... OK
* checking for portable file names ... OK
* checking whether package 'rBiopaxParser' can be installed ... OK
* checking installed package size ... OK
* checking package directory ... OK
* checking 'build' directory ... OK
* checking DESCRIPTION meta-information ... OK
* checking top-level files ... OK
* checking for left-over files ... OK
* checking index information ... OK
* checking package subdirectories ... OK
* checking code files for non-ASCII characters ... OK
* checking R files for syntax errors ... OK
* checking whether the package can be loaded ... OK
* checking whether the package can be loaded with stated dependencies ... OK
* checking whether the package can be unloaded cleanly ... OK
* checking whether the namespace can be loaded with stated dependencies ... OK
* checking whether the namespace can be unloaded cleanly ... OK
* checking dependencies in R code ... NOTE
'library' or 'require' calls in package code:
'RBGL' 'RCurl' 'Rgraphviz' 'graph' 'igraph'
Please use :: or requireNamespace() instead.
See section 'Suggested packages' in the 'Writing R Extensions' manual.
* checking S3 generic/method consistency ... OK
* checking replacement functions ... OK
* checking foreign function calls ... OK
* checking R code for possible problems ... NOTE
addBiopaxInstance: no visible binding for global variable 'property'
addBiopaxInstances: no visible binding for global variable 'id'
addBiopaxInstances: no visible binding for global variable 'property'
addPropertiesToBiopaxInstance: no visible binding for global variable
'property'
colorGraphNodes: no visible global function definition for 'hcl'
createBiopax: no visible binding for global variable 'id'
createBiopax: no visible binding for global variable 'property'
getReferencedIDs: no visible binding for global variable
'property_attr'
getReferencedIDs: no visible binding for global variable 'property'
getReferencingIDs: no visible binding for global variable
'property_attr'
getReferencingIDs: no visible binding for global variable 'property'
internal_XMLInstance2DF: no visible binding for global variable 'i'
internal_XMLInstance2DF: no visible binding for global variable 'p'
internal_generateXMLfromBiopax: no visible binding for global variable
'id'
internal_getBiopaxModelAsDataFrame: no visible binding for global
variable 'property'
internal_propertyListToDF: no visible binding for global variable
'property'
layoutRegulatoryGraph: no visible global function definition for
'nodes'
listInstances: no visible binding for global variable 'property_value'
listInstances: no visible binding for global variable 'property'
pathway2AdjacancyMatrix: no visible global function definition for 'as'
pathway2Graph: no visible global function definition for 'new'
pathway2Graph: no visible global function definition for 'getClassDef'
pathway2Graph: no visible binding for global variable 'id'
pathway2Graph: no visible binding for global variable 'property'
pathway2RegulatoryGraph: no visible global function definition for
'new'
pathway2RegulatoryGraph: no visible global function definition for
'getClassDef'
pathway2RegulatoryGraph: no visible binding for global variable 'id'
pathway2RegulatoryGraph: no visible binding for global variable
'property'
plotRegulatoryGraph: no visible global function definition for 'nodes'
removeDisconnectedParts: no visible global function definition for
'removeNode'
removeNodes: no visible global function definition for 'edgeWeights'
removeNodes: no visible global function definition for 'na.omit'
removeNodes: no visible global function definition for 'removeNode'
removeNodes: no visible global function definition for 'addEdge'
removeProperties: no visible binding for global variable 'property'
selectInstances: no visible binding for global variable
'property_value'
Undefined global functions or variables:
addEdge as edgeWeights getClassDef hcl i id na.omit new nodes p
property property_attr property_value removeNode
Consider adding
importFrom("grDevices", "hcl")
importFrom("methods", "as", "getClassDef", "new")
importFrom("stats", "na.omit")
to your NAMESPACE file (and ensure that your DESCRIPTION Imports field
contains 'methods').
* checking Rd files ... OK
* checking Rd metadata ... OK
* checking Rd cross-references ... OK
* checking for missing documentation entries ... OK
* checking for code/documentation mismatches ... OK
* checking Rd \usage sections ... OK
* checking Rd contents ... OK
* checking for unstated dependencies in examples ... OK
* checking contents of 'data' directory ... OK
* checking data for non-ASCII characters ... NOTE
Note: found 1 marked UTF-8 string
* checking data for ASCII and uncompressed saves ... OK
* checking sizes of PDF files under 'inst/doc' ... OK
* checking files in 'vignettes' ... OK
* checking examples ... OK
* checking for unstated dependencies in 'tests' ... OK
* checking tests ...
Running 'runTests.R'
OK
* checking for unstated dependencies in vignettes ... OK
* checking package vignettes ... OK
* checking running R code from vignettes ... SKIPPED
* checking re-building of vignette outputs ... SKIPPED
* checking PDF version of manual ... OK
* DONE
Status: 3 NOTEs
See
'C:/Users/biocbuild/bbs-3.20-bioc/meat/rBiopaxParser.Rcheck/00check.log'
for details.
rBiopaxParser.Rcheck/00install.out
############################################################################## ############################################################################## ### ### Running command: ### ### C:\Users\biocbuild\bbs-3.20-bioc\R\bin\R.exe CMD INSTALL rBiopaxParser ### ############################################################################## ############################################################################## * installing to library 'C:/Users/biocbuild/bbs-3.20-bioc/R/library' * installing *source* package 'rBiopaxParser' ... ** using staged installation ** R ** data ** inst ** byte-compile and prepare package for lazy loading ** help *** installing help indices ** building package indices ** installing vignettes ** testing if installed package can be loaded from temporary location ** testing if installed package can be loaded from final location ** testing if installed package keeps a record of temporary installation path * DONE (rBiopaxParser)
rBiopaxParser.Rcheck/tests/runTests.Rout
R version 4.4.1 (2024-06-14 ucrt) -- "Race for Your Life"
Copyright (C) 2024 The R Foundation for Statistical Computing
Platform: x86_64-w64-mingw32/x64
R is free software and comes with ABSOLUTELY NO WARRANTY.
You are welcome to redistribute it under certain conditions.
Type 'license()' or 'licence()' for distribution details.
R is a collaborative project with many contributors.
Type 'contributors()' for more information and
'citation()' on how to cite R or R packages in publications.
Type 'demo()' for some demos, 'help()' for on-line help, or
'help.start()' for an HTML browser interface to help.
Type 'q()' to quit R.
> BiocGenerics:::testPackage("rBiopaxParser")
RUNIT TEST PROTOCOL -- Tue Jul 16 03:07:41 2024
***********************************************
Number of test functions: 12
Number of errors: 0
Number of failures: 0
1 Test Suite :
rBiopaxParser RUnit Tests - 12 test functions, 0 errors, 0 failures
Number of test functions: 12
Number of errors: 0
Number of failures: 0
>
> proc.time()
user system elapsed
0.26 0.14 0.39
rBiopaxParser.Rcheck/rBiopaxParser-Ex.timings
| name | user | system | elapsed | |
| addBiochemicalReaction | 0.03 | 0.00 | 0.03 | |
| addBiopaxInstance | 0 | 0 | 0 | |
| addBiopaxInstances | 0 | 0 | 0 | |
| addControl | 0.03 | 0.00 | 0.03 | |
| addPathway | 0.02 | 0.00 | 0.02 | |
| addPathwayComponents | 0.03 | 0.00 | 0.03 | |
| addPhysicalEntity | 0.02 | 0.00 | 0.02 | |
| addPhysicalEntityParticipant | 0.01 | 0.00 | 0.01 | |
| addPropertiesToBiopaxInstance | 0.02 | 0.00 | 0.02 | |
| biopax | 0.03 | 0.00 | 0.03 | |
| calcGraphOverlap | 1.98 | 0.11 | 2.11 | |
| colorGraphNodes | 1.19 | 0.02 | 1.20 | |
| combineNodes | 0.02 | 0.00 | 0.02 | |
| createBiopax | 0 | 0 | 0 | |
| diffGraphs | 4.00 | 0.09 | 4.31 | |
| downloadBiopaxData | 0 | 0 | 0 | |
| getClassProperties | 0 | 0 | 0 | |
| getInstanceClass | 0.01 | 0.00 | 0.02 | |
| getInstanceProperty | 0 | 0 | 0 | |
| getReferencedIDs | 0.01 | 0.00 | 0.03 | |
| getReferencingIDs | 0.02 | 0.00 | 0.02 | |
| getSubClasses | 0.02 | 0.00 | 0.01 | |
| getSuperClasses | 0 | 0 | 0 | |
| getXrefAnnotations | 0.12 | 0.00 | 0.13 | |
| hasProperty | 0 | 0 | 0 | |
| intersectGraphs | 1.69 | 0.13 | 1.81 | |
| isOfClass | 0 | 0 | 0 | |
| layoutRegulatoryGraph | 2.01 | 0.08 | 2.14 | |
| listComplexComponents | 0.00 | 0.03 | 0.03 | |
| listInstances | 0.03 | 0.00 | 0.03 | |
| listInteractionComponents | 0.02 | 0.00 | 0.02 | |
| listPathwayComponents | 0.00 | 0.03 | 0.03 | |
| listPathways | 0 | 0 | 0 | |
| pathway2AdjacancyMatrix | 1.00 | 0.06 | 1.08 | |
| pathway2Geneset | 0.42 | 0.02 | 0.44 | |
| pathway2Graph | 1.02 | 0.12 | 1.14 | |
| pathway2RegulatoryGraph | 0.98 | 0.06 | 1.09 | |
| plotRegulatoryGraph | 1.00 | 0.04 | 1.03 | |
| print.biopax | 0.00 | 0.01 | 0.02 | |
| rBiopaxParser-package | 0 | 0 | 0 | |
| readBiopax | 0 | 0 | 0 | |
| removeInstance | 0 | 0 | 0 | |
| removeNodes | 1.03 | 0.01 | 1.05 | |
| removeProperties | 0.00 | 0.02 | 0.02 | |
| selectInstances | 0.02 | 0.00 | 0.01 | |
| splitComplex | 0.03 | 0.01 | 0.05 | |
| transitiveClosure | 0.91 | 0.04 | 0.94 | |
| transitiveReduction | 0.94 | 0.01 | 0.96 | |
| uniteGraphs | 1.80 | 0.08 | 1.89 | |
| writeBiopax | 0 | 0 | 0 | |