| Back to Multiple platform build/check report for BioC 3.20: simplified long | 
 | 
This page was generated on 2024-11-20 12:02 -0500 (Wed, 20 Nov 2024).
| Hostname | OS | Arch (*) | R version | Installed pkgs | 
|---|---|---|---|---|
| teran2 | Linux (Ubuntu 24.04.1 LTS) | x86_64 | 4.4.2 (2024-10-31) -- "Pile of Leaves" | 4481 | 
| nebbiolo2 | Linux (Ubuntu 24.04.1 LTS) | x86_64 | 4.4.2 (2024-10-31) -- "Pile of Leaves" | 4479 | 
| palomino8 | Windows Server 2022 Datacenter | x64 | 4.4.2 (2024-10-31 ucrt) -- "Pile of Leaves" | 4359 | 
| lconway | macOS 12.7.1 Monterey | x86_64 | 4.4.1 (2024-06-14) -- "Race for Your Life" | 4539 | 
| kunpeng2 | Linux (openEuler 22.03 LTS-SP1) | aarch64 | 4.4.1 (2024-06-14) -- "Race for Your Life" | 4493 | 
| Click on any hostname to see more info about the system (e.g. compilers) (*) as reported by 'uname -p', except on Windows and Mac OS X | ||||
| Package 1584/2289 | Hostname | OS / Arch | INSTALL | BUILD | CHECK | BUILD BIN | ||||||||
| pqsfinder 2.22.0  (landing page) Jiri Hon 
 | teran2 | Linux (Ubuntu 24.04.1 LTS) / x86_64 | OK | OK | WARNINGS |  | ||||||||
| nebbiolo2 | Linux (Ubuntu 24.04.1 LTS) / x86_64 | OK | OK | WARNINGS | ||||||||||
| palomino8 | Windows Server 2022 Datacenter / x64 | OK | OK | OK | OK |  | ||||||||
| lconway | macOS 12.7.1 Monterey / x86_64 | OK | OK | WARNINGS | OK |  | ||||||||
| kunpeng2 | Linux (openEuler 22.03 LTS-SP1) / aarch64 | ERROR | ERROR | skipped | ||||||||||
| To the developers/maintainers of the pqsfinder package: - Allow up to 24 hours (and sometimes 48 hours) for your latest push to git@git.bioconductor.org:packages/pqsfinder.git to reflect on this report. See Troubleshooting Build Report for more information. - Use the following Renviron settings to reproduce errors and warnings. - If 'R CMD check' started to fail recently on the Linux builder(s) over a missing dependency, add the missing dependency to 'Suggests:' in your DESCRIPTION file. See Renviron.bioc for more information. | 
| Package: pqsfinder | 
| Version: 2.22.0 | 
| Command: /home/biocbuild/bbs-3.20-bioc/R/bin/R CMD INSTALL pqsfinder | 
| StartedAt: 2024-11-19 15:36:49 -0500 (Tue, 19 Nov 2024) | 
| EndedAt: 2024-11-19 15:37:26 -0500 (Tue, 19 Nov 2024) | 
| EllapsedTime: 37.5 seconds | 
| RetCode: 0 | 
| Status: OK | 
##############################################################################
##############################################################################
###
### Running command:
###
###   /home/biocbuild/bbs-3.20-bioc/R/bin/R CMD INSTALL pqsfinder
###
##############################################################################
##############################################################################
* installing to library ‘/media/volume/teran2_disk/biocbuild/bbs-3.20-bioc/R/site-library’
* installing *source* package ‘pqsfinder’ ...
** using staged installation
** libs
using C++ compiler: ‘g++ (Ubuntu 13.2.0-23ubuntu4) 13.2.0’
using C++11
g++ -std=gnu++11 -I"/home/biocbuild/bbs-3.20-bioc/R/include" -DNDEBUG  -I'/media/volume/teran2_disk/biocbuild/bbs-3.20-bioc/R/site-library/Rcpp/include' -I'/media/volume/teran2_disk/biocbuild/bbs-3.20-bioc/R/site-library/BH/include' -I/usr/local/include    -fpic  -g -O2  -Wall  -c RcppExports.cpp -o RcppExports.o
g++ -std=gnu++11 -I"/home/biocbuild/bbs-3.20-bioc/R/include" -DNDEBUG  -I'/media/volume/teran2_disk/biocbuild/bbs-3.20-bioc/R/site-library/Rcpp/include' -I'/media/volume/teran2_disk/biocbuild/bbs-3.20-bioc/R/site-library/BH/include' -I/usr/local/include    -fpic  -g -O2  -Wall  -c pqsfinder.cpp -o pqsfinder.o
pqsfinder.cpp: In function ‘void find_all_runs(SEXP, int, std::__cxx11::basic_string<char>::const_iterator, std::__cxx11::basic_string<char>::const_iterator, run_match*, const boost::regex&, const opts_t&, const scoring&, const std::__cxx11::basic_string<char>::const_iterator&, size_t, storage&, int&, results&, bool, std::chrono::_V2::system_clock::time_point, int, int, int, int&, bool)’:
pqsfinder.cpp:584:53: warning: ‘loop_len’ may be used uninitialized [-Wmaybe-uninitialized]
  584 |           pqs_storage, int_cnt, res, (loop_len == 0 ? true : zero_loop),
      |                                      ~~~~~~~~~~~~~~~^~~~~~~~~~~~~~~~~~~
pqsfinder.cpp:489:14: note: ‘loop_len’ was declared here
  489 |   int score, loop_len;
      |              ^~~~~~~~
g++ -std=gnu++11 -I"/home/biocbuild/bbs-3.20-bioc/R/include" -DNDEBUG  -I'/media/volume/teran2_disk/biocbuild/bbs-3.20-bioc/R/site-library/Rcpp/include' -I'/media/volume/teran2_disk/biocbuild/bbs-3.20-bioc/R/site-library/BH/include' -I/usr/local/include    -fpic  -g -O2  -Wall  -c boost_regex/posix_api.cpp -o boost_regex/posix_api.o
g++ -std=gnu++11 -I"/home/biocbuild/bbs-3.20-bioc/R/include" -DNDEBUG  -I'/media/volume/teran2_disk/biocbuild/bbs-3.20-bioc/R/site-library/Rcpp/include' -I'/media/volume/teran2_disk/biocbuild/bbs-3.20-bioc/R/site-library/BH/include' -I/usr/local/include    -fpic  -g -O2  -Wall  -c boost_regex/regex.cpp -o boost_regex/regex.o
g++ -std=gnu++11 -I"/home/biocbuild/bbs-3.20-bioc/R/include" -DNDEBUG  -I'/media/volume/teran2_disk/biocbuild/bbs-3.20-bioc/R/site-library/Rcpp/include' -I'/media/volume/teran2_disk/biocbuild/bbs-3.20-bioc/R/site-library/BH/include' -I/usr/local/include    -fpic  -g -O2  -Wall  -c boost_regex/regex_debug.cpp -o boost_regex/regex_debug.o
g++ -std=gnu++11 -I"/home/biocbuild/bbs-3.20-bioc/R/include" -DNDEBUG  -I'/media/volume/teran2_disk/biocbuild/bbs-3.20-bioc/R/site-library/Rcpp/include' -I'/media/volume/teran2_disk/biocbuild/bbs-3.20-bioc/R/site-library/BH/include' -I/usr/local/include    -fpic  -g -O2  -Wall  -c boost_regex/static_mutex.cpp -o boost_regex/static_mutex.o
g++ -std=gnu++11 -I"/home/biocbuild/bbs-3.20-bioc/R/include" -DNDEBUG  -I'/media/volume/teran2_disk/biocbuild/bbs-3.20-bioc/R/site-library/Rcpp/include' -I'/media/volume/teran2_disk/biocbuild/bbs-3.20-bioc/R/site-library/BH/include' -I/usr/local/include    -fpic  -g -O2  -Wall  -c boost_regex/wide_posix_api.cpp -o boost_regex/wide_posix_api.o
mkdir -p "/media/volume/teran2_disk/biocbuild/bbs-3.20-bioc/R/site-library/00LOCK-pqsfinder/00new/pqsfinder/lib"
ar rs "/media/volume/teran2_disk/biocbuild/bbs-3.20-bioc/R/site-library/00LOCK-pqsfinder/00new/pqsfinder/lib/libboost_regex.a" boost_regex/posix_api.o boost_regex/regex.o boost_regex/regex_debug.o boost_regex/static_mutex.o boost_regex/wide_posix_api.o
ar: creating /media/volume/teran2_disk/biocbuild/bbs-3.20-bioc/R/site-library/00LOCK-pqsfinder/00new/pqsfinder/lib/libboost_regex.a
g++ -std=gnu++11 -shared -L/home/biocbuild/bbs-3.20-bioc/R/lib -L/usr/local/lib -o pqsfinder.so RcppExports.o pqsfinder.o /media/volume/teran2_disk/biocbuild/bbs-3.20-bioc/R/site-library/00LOCK-pqsfinder/00new/pqsfinder/lib/libboost_regex.a -L/home/biocbuild/bbs-3.20-bioc/R/lib -lR
installing to /media/volume/teran2_disk/biocbuild/bbs-3.20-bioc/R/site-library/00LOCK-pqsfinder/00new/pqsfinder/libs
** R
** inst
** byte-compile and prepare package for lazy loading
** help
*** installing help indices
** building package indices
** installing vignettes
** testing if installed package can be loaded from temporary location
** checking absolute paths in shared objects and dynamic libraries
** testing if installed package can be loaded from final location
** testing if installed package keeps a record of temporary installation path
* DONE (pqsfinder)