| Back to Multiple platform build/check report for BioC 3.20: simplified long | 
 | 
This page was generated on 2025-04-02 19:30 -0400 (Wed, 02 Apr 2025).
| Hostname | OS | Arch (*) | R version | Installed pkgs | 
|---|---|---|---|---|
| nebbiolo2 | Linux (Ubuntu 24.04.1 LTS) | x86_64 | 4.4.3 (2025-02-28) -- "Trophy Case" | 4764 | 
| palomino8 | Windows Server 2022 Datacenter | x64 | 4.4.3 (2025-02-28 ucrt) -- "Trophy Case" | 4495 | 
| merida1 | macOS 12.7.5 Monterey | x86_64 | 4.4.3 (2025-02-28) -- "Trophy Case" | 4522 | 
| kjohnson1 | macOS 13.6.6 Ventura | arm64 | 4.4.3 (2025-02-28) -- "Trophy Case" | 4449 | 
| taishan | Linux (openEuler 24.03 LTS) | aarch64 | 4.4.3 (2025-02-28) -- "Trophy Case" | 4426 | 
| Click on any hostname to see more info about the system (e.g. compilers) (*) as reported by 'uname -p', except on Windows and Mac OS X | ||||
| Package 1569/2289 | Hostname | OS / Arch | INSTALL | BUILD | CHECK | BUILD BIN | ||||||||
| plyinteractions 1.4.0  (landing page) Jacques Serizay 
 | nebbiolo2 | Linux (Ubuntu 24.04.1 LTS) / x86_64 | OK | OK | OK |  | ||||||||
| palomino8 | Windows Server 2022 Datacenter / x64 | OK | OK | OK | OK |  | ||||||||
| merida1 | macOS 12.7.5 Monterey / x86_64 | OK | OK | OK | OK |  | ||||||||
| kjohnson1 | macOS 13.6.6 Ventura / arm64 | OK | OK | OK | OK |  | ||||||||
| taishan | Linux (openEuler 24.03 LTS) / aarch64 | OK | OK | OK | ||||||||||
| To the developers/maintainers of the plyinteractions package: - Allow up to 24 hours (and sometimes 48 hours) for your latest push to git@git.bioconductor.org:packages/plyinteractions.git to reflect on this report. See Troubleshooting Build Report for more information. - Use the following Renviron settings to reproduce errors and warnings. - If 'R CMD check' started to fail recently on the Linux builder(s) over a missing dependency, add the missing dependency to 'Suggests:' in your DESCRIPTION file. See Renviron.bioc for more information. | 
| Package: plyinteractions | 
| Version: 1.4.0 | 
| Command: F:\biocbuild\bbs-3.20-bioc\R\bin\R.exe CMD check --no-multiarch --install=check:plyinteractions.install-out.txt --library=F:\biocbuild\bbs-3.20-bioc\R\library --no-vignettes --timings plyinteractions_1.4.0.tar.gz | 
| StartedAt: 2025-04-01 04:39:45 -0400 (Tue, 01 Apr 2025) | 
| EndedAt: 2025-04-01 04:45:20 -0400 (Tue, 01 Apr 2025) | 
| EllapsedTime: 335.0 seconds | 
| RetCode: 0 | 
| Status: OK | 
| CheckDir: plyinteractions.Rcheck | 
| Warnings: 0 | 
##############################################################################
##############################################################################
###
### Running command:
###
###   F:\biocbuild\bbs-3.20-bioc\R\bin\R.exe CMD check --no-multiarch --install=check:plyinteractions.install-out.txt --library=F:\biocbuild\bbs-3.20-bioc\R\library --no-vignettes --timings plyinteractions_1.4.0.tar.gz
###
##############################################################################
##############################################################################
* using log directory 'F:/biocbuild/bbs-3.20-bioc/meat/plyinteractions.Rcheck'
* using R version 4.4.3 (2025-02-28 ucrt)
* using platform: x86_64-w64-mingw32
* R was compiled by
    gcc.exe (GCC) 13.3.0
    GNU Fortran (GCC) 13.3.0
* running under: Windows Server 2022 x64 (build 20348)
* using session charset: UTF-8
* using option '--no-vignettes'
* checking for file 'plyinteractions/DESCRIPTION' ... OK
* this is package 'plyinteractions' version '1.4.0'
* package encoding: UTF-8
* checking package namespace information ... OK
* checking package dependencies ... OK
* checking if this is a source package ... OK
* checking if there is a namespace ... OK
* checking for hidden files and directories ... OK
* checking for portable file names ... OK
* checking whether package 'plyinteractions' can be installed ... OK
* checking installed package size ... OK
* checking package directory ... OK
* checking 'build' directory ... OK
* checking DESCRIPTION meta-information ... OK
* checking top-level files ... OK
* checking for left-over files ... OK
* checking index information ... OK
* checking package subdirectories ... OK
* checking code files for non-ASCII characters ... OK
* checking R files for syntax errors ... OK
* checking whether the package can be loaded ... OK
* checking whether the package can be loaded with stated dependencies ... OK
* checking whether the package can be unloaded cleanly ... OK
* checking whether the namespace can be loaded with stated dependencies ... OK
* checking whether the namespace can be unloaded cleanly ... OK
* checking dependencies in R code ... OK
* checking S3 generic/method consistency ... OK
* checking replacement functions ... OK
* checking foreign function calls ... OK
* checking R code for possible problems ... NOTE
count.GInteractions: no visible binding for global variable 'group'
pair_granges: no visible global function definition for 'combn'
write_bedpe: no visible binding for global variable 'name'
write_bedpe: no visible binding for global variable 'score'
write_pairs: no visible binding for global variable 'name'
Undefined global functions or variables:
  combn group name score
Consider adding
  importFrom("utils", "combn")
to your NAMESPACE file.
* checking Rd files ... OK
* checking Rd metadata ... OK
* checking Rd cross-references ... OK
* checking for missing documentation entries ... OK
* checking for code/documentation mismatches ... OK
* checking Rd \usage sections ... OK
* checking Rd contents ... OK
* checking for unstated dependencies in examples ... OK
* checking contents of 'data' directory ... OK
* checking data for non-ASCII characters ... OK
* checking data for ASCII and uncompressed saves ... OK
* checking files in 'vignettes' ... OK
* checking examples ... OK
* checking for unstated dependencies in 'tests' ... OK
* checking tests ...
  Running 'testthat.R'
 OK
* checking for unstated dependencies in vignettes ... OK
* checking package vignettes ... OK
* checking running R code from vignettes ... SKIPPED
* checking re-building of vignette outputs ... SKIPPED
* checking PDF version of manual ... OK
* DONE
Status: 1 NOTE
See
  'F:/biocbuild/bbs-3.20-bioc/meat/plyinteractions.Rcheck/00check.log'
for details.
plyinteractions.Rcheck/00install.out
############################################################################## ############################################################################## ### ### Running command: ### ### F:\biocbuild\bbs-3.20-bioc\R\bin\R.exe CMD INSTALL plyinteractions ### ############################################################################## ############################################################################## * installing to library 'F:/biocbuild/bbs-3.20-bioc/R/library' * installing *source* package 'plyinteractions' ... ** using staged installation ** R ** data ** inst ** byte-compile and prepare package for lazy loading ** help *** installing help indices *** copying figures ** building package indices ** installing vignettes ** testing if installed package can be loaded from temporary location ** testing if installed package can be loaded from final location ** testing if installed package keeps a record of temporary installation path * DONE (plyinteractions)
plyinteractions.Rcheck/tests/testthat.Rout
R version 4.4.3 (2025-02-28 ucrt) -- "Trophy Case"
Copyright (C) 2025 The R Foundation for Statistical Computing
Platform: x86_64-w64-mingw32/x64
R is free software and comes with ABSOLUTELY NO WARRANTY.
You are welcome to redistribute it under certain conditions.
Type 'license()' or 'licence()' for distribution details.
R is a collaborative project with many contributors.
Type 'contributors()' for more information and
'citation()' on how to cite R or R packages in publications.
Type 'demo()' for some demos, 'help()' for on-line help, or
'help.start()' for an HTML browser interface to help.
Type 'q()' to quit R.
> # This file is part of the standard setup for testthat.
> # It is recommended that you do not modify it.
> #
> # Where should you do additional test configuration?
> # Learn more about the roles of various files in:
> # * https://r-pkgs.org/testing-design.html#sec-tests-files-overview
> # * https://testthat.r-lib.org/articles/special-files.html
> 
> library(testthat)
> library(plyinteractions)
Attaching package: 'plyinteractions'
The following object is masked from 'package:stats':
    filter
> 
> gi <- read.table(text = "
+     chr1 11 20 chr1 21 30 + +
+     chr1 11 20 chr1 51 55 + +
+     chr1 11 30 chr1 51 55 - -
+     chr1 11 30 chr2 51 60 - -",
+     col.names = c(
+     "seqnames1", "start1", "end1", 
+     "seqnames2", "start2", "end2", "strand1", "strand2")
+ ) |> 
+     as_ginteractions() |> 
+     mutate(score = runif(4), type = c('cis', 'cis', 'cis', 'trans'))
> 
> test_check("plyinteractions")
GInteractions object with 4 interactions and 2 metadata columns:
      seqnames1   ranges1 strand1     seqnames2   ranges2 strand2 |      score
          <Rle> <IRanges>   <Rle>         <Rle> <IRanges>   <Rle> |  <numeric>
  [1]      chr1     11-20       + ---      chr1     21-30       + | 0.86091538
  [2]      chr1     11-20       + ---      chr1     51-55       + | 0.64031061
  [3]      chr1     11-30       - ---      chr1     51-55       - | 0.00949576
  [4]      chr1     11-30       - ---      chr2     51-60       - | 0.23255051
             type
      <character>
  [1]         cis
  [2]         cis
  [3]         cis
  [4]       trans
  -------
  regions: 6 ranges and 0 metadata columns
  seqinfo: 2 sequences from an unspecified genome; no seqlengths
PinnedGInteractions object with 4 interactions and 2 metadata columns:
Pinned on: anchors2
      seqnames1   ranges1 strand1     seqnames2   ranges2 strand2 |      score
          <Rle> <IRanges>   <Rle>         <Rle> <IRanges>   <Rle> |  <numeric>
  [1]      chr1     11-20       + ---      chr1     21-30       + | 0.86091538
  [2]      chr1     11-20       + ---      chr1     51-55       + | 0.64031061
  [3]      chr1     11-30       - ---      chr1     51-55       - | 0.00949576
  [4]      chr1     11-30       - ---      chr2     51-60       - | 0.23255051
             type
      <character>
  [1]         cis
  [2]         cis
  [3]         cis
  [4]       trans
  -------
  regions: 6 ranges and 0 metadata columns
  seqinfo: 2 sequences from an unspecified genome; no seqlengths
AnchoredPinnedGInteractions object with 4 interactions and 2 metadata columns:
Pinned on: anchors2 | Anchored by: 5p
      seqnames1   ranges1 strand1     seqnames2   ranges2 strand2 |      score
          <Rle> <IRanges>   <Rle>         <Rle> <IRanges>   <Rle> |  <numeric>
  [1]      chr1     11-20       + ---      chr1     21-30       + | 0.86091538
  [2]      chr1     11-20       + ---      chr1     51-55       + | 0.64031061
  [3]      chr1     11-30       - ---      chr1     51-55       - | 0.00949576
  [4]      chr1     11-30       - ---      chr2     51-60       - | 0.23255051
             type
      <character>
  [1]         cis
  [2]         cis
  [3]         cis
  [4]       trans
  -------
  regions: 6 ranges and 0 metadata columns
  seqinfo: 2 sequences from an unspecified genome; no seqlengths
GroupedGInteractions object with 4 interactions and 3 metadata columns:
Groups: group [2]
      seqnames1   ranges1 strand1     seqnames2   ranges2 strand2 |      score
          <Rle> <IRanges>   <Rle>         <Rle> <IRanges>   <Rle> |  <numeric>
  [1]      chr1     11-20       + ---      chr1     21-30       + | 0.86091538
  [2]      chr1     11-20       + ---      chr1     51-55       + | 0.64031061
  [3]      chr1     11-30       - ---      chr1     51-55       - | 0.00949576
  [4]      chr1     11-30       - ---      chr2     51-60       - | 0.23255051
             type     group
      <character> <numeric>
  [1]         cis         1
  [2]         cis         1
  [3]         cis         2
  [4]       trans         2
  -------
  regions: 6 ranges and 0 metadata columns
  seqinfo: 2 sequences from an unspecified genome; no seqlengths
AnchoredPinnedGInteractions object with 4 interactions and 2 metadata columns:
Pinned on: anchors2 | Anchored by: 5p
      seqnames1   ranges1 strand1     seqnames2   ranges2 strand2 |      score
          <Rle> <IRanges>   <Rle>         <Rle> <IRanges>   <Rle> |  <numeric>
  [1]      chr1     11-20       + ---      chr1     21-30       + | 0.86091538
  [2]      chr1     11-20       + ---      chr1     51-55       + | 0.64031061
  [3]      chr1     11-30       - ---      chr1     51-55       - | 0.00949576
  [4]      chr1     11-30       - ---      chr2     51-60       - | 0.23255051
             type
      <character>
  [1]         cis
  [2]         cis
  [3]         cis
  [4]       trans
  -------
  regions: 6 ranges and 0 metadata columns
  seqinfo: 2 sequences from an unspecified genome; no seqlengths
Detected `seqlengths:`
chr1 chr2 
  55   60 
Provided `seqlengths:`
chr1 chr2 
 100   30 
[ FAIL 0 | WARN 0 | SKIP 0 | PASS 189 ]
> 
> proc.time()
   user  system elapsed 
  25.12    1.25   26.31 
plyinteractions.Rcheck/plyinteractions-Ex.timings
| name | user | system | elapsed | |
| add-pairdist | 0.31 | 0.00 | 0.32 | |
| dplyr-arrange | 1.60 | 0.03 | 1.62 | |
| dplyr-count | 0.77 | 0.07 | 0.83 | |
| dplyr-filter | 0.70 | 0.07 | 0.78 | |
| dplyr-group_by | 0.95 | 0.02 | 0.97 | |
| dplyr-mutate | 1.81 | 0.01 | 1.83 | |
| dplyr-rename | 0.21 | 0.02 | 0.22 | |
| dplyr-select | 0.43 | 0.02 | 0.45 | |
| dplyr-slice | 0.13 | 0.00 | 0.13 | |
| dplyr-summarize | 0.89 | 0.00 | 0.88 | |
| ginteractions-anchor | 0.22 | 0.00 | 0.22 | |
| ginteractions-annotate | 2.12 | 0.15 | 3.37 | |
| ginteractions-construct | 0.96 | 0.03 | 1.05 | |
| ginteractions-count-overlaps | 0.31 | 0.00 | 0.31 | |
| ginteractions-export | 0.09 | 0.01 | 0.11 | |
| ginteractions-filter-overlaps | 0.47 | 0.02 | 0.48 | |
| ginteractions-find-overlaps | 1.59 | 0.03 | 1.63 | |
| ginteractions-getters | 0.16 | 0.00 | 0.15 | |
| ginteractions-join-overlap-left | 0.66 | 0.00 | 0.66 | |
| ginteractions-pin | 0.31 | 0.00 | 0.32 | |
| group-group_data | 0.20 | 0.02 | 0.22 | |
| pair-granges | 0.05 | 0.01 | 0.06 | |
| plyranges-flank | 0.42 | 0.00 | 0.42 | |
| plyranges-shift | 0.5 | 0.0 | 0.5 | |
| plyranges-stretch | 0.57 | 0.00 | 0.57 | |
| reexports | 0 | 0 | 0 | |
| replace_anchors | 1.66 | 0.01 | 1.67 | |