| Back to Multiple platform build/check report for BioC 3.20: simplified long | 
 | 
This page was generated on 2024-11-20 12:08 -0500 (Wed, 20 Nov 2024).
| Hostname | OS | Arch (*) | R version | Installed pkgs | 
|---|---|---|---|---|
| teran2 | Linux (Ubuntu 24.04.1 LTS) | x86_64 | 4.4.2 (2024-10-31) -- "Pile of Leaves" | 4481 | 
| nebbiolo2 | Linux (Ubuntu 24.04.1 LTS) | x86_64 | 4.4.2 (2024-10-31) -- "Pile of Leaves" | 4479 | 
| palomino8 | Windows Server 2022 Datacenter | x64 | 4.4.2 (2024-10-31 ucrt) -- "Pile of Leaves" | 4359 | 
| lconway | macOS 12.7.1 Monterey | x86_64 | 4.4.1 (2024-06-14) -- "Race for Your Life" | 4539 | 
| kunpeng2 | Linux (openEuler 22.03 LTS-SP1) | aarch64 | 4.4.1 (2024-06-14) -- "Race for Your Life" | 4493 | 
| Click on any hostname to see more info about the system (e.g. compilers) (*) as reported by 'uname -p', except on Windows and Mac OS X | ||||
| Package 1520/2289 | Hostname | OS / Arch | INSTALL | BUILD | CHECK | BUILD BIN | ||||||||
| pdInfoBuilder 1.70.0  (landing page) Benilton Carvalho 
 | teran2 | Linux (Ubuntu 24.04.1 LTS) / x86_64 | OK | OK | OK |  | ||||||||
| nebbiolo2 | Linux (Ubuntu 24.04.1 LTS) / x86_64 | OK | OK | OK | ||||||||||
| palomino8 | Windows Server 2022 Datacenter / x64 | OK | OK | OK | OK |  | ||||||||
| lconway | macOS 12.7.1 Monterey / x86_64 | OK | OK | OK | OK |  | ||||||||
| kunpeng2 | Linux (openEuler 22.03 LTS-SP1) / aarch64 | OK | OK | OK | ||||||||||
| To the developers/maintainers of the pdInfoBuilder package: - Allow up to 24 hours (and sometimes 48 hours) for your latest push to git@git.bioconductor.org:packages/pdInfoBuilder.git to reflect on this report. See Troubleshooting Build Report for more information. - Use the following Renviron settings to reproduce errors and warnings. - If 'R CMD check' started to fail recently on the Linux builder(s) over a missing dependency, add the missing dependency to 'Suggests:' in your DESCRIPTION file. See Renviron.bioc for more information. - See Martin Grigorov's blog post for how to debug Linux ARM64 related issues on a x86_64 host. | 
| Package: pdInfoBuilder | 
| Version: 1.70.0 | 
| Command: /home/biocbuild/R/R/bin/R CMD check --install=check:pdInfoBuilder.install-out.txt --library=/home/biocbuild/R/R/site-library --no-vignettes --timings pdInfoBuilder_1.70.0.tar.gz | 
| StartedAt: 2024-11-20 10:54:34 -0000 (Wed, 20 Nov 2024) | 
| EndedAt: 2024-11-20 10:58:39 -0000 (Wed, 20 Nov 2024) | 
| EllapsedTime: 245.5 seconds | 
| RetCode: 0 | 
| Status: OK | 
| CheckDir: pdInfoBuilder.Rcheck | 
| Warnings: 0 | 
##############################################################################
##############################################################################
###
### Running command:
###
###   /home/biocbuild/R/R/bin/R CMD check --install=check:pdInfoBuilder.install-out.txt --library=/home/biocbuild/R/R/site-library --no-vignettes --timings pdInfoBuilder_1.70.0.tar.gz
###
##############################################################################
##############################################################################
* using log directory ‘/home/biocbuild/bbs-3.20-bioc/meat/pdInfoBuilder.Rcheck’
* using R version 4.4.1 (2024-06-14)
* using platform: aarch64-unknown-linux-gnu
* R was compiled by
    gcc (GCC) 12.2.1 20220819 (openEuler 12.2.1-14)
    GNU Fortran (GCC) 10.3.1
* running under: openEuler 22.03 (LTS-SP1)
* using session charset: UTF-8
* using option ‘--no-vignettes’
* checking for file ‘pdInfoBuilder/DESCRIPTION’ ... OK
* this is package ‘pdInfoBuilder’ version ‘1.70.0’
* checking package namespace information ... OK
* checking package dependencies ... OK
* checking if this is a source package ... OK
* checking if there is a namespace ... OK
* checking for hidden files and directories ... OK
* checking for portable file names ... OK
* checking for sufficient/correct file permissions ... OK
* checking whether package ‘pdInfoBuilder’ can be installed ... OK
* used C compiler: ‘gcc (conda-forge gcc 14.2.0-1) 14.2.0’
* checking installed package size ... OK
* checking package directory ... OK
* checking ‘build’ directory ... OK
* checking DESCRIPTION meta-information ... OK
* checking top-level files ... OK
* checking for left-over files ... OK
* checking index information ... OK
* checking package subdirectories ... OK
* checking code files for non-ASCII characters ... OK
* checking R files for syntax errors ... OK
* checking whether the package can be loaded ... OK
* checking whether the package can be loaded with stated dependencies ... OK
* checking whether the package can be unloaded cleanly ... OK
* checking whether the namespace can be loaded with stated dependencies ... OK
* checking whether the namespace can be unloaded cleanly ... OK
* checking loading without being on the library search path ... OK
* checking dependencies in R code ... NOTE
Namespaces in Imports field not imported from:
  ‘BiocGenerics’ ‘IRanges’ ‘oligoClasses’
  All declared Imports should be used.
* checking S3 generic/method consistency ... OK
* checking replacement functions ... OK
* checking foreign function calls ... OK
* checking R code for possible problems ... NOTE
annot2fdata: no visible global function definition for ‘error’
cdf2table: no visible global function definition for ‘getDoParWorkers’
cdf2table: no visible global function definition for ‘%dopar%’
cdf2table: no visible global function definition for ‘foreach’
cdf2table: no visible binding for global variable ‘unitLst’
cdfUnits2table: no visible global function definition for ‘%do%’
cdfUnits2table: no visible global function definition for ‘foreach’
cdfUnits2table: no visible binding for global variable ‘i’
connectDb: no visible global function definition for ‘dbExecute’
createChrDict: no visible global function definition for ‘na.omit’
createIndicesDb : makeIndex: no visible global function definition for
  ‘dbGetQuery’
createIndicesDb: no visible global function definition for ‘dbGetQuery’
createSeqMat: no visible global function definition for ‘dbGetQuery’
createSeqMat.cnv: no visible global function definition for
  ‘dbGetQuery’
createTableInfoTable: no visible global function definition for
  ‘dbGetQuery’
dbCreateIndex: no visible global function definition for ‘dbExecute’
dbCreateTable: no visible global function definition for ‘dbExecute’
dbCreateTableInfo: no visible global function definition for
  ‘dbGetQuery’
getAllFSetMpsTables: no visible global function definition for
  ‘%dopar%’
getAllFSetMpsTables: no visible global function definition for
  ‘foreach’
getAllFSetMpsTables: no visible binding for global variable ‘i’
increaseDbPerformance: no visible global function definition for
  ‘dbExecute’
initDb: no visible global function definition for ‘dbGetQuery’
insertInFragmentLengthTable: no visible global function definition for
  ‘dbGetQuery’
loadAffySeqCsv: no visible global function definition for ‘dbGetQuery’
loadUnits: no visible global function definition for ‘dbGetQuery’
parseBpmapCel: no visible global function definition for ‘aggregate’
parseCdfSeqAnnotSnp: no visible global function definition for
  ‘aggregate’
parseNgsTrio: no visible global function definition for ‘aggregate’
snp6.createIndicesDb : makeIndex: no visible global function definition
  for ‘dbGetQuery’
snp6.createIndicesDb: no visible global function definition for
  ‘dbGetQuery’
snp6.createTableInfoTable: no visible global function definition for
  ‘dbGetQuery’
snp6.initDb: no visible global function definition for ‘dbGetQuery’
snp6.loadUnits.cnv: no visible global function definition for
  ‘dbGetQuery’
snp6.loadUnits.snp: no visible global function definition for
  ‘dbGetQuery’
snp6.sortFeatureTables: no visible global function definition for
  ‘dbGetQuery’
sortFeatureTables: no visible global function definition for
  ‘dbGetQuery’
makePdInfoPackage,AffyClariomSPDInfoPkgSeed: no visible global function
  definition for ‘dbExecute’
makePdInfoPackage,AffyExpressionPDInfoPkgSeed: no visible global
  function definition for ‘dbGetQuery’
makePdInfoPackage,AffyHTAPDInfoPkgSeed: no visible global function
  definition for ‘dbGetQuery’
makePdInfoPackage,AffyMiRNAPDInfoPkgSeed: no visible global function
  definition for ‘dbGetQuery’
makePdInfoPackage,AffySNPCNVPDInfoPkgSeed2: no visible global function
  definition for ‘dbGetQuery’
makePdInfoPackage,AffySNPPDInfoPkgSeed2: no visible global function
  definition for ‘dbGetQuery’
makePdInfoPackage,AffySTPDInfoPkgSeed: no visible global function
  definition for ‘dbGetQuery’
makePdInfoPackage,AffyTilingPDInfoPkgSeed: no visible global function
  definition for ‘dbGetQuery’
makePdInfoPackage,GenericPDInfoPkgSeed: no visible global function
  definition for ‘dbGetQuery’
makePdInfoPackage,NgsExpressionPDInfoPkgSeed: no visible global
  function definition for ‘dbGetQuery’
makePdInfoPackage,NgsTilingPDInfoPkgSeed: no visible global function
  definition for ‘dbGetQuery’
Undefined global functions or variables:
  %do% %dopar% aggregate dbExecute dbGetQuery error foreach
  getDoParWorkers i na.omit unitLst
Consider adding
  importFrom("stats", "aggregate", "na.omit")
to your NAMESPACE file.
* checking Rd files ... OK
* checking Rd metadata ... OK
* checking Rd cross-references ... OK
* checking for missing documentation entries ... OK
* checking for code/documentation mismatches ... OK
* checking Rd \usage sections ... OK
* checking Rd contents ... OK
* checking for unstated dependencies in examples ... OK
* checking line endings in C/C++/Fortran sources/headers ... OK
* checking line endings in Makefiles ... OK
* checking for GNU extensions in Makefiles ... OK
* checking include directives in Makefiles ... OK
* checking compiled code ... NOTE
Note: information on .o files is not available
* checking installed files from ‘inst/doc’ ... OK
* checking files in ‘vignettes’ ... OK
* checking examples ... OK
* checking for unstated dependencies in vignettes ... OK
* checking package vignettes ... OK
* checking running R code from vignettes ... SKIPPED
* checking re-building of vignette outputs ... SKIPPED
* checking PDF version of manual ... OK
* DONE
Status: 3 NOTEs
See
  ‘/home/biocbuild/bbs-3.20-bioc/meat/pdInfoBuilder.Rcheck/00check.log’
for details.
pdInfoBuilder.Rcheck/00install.out
############################################################################## ############################################################################## ### ### Running command: ### ### /home/biocbuild/R/R/bin/R CMD INSTALL pdInfoBuilder ### ############################################################################## ############################################################################## * installing to library ‘/home/biocbuild/R/R-4.4.1/site-library’ * installing *source* package ‘pdInfoBuilder’ ... ** using staged installation ** libs using C compiler: ‘gcc (conda-forge gcc 14.2.0-1) 14.2.0’ gcc -I"/home/biocbuild/R/R-4.4.1/include" -DNDEBUG -I/usr/local/include -fPIC -g -O2 -Wall -c pdInfoBuilder.c -o pdInfoBuilder.o gcc -shared -L/home/biocbuild/R/R-4.4.1/lib -L/usr/local/lib -o pdInfoBuilder.so pdInfoBuilder.o -L/home/biocbuild/R/R-4.4.1/lib -lR installing to /home/biocbuild/R/R-4.4.1/site-library/00LOCK-pdInfoBuilder/00new/pdInfoBuilder/libs ** R ** inst ** byte-compile and prepare package for lazy loading No methods found in package ‘RSQLite’ for request: ‘dbGetQuery’ when loading ‘pdInfoBuilder’ ** help *** installing help indices ** building package indices ** installing vignettes ** testing if installed package can be loaded from temporary location No methods found in package ‘RSQLite’ for request: ‘dbGetQuery’ when loading ‘pdInfoBuilder’ ** checking absolute paths in shared objects and dynamic libraries ** testing if installed package can be loaded from final location No methods found in package ‘RSQLite’ for request: ‘dbGetQuery’ when loading ‘pdInfoBuilder’ ** testing if installed package keeps a record of temporary installation path * DONE (pdInfoBuilder)
pdInfoBuilder.Rcheck/pdInfoBuilder-Ex.timings
| name | user | system | elapsed | |
| AffyClariomSPDInfoPkgSeed-class | 0.002 | 0.000 | 0.001 | |
| AffyExpressionPDInfoPkgSeed-class | 0.001 | 0.000 | 0.000 | |
| AffySNPCNVPDInfoPkgSeed-class | 0.001 | 0.000 | 0.001 | |
| AffySNPCNVPDInfoPkgSeed2-class | 0.001 | 0.000 | 0.001 | |
| AffySNPPDInfoPkgSeed-class | 0.404 | 0.024 | 0.429 | |
| AffySNPPDInfoPkgSeed2-class | 0.001 | 0.000 | 0.000 | |
| AffySTPDInfoPkgSeed-class | 0.001 | 0.000 | 0.001 | |
| AffyTilingPDInfoPkgSeed-class | 0.000 | 0.000 | 0.001 | |
| NgsExpressionPDInfoPkgSeed-class | 0.000 | 0.000 | 0.001 | |
| NgsTilingPDInfoPkgSeed-class | 0 | 0 | 0 | |
| NimbleGenPDInfoPkgSeed-class | 0 | 0 | 0 | |
| makePdInfoPackage | 0 | 0 | 0 | |