| Back to Multiple platform build/check report for BioC 3.20: simplified long | 
 | 
This page was generated on 2025-04-02 19:30 -0400 (Wed, 02 Apr 2025).
| Hostname | OS | Arch (*) | R version | Installed pkgs | 
|---|---|---|---|---|
| nebbiolo2 | Linux (Ubuntu 24.04.1 LTS) | x86_64 | 4.4.3 (2025-02-28) -- "Trophy Case" | 4764 | 
| palomino8 | Windows Server 2022 Datacenter | x64 | 4.4.3 (2025-02-28 ucrt) -- "Trophy Case" | 4495 | 
| merida1 | macOS 12.7.5 Monterey | x86_64 | 4.4.3 (2025-02-28) -- "Trophy Case" | 4522 | 
| kjohnson1 | macOS 13.6.6 Ventura | arm64 | 4.4.3 (2025-02-28) -- "Trophy Case" | 4449 | 
| taishan | Linux (openEuler 24.03 LTS) | aarch64 | 4.4.3 (2025-02-28) -- "Trophy Case" | 4426 | 
| Click on any hostname to see more info about the system (e.g. compilers) (*) as reported by 'uname -p', except on Windows and Mac OS X | ||||
| Package 1515/2289 | Hostname | OS / Arch | INSTALL | BUILD | CHECK | BUILD BIN | ||||||||
| pcaExplorer 3.0.0  (landing page) Federico Marini 
 | nebbiolo2 | Linux (Ubuntu 24.04.1 LTS) / x86_64 | OK | OK | OK |  | ||||||||
| palomino8 | Windows Server 2022 Datacenter / x64 | OK | OK | OK | OK |  | ||||||||
| merida1 | macOS 12.7.5 Monterey / x86_64 | OK | OK | OK | OK |  | ||||||||
| kjohnson1 | macOS 13.6.6 Ventura / arm64 | OK | OK | OK | OK |  | ||||||||
| taishan | Linux (openEuler 24.03 LTS) / aarch64 | OK | OK | OK | ||||||||||
| To the developers/maintainers of the pcaExplorer package: - Allow up to 24 hours (and sometimes 48 hours) for your latest push to git@git.bioconductor.org:packages/pcaExplorer.git to reflect on this report. See Troubleshooting Build Report for more information. - Use the following Renviron settings to reproduce errors and warnings. - If 'R CMD check' started to fail recently on the Linux builder(s) over a missing dependency, add the missing dependency to 'Suggests:' in your DESCRIPTION file. See Renviron.bioc for more information. | 
| Package: pcaExplorer | 
| Version: 3.0.0 | 
| Command: F:\biocbuild\bbs-3.20-bioc\R\bin\R.exe CMD check --no-multiarch --install=check:pcaExplorer.install-out.txt --library=F:\biocbuild\bbs-3.20-bioc\R\library --no-vignettes --timings pcaExplorer_3.0.0.tar.gz | 
| StartedAt: 2025-04-01 04:27:23 -0400 (Tue, 01 Apr 2025) | 
| EndedAt: 2025-04-01 04:38:38 -0400 (Tue, 01 Apr 2025) | 
| EllapsedTime: 675.0 seconds | 
| RetCode: 0 | 
| Status: OK | 
| CheckDir: pcaExplorer.Rcheck | 
| Warnings: 0 | 
##############################################################################
##############################################################################
###
### Running command:
###
###   F:\biocbuild\bbs-3.20-bioc\R\bin\R.exe CMD check --no-multiarch --install=check:pcaExplorer.install-out.txt --library=F:\biocbuild\bbs-3.20-bioc\R\library --no-vignettes --timings pcaExplorer_3.0.0.tar.gz
###
##############################################################################
##############################################################################
* using log directory 'F:/biocbuild/bbs-3.20-bioc/meat/pcaExplorer.Rcheck'
* using R version 4.4.3 (2025-02-28 ucrt)
* using platform: x86_64-w64-mingw32
* R was compiled by
    gcc.exe (GCC) 13.3.0
    GNU Fortran (GCC) 13.3.0
* running under: Windows Server 2022 x64 (build 20348)
* using session charset: UTF-8
* using option '--no-vignettes'
* checking for file 'pcaExplorer/DESCRIPTION' ... OK
* checking extension type ... Package
* this is package 'pcaExplorer' version '3.0.0'
* package encoding: UTF-8
* checking package namespace information ... OK
* checking package dependencies ... OK
* checking if this is a source package ... OK
* checking if there is a namespace ... OK
* checking for hidden files and directories ... OK
* checking for portable file names ... OK
* checking whether package 'pcaExplorer' can be installed ... OK
* checking installed package size ... OK
* checking package directory ... OK
* checking 'build' directory ... OK
* checking DESCRIPTION meta-information ... OK
* checking top-level files ... OK
* checking for left-over files ... OK
* checking index information ... OK
* checking package subdirectories ... OK
* checking code files for non-ASCII characters ... OK
* checking R files for syntax errors ... OK
* checking whether the package can be loaded ... OK
* checking whether the package can be loaded with stated dependencies ... OK
* checking whether the package can be unloaded cleanly ... OK
* checking whether the namespace can be loaded with stated dependencies ... OK
* checking whether the namespace can be unloaded cleanly ... OK
* checking whether startup messages can be suppressed ... OK
* checking dependencies in R code ... OK
* checking S3 generic/method consistency ... OK
* checking replacement functions ... OK
* checking foreign function calls ... OK
* checking R code for possible problems ... NOTE
pcaExplorer: no visible binding for '<<-' assignment to
  'pcaexplorer_env'
pcaExplorer : <anonymous>: no visible binding for global variable
  'pcaexplorer_env'
Undefined global functions or variables:
  pcaexplorer_env
* checking Rd files ... OK
* checking Rd metadata ... OK
* checking Rd cross-references ... OK
* checking for missing documentation entries ... OK
* checking for code/documentation mismatches ... OK
* checking Rd \usage sections ... OK
* checking Rd contents ... OK
* checking for unstated dependencies in examples ... OK
* checking files in 'vignettes' ... OK
* checking examples ... OK
* checking for unstated dependencies in 'tests' ... OK
* checking tests ...
  Running 'testthat.R'
 OK
* checking for unstated dependencies in vignettes ... OK
* checking package vignettes ... OK
* checking running R code from vignettes ... SKIPPED
* checking re-building of vignette outputs ... SKIPPED
* checking PDF version of manual ... OK
* DONE
Status: 1 NOTE
See
  'F:/biocbuild/bbs-3.20-bioc/meat/pcaExplorer.Rcheck/00check.log'
for details.
pcaExplorer.Rcheck/00install.out
############################################################################## ############################################################################## ### ### Running command: ### ### F:\biocbuild\bbs-3.20-bioc\R\bin\R.exe CMD INSTALL pcaExplorer ### ############################################################################## ############################################################################## * installing to library 'F:/biocbuild/bbs-3.20-bioc/R/library' * installing *source* package 'pcaExplorer' ... ** using staged installation ** R ** inst ** byte-compile and prepare package for lazy loading ** help *** installing help indices *** copying figures ** building package indices ** installing vignettes ** testing if installed package can be loaded from temporary location ** testing if installed package can be loaded from final location ** testing if installed package keeps a record of temporary installation path * DONE (pcaExplorer)
pcaExplorer.Rcheck/tests/testthat.Rout
R version 4.4.3 (2025-02-28 ucrt) -- "Trophy Case"
Copyright (C) 2025 The R Foundation for Statistical Computing
Platform: x86_64-w64-mingw32/x64
R is free software and comes with ABSOLUTELY NO WARRANTY.
You are welcome to redistribute it under certain conditions.
Type 'license()' or 'licence()' for distribution details.
R is a collaborative project with many contributors.
Type 'contributors()' for more information and
'citation()' on how to cite R or R packages in publications.
Type 'demo()' for some demos, 'help()' for on-line help, or
'help.start()' for an HTML browser interface to help.
Type 'q()' to quit R.
> library(testthat)
> library(pcaExplorer)
Welcome to pcaExplorer v3.0.0
If you use pcaExplorer in your work, please cite:
pcaExplorer: an R/Bioconductor package for interacting with RNA-seq principal components
Federico Marini, Harald Binder
BMC Bioinformatics, 2019 - https://doi.org/10.1186/s12859-019-2879-1
> 
> test_check("pcaExplorer")
estimating size factors
estimating dispersions
gene-wise dispersion estimates
mean-dispersion relationship
final dispersion estimates
fitting model and testing
'select()' returned 1:many mapping between keys and columns
'select()' returned 1:many mapping between keys and columns
[ FAIL 0 | WARN 1 | SKIP 0 | PASS 32 ]
[ FAIL 0 | WARN 1 | SKIP 0 | PASS 32 ]
> 
> proc.time()
   user  system elapsed 
 174.46    9.89  185.79 
pcaExplorer.Rcheck/pcaExplorer-Ex.timings
| name | user | system | elapsed | |
| correlatePCs | 2.74 | 0.03 | 2.82 | |
| deprecated | 0 | 0 | 0 | |
| distro_expr | 3.55 | 0.05 | 3.60 | |
| geneprofiler | 1.61 | 0.08 | 1.69 | |
| genespca | 2.47 | 0.07 | 2.54 | |
| get_annotation | 2.48 | 0.07 | 2.63 | |
| get_annotation_orgdb | 3.67 | 0.07 | 3.76 | |
| hi_loadings | 1.69 | 0.00 | 1.69 | |
| limmaquickpca2go | 3.34 | 0.05 | 3.39 | |
| makeExampleDESeqDataSet_multifac | 0.28 | 0.00 | 0.28 | |
| pair_corr | 2.19 | 0.08 | 2.26 | |
| pca2go | 2.31 | 0.12 | 2.44 | |
| pcaExplorer | 1.94 | 0.11 | 2.06 | |
| pcaplot | 1.98 | 0.02 | 2.00 | |
| pcaplot3d | 1.91 | 0.06 | 2.87 | |
| pcascree | 1.72 | 0.02 | 1.74 | |
| plotPCcorrs | 1.56 | 0.04 | 1.61 | |
| topGOtable | 2.09 | 0.11 | 2.20 | |