| Back to Multiple platform build/check report for BioC 3.20: simplified long |
|
This page was generated on 2024-07-16 11:40 -0400 (Tue, 16 Jul 2024).
| Hostname | OS | Arch (*) | R version | Installed pkgs |
|---|---|---|---|---|
| nebbiolo2 | Linux (Ubuntu 22.04.3 LTS) | x86_64 | 4.4.1 (2024-06-14) -- "Race for Your Life" | 4677 |
| palomino6 | Windows Server 2022 Datacenter | x64 | 4.4.1 (2024-06-14 ucrt) -- "Race for Your Life" | 4416 |
| lconway | macOS 12.7.1 Monterey | x86_64 | 4.4.1 (2024-06-14) -- "Race for Your Life" | 4444 |
| kjohnson3 | macOS 13.6.5 Ventura | arm64 | 4.4.1 (2024-06-14) -- "Race for Your Life" | 4393 |
| palomino8 | Windows Server 2022 Datacenter | x64 | 4.4.1 (2024-06-14 ucrt) -- "Race for Your Life" | 4373 |
| Click on any hostname to see more info about the system (e.g. compilers) (*) as reported by 'uname -p', except on Windows and Mac OS X | ||||
| Package 1419/2243 | Hostname | OS / Arch | INSTALL | BUILD | CHECK | BUILD BIN | ||||||||
| omada 1.7.0 (landing page) Sokratis Kariotis
| nebbiolo2 | Linux (Ubuntu 22.04.3 LTS) / x86_64 | OK | OK | OK | |||||||||
| palomino6 | Windows Server 2022 Datacenter / x64 | OK | OK | OK | OK | |||||||||
| lconway | macOS 12.7.1 Monterey / x86_64 | OK | OK | OK | OK | |||||||||
| kjohnson3 | macOS 13.6.5 Ventura / arm64 | OK | OK | OK | OK | |||||||||
| palomino8 | Windows Server 2022 Datacenter / x64 | OK | OK | OK | OK | |||||||||
|
To the developers/maintainers of the omada package: - Allow up to 24 hours (and sometimes 48 hours) for your latest push to git@git.bioconductor.org:packages/omada.git to reflect on this report. See Troubleshooting Build Report for more information. - Use the following Renviron settings to reproduce errors and warnings. - If 'R CMD check' started to fail recently on the Linux builder(s) over a missing dependency, add the missing dependency to 'Suggests:' in your DESCRIPTION file. See Renviron.bioc for more information. |
| Package: omada |
| Version: 1.7.0 |
| Command: C:\Users\biocbuild\bbs-3.20-bioc\R\bin\R.exe CMD check --no-multiarch --install=check:omada.install-out.txt --library=C:\Users\biocbuild\bbs-3.20-bioc\R\library --no-vignettes --timings omada_1.7.0.tar.gz |
| StartedAt: 2024-07-16 02:23:58 -0400 (Tue, 16 Jul 2024) |
| EndedAt: 2024-07-16 02:36:47 -0400 (Tue, 16 Jul 2024) |
| EllapsedTime: 768.6 seconds |
| RetCode: 0 |
| Status: OK |
| CheckDir: omada.Rcheck |
| Warnings: 0 |
##############################################################################
##############################################################################
###
### Running command:
###
### C:\Users\biocbuild\bbs-3.20-bioc\R\bin\R.exe CMD check --no-multiarch --install=check:omada.install-out.txt --library=C:\Users\biocbuild\bbs-3.20-bioc\R\library --no-vignettes --timings omada_1.7.0.tar.gz
###
##############################################################################
##############################################################################
* using log directory 'C:/Users/biocbuild/bbs-3.20-bioc/meat/omada.Rcheck'
* using R version 4.4.1 (2024-06-14 ucrt)
* using platform: x86_64-w64-mingw32
* R was compiled by
gcc.exe (GCC) 13.2.0
GNU Fortran (GCC) 13.2.0
* running under: Windows Server 2022 x64 (build 20348)
* using session charset: UTF-8
* using option '--no-vignettes'
* checking for file 'omada/DESCRIPTION' ... OK
* checking extension type ... Package
* this is package 'omada' version '1.7.0'
* package encoding: UTF-8
* checking package namespace information ... OK
* checking package dependencies ... NOTE
Depends: includes the non-default packages:
'pdfCluster', 'kernlab', 'fpc', 'Rcpp', 'diceR', 'ggplot2',
'reshape', 'genieclust', 'clValid', 'glmnet', 'dplyr'
Adding so many packages to the search path is excessive and importing
selectively is preferable.
* checking if this is a source package ... OK
* checking if there is a namespace ... OK
* checking for hidden files and directories ... OK
* checking for portable file names ... OK
* checking whether package 'omada' can be installed ... OK
* checking installed package size ... OK
* checking package directory ... OK
* checking 'build' directory ... OK
* checking DESCRIPTION meta-information ... NOTE
Package listed in more than one of Depends, Imports, Suggests, Enhances:
'clValid'
A package should be listed in only one of these fields.
* checking top-level files ... NOTE
File
LICENSE
is not mentioned in the DESCRIPTION file.
* checking for left-over files ... OK
* checking index information ... OK
* checking package subdirectories ... OK
* checking code files for non-ASCII characters ... OK
* checking R files for syntax errors ... OK
* checking whether the package can be loaded ... OK
* checking whether the package can be loaded with stated dependencies ... OK
* checking whether the package can be unloaded cleanly ... OK
* checking whether the namespace can be loaded with stated dependencies ... OK
* checking whether the namespace can be unloaded cleanly ... OK
* checking dependencies in R code ... NOTE
Packages in Depends field not imported from:
'Rcpp' 'dplyr' 'genieclust' 'glmnet' 'kernlab' 'reshape'
These packages need to be imported from (in the NAMESPACE file)
for when this namespace is loaded but not attached.
* checking S3 generic/method consistency ... OK
* checking replacement functions ... OK
* checking foreign function calls ... OK
* checking R code for possible problems ... NOTE
Index.15and28: no visible global function definition for 'dist'
Index.15and28: no visible global function definition for 'as.dist'
Index.sPlussMoins: no visible global function definition for 'dist'
Index.sPlussMoins: no visible global function definition for 'as.dist'
Index.sPlussMoins: no visible global function definition for 'median'
Indice.cindex: no visible global function definition for 'dist'
clusterVoting: no visible global function definition for 'calinhara'
clusterVoting: no visible global function definition for
'generalised_dunn_index'
clusterVoting: no visible global function definition for
'silhouette_index'
clusterVoting: no visible global function definition for
'negated_davies_bouldin_index'
clusterVoting: no visible binding for global variable 'k'
clusterVoting: no visible binding for global variable 'Frequency'
clusteringMethodSelection: no visible binding for global variable
'value'
clusteringMethodSelection: no visible binding for global variable
'methods'
featureSelection: no visible binding for global variable 'featureSet'
featureSelection: no visible binding for global variable 'means'
Undefined global functions or variables:
Frequency as.dist calinhara dist featureSet generalised_dunn_index k
means median methods negated_davies_bouldin_index silhouette_index
value
Consider adding
importFrom("stats", "as.dist", "dist", "median")
importFrom("utils", "methods")
to your NAMESPACE file.
* checking Rd files ... OK
* checking Rd metadata ... OK
* checking Rd cross-references ... OK
* checking for missing documentation entries ... OK
* checking for code/documentation mismatches ... OK
* checking Rd \usage sections ... OK
* checking Rd contents ... OK
* checking for unstated dependencies in examples ... OK
* checking contents of 'data' directory ... OK
* checking data for non-ASCII characters ... OK
* checking LazyData ... OK
* checking data for ASCII and uncompressed saves ... OK
* checking files in 'vignettes' ... OK
* checking examples ... OK
Examples with CPU (user + system) or elapsed time > 5s
user system elapsed
plot_partition_agreement 44.10 3.92 60.28
get_feature_selection_optimal_number_of_features 38.58 2.80 42.12
get_feature_selection_scores 38.25 2.41 40.82
plot_feature_selection 29.10 1.97 31.22
get_partition_agreement_scores 29.30 1.54 32.67
get_feature_selection_optimal_features 27.84 1.68 30.78
get_sample_memberships 27.25 1.64 28.80
get_cluster_voting_scores 24.36 2.16 26.75
get_cluster_voting_k_votes 24.64 1.87 26.59
get_cluster_voting_memberships 24.50 1.34 25.92
get_cluster_voting_metric_votes 23.55 1.61 25.22
omada 18.44 1.33 19.83
plot_cluster_voting 17.94 1.34 19.31
get_optimal_memberships 10.00 0.37 10.41
plot_average_stabilities 9.16 0.52 9.75
get_optimal_features 8.47 0.33 8.72
get_optimal_parameter_used 8.22 0.48 8.70
get_optimal_number_of_features 7.83 0.52 8.37
get_optimal_stability_score 6.48 0.35 6.83
featureSelection 5.86 0.25 6.11
* checking for unstated dependencies in 'tests' ... OK
* checking tests ...
Running 'testthat.R'
OK
* checking for unstated dependencies in vignettes ... OK
* checking package vignettes ... OK
* checking running R code from vignettes ... SKIPPED
* checking re-building of vignette outputs ... SKIPPED
* checking PDF version of manual ... OK
* DONE
Status: 5 NOTEs
See
'C:/Users/biocbuild/bbs-3.20-bioc/meat/omada.Rcheck/00check.log'
for details.
omada.Rcheck/00install.out
############################################################################## ############################################################################## ### ### Running command: ### ### C:\Users\biocbuild\bbs-3.20-bioc\R\bin\R.exe CMD INSTALL omada ### ############################################################################## ############################################################################## * installing to library 'C:/Users/biocbuild/bbs-3.20-bioc/R/library' * installing *source* package 'omada' ... ** using staged installation ** R ** data *** moving datasets to lazyload DB ** inst ** byte-compile and prepare package for lazy loading ** help *** installing help indices ** building package indices ** installing vignettes ** testing if installed package can be loaded from temporary location ** testing if installed package can be loaded from final location ** testing if installed package keeps a record of temporary installation path * DONE (omada)
omada.Rcheck/tests/testthat.Rout
R version 4.4.1 (2024-06-14 ucrt) -- "Race for Your Life"
Copyright (C) 2024 The R Foundation for Statistical Computing
Platform: x86_64-w64-mingw32/x64
R is free software and comes with ABSOLUTELY NO WARRANTY.
You are welcome to redistribute it under certain conditions.
Type 'license()' or 'licence()' for distribution details.
R is a collaborative project with many contributors.
Type 'contributors()' for more information and
'citation()' on how to cite R or R packages in publications.
Type 'demo()' for some demos, 'help()' for on-line help, or
'help.start()' for an HTML browser interface to help.
Type 'q()' to quit R.
> library(testthat)
> library(omada)
Loading required package: pdfCluster
pdfCluster 1.0-4
Loading required package: kernlab
Loading required package: fpc
Loading required package: Rcpp
Loading required package: diceR
Loading required package: ggplot2
Attaching package: 'ggplot2'
The following object is masked from 'package:kernlab':
alpha
Loading required package: reshape
Loading required package: genieclust
Loading required package: clValid
Loading required package: cluster
Loading required package: glmnet
Loading required package: Matrix
Attaching package: 'Matrix'
The following object is masked from 'package:reshape':
expand
Loaded glmnet 4.1-8
Loading required package: dplyr
Attaching package: 'dplyr'
The following object is masked from 'package:reshape':
rename
The following object is masked from 'package:pdfCluster':
groups
The following object is masked from 'package:testthat':
matches
The following objects are masked from 'package:stats':
filter, lag
The following objects are masked from 'package:base':
intersect, setdiff, setequal, union
>
> test_check("omada")
[ FAIL 0 | WARN 1 | SKIP 0 | PASS 38 ]
[ FAIL 0 | WARN 1 | SKIP 0 | PASS 38 ]
>
> proc.time()
user system elapsed
118.15 27.31 178.39
omada.Rcheck/omada-Ex.timings
| name | user | system | elapsed | |
| clusterVoting | 3.40 | 0.52 | 3.93 | |
| clusteringMethodSelection | 1.20 | 0.11 | 1.31 | |
| feasibilityAnalysis | 0.93 | 0.04 | 0.98 | |
| feasibilityAnalysisDataBased | 2.18 | 0.16 | 2.33 | |
| featureSelection | 5.86 | 0.25 | 6.11 | |
| get_agreement_scores | 0.14 | 0.00 | 0.14 | |
| get_average_feature_k_stabilities | 3.94 | 0.12 | 4.06 | |
| get_average_stabilities_per_k | 0.63 | 0.03 | 0.66 | |
| get_average_stability | 0.59 | 0.05 | 0.64 | |
| get_cluster_memberships_k | 0.73 | 0.13 | 0.86 | |
| get_cluster_voting_k_votes | 24.64 | 1.87 | 26.59 | |
| get_cluster_voting_memberships | 24.50 | 1.34 | 25.92 | |
| get_cluster_voting_metric_votes | 23.55 | 1.61 | 25.22 | |
| get_cluster_voting_scores | 24.36 | 2.16 | 26.75 | |
| get_feature_selection_optimal_features | 27.84 | 1.68 | 30.78 | |
| get_feature_selection_optimal_number_of_features | 38.58 | 2.80 | 42.12 | |
| get_feature_selection_scores | 38.25 | 2.41 | 40.82 | |
| get_generated_dataset | 3.01 | 0.09 | 3.10 | |
| get_internal_metric_scores | 0.70 | 0.19 | 0.89 | |
| get_max_stability | 0.64 | 0.01 | 0.66 | |
| get_metric_votes_k | 1.03 | 0.13 | 1.15 | |
| get_optimal_features | 8.47 | 0.33 | 8.72 | |
| get_optimal_memberships | 10.00 | 0.37 | 10.41 | |
| get_optimal_number_of_features | 7.83 | 0.52 | 8.37 | |
| get_optimal_parameter_used | 8.22 | 0.48 | 8.70 | |
| get_optimal_stability_score | 6.48 | 0.35 | 6.83 | |
| get_partition_agreement_scores | 29.30 | 1.54 | 32.67 | |
| get_sample_memberships | 27.25 | 1.64 | 28.80 | |
| get_vote_frequencies_k | 0.95 | 0.19 | 1.14 | |
| omada | 18.44 | 1.33 | 19.83 | |
| optimalClustering | 0.08 | 0.00 | 0.08 | |
| partitionAgreement | 0.26 | 0.01 | 0.28 | |
| plot_average_stabilities | 9.16 | 0.52 | 9.75 | |
| plot_cluster_voting | 17.94 | 1.34 | 19.31 | |
| plot_feature_selection | 29.10 | 1.97 | 31.22 | |
| plot_partition_agreement | 44.10 | 3.92 | 60.28 | |
| plot_vote_frequencies | 1.22 | 0.23 | 1.45 | |
| toy_gene_memberships | 0.01 | 0.02 | 0.03 | |
| toy_genes | 0.00 | 0.02 | 0.02 | |