| Back to Multiple platform build/check report for BioC 3.20: simplified long |
|
This page was generated on 2024-06-11 15:40 -0400 (Tue, 11 Jun 2024).
| Hostname | OS | Arch (*) | R version | Installed pkgs |
|---|---|---|---|---|
| nebbiolo2 | Linux (Ubuntu 22.04.3 LTS) | x86_64 | 4.4.0 RC (2024-04-16 r86468) -- "Puppy Cup" | 4679 |
| palomino4 | Windows Server 2022 Datacenter | x64 | 4.4.0 RC (2024-04-16 r86468 ucrt) -- "Puppy Cup" | 4414 |
| merida1 | macOS 12.7.4 Monterey | x86_64 | 4.4.0 Patched (2024-04-24 r86482) -- "Puppy Cup" | 4441 |
| kjohnson1 | macOS 13.6.6 Ventura | arm64 | 4.4.0 Patched (2024-04-24 r86482) -- "Puppy Cup" | 4394 |
| Click on any hostname to see more info about the system (e.g. compilers) (*) as reported by 'uname -p', except on Windows and Mac OS X | ||||
| Package 1417/2239 | Hostname | OS / Arch | INSTALL | BUILD | CHECK | BUILD BIN | ||||||||
| omada 1.7.0 (landing page) Sokratis Kariotis
| nebbiolo2 | Linux (Ubuntu 22.04.3 LTS) / x86_64 | OK | OK | OK | |||||||||
| palomino4 | Windows Server 2022 Datacenter / x64 | OK | OK | OK | OK | |||||||||
| merida1 | macOS 12.7.4 Monterey / x86_64 | OK | OK | OK | OK | |||||||||
| kjohnson1 | macOS 13.6.6 Ventura / arm64 | OK | OK | OK | OK | |||||||||
|
To the developers/maintainers of the omada package: - Allow up to 24 hours (and sometimes 48 hours) for your latest push to git@git.bioconductor.org:packages/omada.git to reflect on this report. See Troubleshooting Build Report for more information. - Use the following Renviron settings to reproduce errors and warnings. - If 'R CMD check' started to fail recently on the Linux builder(s) over a missing dependency, add the missing dependency to 'Suggests:' in your DESCRIPTION file. See Renviron.bioc for more information. |
| Package: omada |
| Version: 1.7.0 |
| Command: F:\biocbuild\bbs-3.20-bioc\R\bin\R.exe CMD check --no-multiarch --install=check:omada.install-out.txt --library=F:\biocbuild\bbs-3.20-bioc\R\library --no-vignettes --timings omada_1.7.0.tar.gz |
| StartedAt: 2024-06-10 06:32:57 -0400 (Mon, 10 Jun 2024) |
| EndedAt: 2024-06-10 06:47:04 -0400 (Mon, 10 Jun 2024) |
| EllapsedTime: 846.6 seconds |
| RetCode: 0 |
| Status: OK |
| CheckDir: omada.Rcheck |
| Warnings: 0 |
##############################################################################
##############################################################################
###
### Running command:
###
### F:\biocbuild\bbs-3.20-bioc\R\bin\R.exe CMD check --no-multiarch --install=check:omada.install-out.txt --library=F:\biocbuild\bbs-3.20-bioc\R\library --no-vignettes --timings omada_1.7.0.tar.gz
###
##############################################################################
##############################################################################
* using log directory 'F:/biocbuild/bbs-3.20-bioc/meat/omada.Rcheck'
* using R version 4.4.0 RC (2024-04-16 r86468 ucrt)
* using platform: x86_64-w64-mingw32
* R was compiled by
gcc.exe (GCC) 13.2.0
GNU Fortran (GCC) 13.2.0
* running under: Windows Server 2022 x64 (build 20348)
* using session charset: UTF-8
* using option '--no-vignettes'
* checking for file 'omada/DESCRIPTION' ... OK
* checking extension type ... Package
* this is package 'omada' version '1.7.0'
* package encoding: UTF-8
* checking package namespace information ... OK
* checking package dependencies ... NOTE
Depends: includes the non-default packages:
'pdfCluster', 'kernlab', 'fpc', 'Rcpp', 'diceR', 'ggplot2',
'reshape', 'genieclust', 'clValid', 'glmnet', 'dplyr'
Adding so many packages to the search path is excessive and importing
selectively is preferable.
* checking if this is a source package ... OK
* checking if there is a namespace ... OK
* checking for hidden files and directories ... OK
* checking for portable file names ... OK
* checking whether package 'omada' can be installed ... OK
* checking installed package size ... OK
* checking package directory ... OK
* checking 'build' directory ... OK
* checking DESCRIPTION meta-information ... NOTE
Package listed in more than one of Depends, Imports, Suggests, Enhances:
'clValid'
A package should be listed in only one of these fields.
* checking top-level files ... NOTE
File
LICENSE
is not mentioned in the DESCRIPTION file.
* checking for left-over files ... OK
* checking index information ... OK
* checking package subdirectories ... OK
* checking code files for non-ASCII characters ... OK
* checking R files for syntax errors ... OK
* checking whether the package can be loaded ... OK
* checking whether the package can be loaded with stated dependencies ... OK
* checking whether the package can be unloaded cleanly ... OK
* checking whether the namespace can be loaded with stated dependencies ... OK
* checking whether the namespace can be unloaded cleanly ... OK
* checking dependencies in R code ... NOTE
Packages in Depends field not imported from:
'Rcpp' 'dplyr' 'genieclust' 'glmnet' 'kernlab' 'reshape'
These packages need to be imported from (in the NAMESPACE file)
for when this namespace is loaded but not attached.
* checking S3 generic/method consistency ... OK
* checking replacement functions ... OK
* checking foreign function calls ... OK
* checking R code for possible problems ... NOTE
Index.15and28: no visible global function definition for 'dist'
Index.15and28: no visible global function definition for 'as.dist'
Index.sPlussMoins: no visible global function definition for 'dist'
Index.sPlussMoins: no visible global function definition for 'as.dist'
Index.sPlussMoins: no visible global function definition for 'median'
Indice.cindex: no visible global function definition for 'dist'
clusterVoting: no visible global function definition for 'calinhara'
clusterVoting: no visible global function definition for
'generalised_dunn_index'
clusterVoting: no visible global function definition for
'silhouette_index'
clusterVoting: no visible global function definition for
'negated_davies_bouldin_index'
clusterVoting: no visible binding for global variable 'k'
clusterVoting: no visible binding for global variable 'Frequency'
clusteringMethodSelection: no visible binding for global variable
'value'
clusteringMethodSelection: no visible binding for global variable
'methods'
featureSelection: no visible binding for global variable 'featureSet'
featureSelection: no visible binding for global variable 'means'
Undefined global functions or variables:
Frequency as.dist calinhara dist featureSet generalised_dunn_index k
means median methods negated_davies_bouldin_index silhouette_index
value
Consider adding
importFrom("stats", "as.dist", "dist", "median")
importFrom("utils", "methods")
to your NAMESPACE file.
* checking Rd files ... OK
* checking Rd metadata ... OK
* checking Rd cross-references ... OK
* checking for missing documentation entries ... OK
* checking for code/documentation mismatches ... OK
* checking Rd \usage sections ... OK
* checking Rd contents ... OK
* checking for unstated dependencies in examples ... OK
* checking contents of 'data' directory ... OK
* checking data for non-ASCII characters ... OK
* checking LazyData ... OK
* checking data for ASCII and uncompressed saves ... OK
* checking files in 'vignettes' ... OK
* checking examples ... OK
Examples with CPU (user + system) or elapsed time > 5s
user system elapsed
get_feature_selection_scores 44.96 2.30 47.25
get_feature_selection_optimal_number_of_features 44.21 2.09 46.31
get_partition_agreement_scores 31.42 1.60 33.02
get_cluster_voting_k_votes 31.33 1.22 32.55
plot_partition_agreement 29.46 1.54 31.00
get_sample_memberships 29.53 1.25 30.78
get_cluster_voting_memberships 28.92 1.45 30.37
get_cluster_voting_scores 28.59 1.50 30.09
plot_feature_selection 28.48 1.54 30.02
get_cluster_voting_metric_votes 28.33 1.25 29.58
get_feature_selection_optimal_features 27.90 1.57 29.46
plot_cluster_voting 21.20 1.21 22.42
omada 20.00 0.96 20.95
get_optimal_number_of_features 10.00 0.40 10.39
plot_average_stabilities 9.71 0.50 10.20
get_optimal_memberships 8.94 0.48 9.42
get_optimal_features 8.69 0.39 9.08
get_optimal_parameter_used 8.53 0.32 8.86
get_optimal_stability_score 7.96 0.36 8.31
featureSelection 7.45 0.17 7.62
* checking for unstated dependencies in 'tests' ... OK
* checking tests ...
Running 'testthat.R'
OK
* checking for unstated dependencies in vignettes ... OK
* checking package vignettes ... OK
* checking running R code from vignettes ... SKIPPED
* checking re-building of vignette outputs ... SKIPPED
* checking PDF version of manual ... OK
* DONE
Status: 5 NOTEs
See
'F:/biocbuild/bbs-3.20-bioc/meat/omada.Rcheck/00check.log'
for details.
omada.Rcheck/00install.out
############################################################################## ############################################################################## ### ### Running command: ### ### F:\biocbuild\bbs-3.20-bioc\R\bin\R.exe CMD INSTALL omada ### ############################################################################## ############################################################################## * installing to library 'F:/biocbuild/bbs-3.20-bioc/R/library' * installing *source* package 'omada' ... ** using staged installation ** R ** data *** moving datasets to lazyload DB ** inst ** byte-compile and prepare package for lazy loading ** help *** installing help indices ** building package indices ** installing vignettes ** testing if installed package can be loaded from temporary location ** testing if installed package can be loaded from final location ** testing if installed package keeps a record of temporary installation path * DONE (omada)
omada.Rcheck/tests/testthat.Rout
R version 4.4.0 RC (2024-04-16 r86468 ucrt) -- "Puppy Cup"
Copyright (C) 2024 The R Foundation for Statistical Computing
Platform: x86_64-w64-mingw32/x64
R is free software and comes with ABSOLUTELY NO WARRANTY.
You are welcome to redistribute it under certain conditions.
Type 'license()' or 'licence()' for distribution details.
R is a collaborative project with many contributors.
Type 'contributors()' for more information and
'citation()' on how to cite R or R packages in publications.
Type 'demo()' for some demos, 'help()' for on-line help, or
'help.start()' for an HTML browser interface to help.
Type 'q()' to quit R.
> library(testthat)
> library(omada)
Loading required package: pdfCluster
pdfCluster 1.0-4
Loading required package: kernlab
Loading required package: fpc
Loading required package: Rcpp
Loading required package: diceR
Loading required package: ggplot2
Attaching package: 'ggplot2'
The following object is masked from 'package:kernlab':
alpha
Loading required package: reshape
Loading required package: genieclust
Loading required package: clValid
Loading required package: cluster
Loading required package: glmnet
Loading required package: Matrix
Attaching package: 'Matrix'
The following object is masked from 'package:reshape':
expand
Loaded glmnet 4.1-8
Loading required package: dplyr
Attaching package: 'dplyr'
The following object is masked from 'package:reshape':
rename
The following object is masked from 'package:pdfCluster':
groups
The following object is masked from 'package:testthat':
matches
The following objects are masked from 'package:stats':
filter, lag
The following objects are masked from 'package:base':
intersect, setdiff, setequal, union
>
> test_check("omada")
[ FAIL 0 | WARN 1 | SKIP 0 | PASS 38 ]
[ FAIL 0 | WARN 1 | SKIP 0 | PASS 38 ]
>
> proc.time()
user system elapsed
77.92 12.21 90.42
omada.Rcheck/omada-Ex.timings
| name | user | system | elapsed | |
| clusterVoting | 3.36 | 0.46 | 3.81 | |
| clusteringMethodSelection | 1.11 | 0.03 | 1.14 | |
| feasibilityAnalysis | 1.45 | 0.01 | 1.47 | |
| feasibilityAnalysisDataBased | 2.56 | 0.19 | 2.75 | |
| featureSelection | 7.45 | 0.17 | 7.62 | |
| get_agreement_scores | 0.21 | 0.02 | 0.22 | |
| get_average_feature_k_stabilities | 4.47 | 0.25 | 4.72 | |
| get_average_stabilities_per_k | 0.92 | 0.06 | 0.99 | |
| get_average_stability | 0.98 | 0.00 | 0.98 | |
| get_cluster_memberships_k | 0.72 | 0.14 | 0.86 | |
| get_cluster_voting_k_votes | 31.33 | 1.22 | 32.55 | |
| get_cluster_voting_memberships | 28.92 | 1.45 | 30.37 | |
| get_cluster_voting_metric_votes | 28.33 | 1.25 | 29.58 | |
| get_cluster_voting_scores | 28.59 | 1.50 | 30.09 | |
| get_feature_selection_optimal_features | 27.90 | 1.57 | 29.46 | |
| get_feature_selection_optimal_number_of_features | 44.21 | 2.09 | 46.31 | |
| get_feature_selection_scores | 44.96 | 2.30 | 47.25 | |
| get_generated_dataset | 2.64 | 0.14 | 2.78 | |
| get_internal_metric_scores | 0.78 | 0.14 | 0.92 | |
| get_max_stability | 0.78 | 0.06 | 0.84 | |
| get_metric_votes_k | 0.75 | 0.11 | 0.86 | |
| get_optimal_features | 8.69 | 0.39 | 9.08 | |
| get_optimal_memberships | 8.94 | 0.48 | 9.42 | |
| get_optimal_number_of_features | 10.00 | 0.40 | 10.39 | |
| get_optimal_parameter_used | 8.53 | 0.32 | 8.86 | |
| get_optimal_stability_score | 7.96 | 0.36 | 8.31 | |
| get_partition_agreement_scores | 31.42 | 1.60 | 33.02 | |
| get_sample_memberships | 29.53 | 1.25 | 30.78 | |
| get_vote_frequencies_k | 0.76 | 0.11 | 0.87 | |
| omada | 20.00 | 0.96 | 20.95 | |
| optimalClustering | 0.08 | 0.00 | 0.08 | |
| partitionAgreement | 0.28 | 0.04 | 0.32 | |
| plot_average_stabilities | 9.71 | 0.50 | 10.20 | |
| plot_cluster_voting | 21.20 | 1.21 | 22.42 | |
| plot_feature_selection | 28.48 | 1.54 | 30.02 | |
| plot_partition_agreement | 29.46 | 1.54 | 31.00 | |
| plot_vote_frequencies | 0.79 | 0.16 | 0.95 | |
| toy_gene_memberships | 0.05 | 0.31 | 0.36 | |
| toy_genes | 0 | 0 | 0 | |