| Back to Multiple platform build/check report for BioC 3.20: simplified long | 
 | 
This page was generated on 2025-04-02 19:29 -0400 (Wed, 02 Apr 2025).
| Hostname | OS | Arch (*) | R version | Installed pkgs | 
|---|---|---|---|---|
| nebbiolo2 | Linux (Ubuntu 24.04.1 LTS) | x86_64 | 4.4.3 (2025-02-28) -- "Trophy Case" | 4764 | 
| palomino8 | Windows Server 2022 Datacenter | x64 | 4.4.3 (2025-02-28 ucrt) -- "Trophy Case" | 4495 | 
| merida1 | macOS 12.7.5 Monterey | x86_64 | 4.4.3 (2025-02-28) -- "Trophy Case" | 4522 | 
| kjohnson1 | macOS 13.6.6 Ventura | arm64 | 4.4.3 (2025-02-28) -- "Trophy Case" | 4449 | 
| taishan | Linux (openEuler 24.03 LTS) | aarch64 | 4.4.3 (2025-02-28) -- "Trophy Case" | 4426 | 
| Click on any hostname to see more info about the system (e.g. compilers) (*) as reported by 'uname -p', except on Windows and Mac OS X | ||||
| Package 1434/2289 | Hostname | OS / Arch | INSTALL | BUILD | CHECK | BUILD BIN | ||||||||
| nullranges 1.12.0  (landing page) Michael Love 
 | nebbiolo2 | Linux (Ubuntu 24.04.1 LTS) / x86_64 | OK | OK | OK |  | ||||||||
| palomino8 | Windows Server 2022 Datacenter / x64 | OK | OK | OK | OK |  | ||||||||
| merida1 | macOS 12.7.5 Monterey / x86_64 | OK | OK | OK | OK |  | ||||||||
| kjohnson1 | macOS 13.6.6 Ventura / arm64 | OK | OK | OK | OK |  | ||||||||
| taishan | Linux (openEuler 24.03 LTS) / aarch64 | OK | OK | OK | ||||||||||
| To the developers/maintainers of the nullranges package: - Allow up to 24 hours (and sometimes 48 hours) for your latest push to git@git.bioconductor.org:packages/nullranges.git to reflect on this report. See Troubleshooting Build Report for more information. - Use the following Renviron settings to reproduce errors and warnings. - If 'R CMD check' started to fail recently on the Linux builder(s) over a missing dependency, add the missing dependency to 'Suggests:' in your DESCRIPTION file. See Renviron.bioc for more information. | 
| Package: nullranges | 
| Version: 1.12.0 | 
| Command: /home/biocbuild/bbs-3.20-bioc/R/bin/R CMD check --install=check:nullranges.install-out.txt --library=/home/biocbuild/bbs-3.20-bioc/R/site-library --timings nullranges_1.12.0.tar.gz | 
| StartedAt: 2025-04-01 00:33:45 -0400 (Tue, 01 Apr 2025) | 
| EndedAt: 2025-04-01 00:40:54 -0400 (Tue, 01 Apr 2025) | 
| EllapsedTime: 429.5 seconds | 
| RetCode: 0 | 
| Status: OK | 
| CheckDir: nullranges.Rcheck | 
| Warnings: 0 | 
##############################################################################
##############################################################################
###
### Running command:
###
###   /home/biocbuild/bbs-3.20-bioc/R/bin/R CMD check --install=check:nullranges.install-out.txt --library=/home/biocbuild/bbs-3.20-bioc/R/site-library --timings nullranges_1.12.0.tar.gz
###
##############################################################################
##############################################################################
* using log directory ‘/home/biocbuild/bbs-3.20-bioc/meat/nullranges.Rcheck’
* using R version 4.4.3 (2025-02-28)
* using platform: x86_64-pc-linux-gnu
* R was compiled by
    gcc (Ubuntu 13.3.0-6ubuntu2~24.04) 13.3.0
    GNU Fortran (Ubuntu 13.3.0-6ubuntu2~24.04) 13.3.0
* running under: Ubuntu 24.04.2 LTS
* using session charset: UTF-8
* checking for file ‘nullranges/DESCRIPTION’ ... OK
* this is package ‘nullranges’ version ‘1.12.0’
* package encoding: UTF-8
* checking package namespace information ... OK
* checking package dependencies ... OK
* checking if this is a source package ... OK
* checking if there is a namespace ... OK
* checking for hidden files and directories ... OK
* checking for portable file names ... OK
* checking for sufficient/correct file permissions ... OK
* checking whether package ‘nullranges’ can be installed ... OK
* checking installed package size ... OK
* checking package directory ... OK
* checking ‘build’ directory ... OK
* checking DESCRIPTION meta-information ... OK
* checking top-level files ... OK
* checking for left-over files ... OK
* checking index information ... OK
* checking package subdirectories ... OK
* checking code files for non-ASCII characters ... OK
* checking R files for syntax errors ... OK
* checking whether the package can be loaded ... OK
* checking whether the package can be loaded with stated dependencies ... OK
* checking whether the package can be unloaded cleanly ... OK
* checking whether the namespace can be loaded with stated dependencies ... OK
* checking whether the namespace can be unloaded cleanly ... OK
* checking loading without being on the library search path ... OK
* checking dependencies in R code ... OK
* checking S3 generic/method consistency ... OK
* checking replacement functions ... OK
* checking foreign function calls ... OK
* checking R code for possible problems ... OK
* checking Rd files ... NOTE
checkRd: (-1) MatchedDataFrame.Rd:68: Lost braces in \itemize; meant \describe ?
checkRd: (-1) MatchedDataFrame.Rd:69: Lost braces in \itemize; meant \describe ?
checkRd: (-1) MatchedDataFrame.Rd:70: Lost braces in \itemize; meant \describe ?
checkRd: (-1) MatchedDataFrame.Rd:71: Lost braces in \itemize; meant \describe ?
checkRd: (-1) MatchedDataFrame.Rd:72: Lost braces in \itemize; meant \describe ?
checkRd: (-1) MatchedDataFrame.Rd:83: Lost braces in \itemize; meant \describe ?
checkRd: (-1) MatchedDataFrame.Rd:84: Lost braces in \itemize; meant \describe ?
checkRd: (-1) MatchedDataFrame.Rd:85: Lost braces in \itemize; meant \describe ?
checkRd: (-1) MatchedDataFrame.Rd:86: Lost braces in \itemize; meant \describe ?
checkRd: (-1) MatchedGInteractions.Rd:68: Lost braces in \itemize; meant \describe ?
checkRd: (-1) MatchedGInteractions.Rd:69: Lost braces in \itemize; meant \describe ?
checkRd: (-1) MatchedGInteractions.Rd:70: Lost braces in \itemize; meant \describe ?
checkRd: (-1) MatchedGInteractions.Rd:71: Lost braces in \itemize; meant \describe ?
checkRd: (-1) MatchedGInteractions.Rd:72: Lost braces in \itemize; meant \describe ?
checkRd: (-1) MatchedGInteractions.Rd:83: Lost braces in \itemize; meant \describe ?
checkRd: (-1) MatchedGInteractions.Rd:84: Lost braces in \itemize; meant \describe ?
checkRd: (-1) MatchedGInteractions.Rd:85: Lost braces in \itemize; meant \describe ?
checkRd: (-1) MatchedGInteractions.Rd:86: Lost braces in \itemize; meant \describe ?
checkRd: (-1) MatchedGRanges.Rd:70: Lost braces in \itemize; meant \describe ?
checkRd: (-1) MatchedGRanges.Rd:71: Lost braces in \itemize; meant \describe ?
checkRd: (-1) MatchedGRanges.Rd:72: Lost braces in \itemize; meant \describe ?
checkRd: (-1) MatchedGRanges.Rd:73: Lost braces in \itemize; meant \describe ?
checkRd: (-1) MatchedGRanges.Rd:74: Lost braces in \itemize; meant \describe ?
checkRd: (-1) MatchedGRanges.Rd:85: Lost braces in \itemize; meant \describe ?
checkRd: (-1) MatchedGRanges.Rd:86: Lost braces in \itemize; meant \describe ?
checkRd: (-1) MatchedGRanges.Rd:87: Lost braces in \itemize; meant \describe ?
checkRd: (-1) MatchedGRanges.Rd:88: Lost braces in \itemize; meant \describe ?
checkRd: (-1) matchRanges.Rd:67-70: Lost braces in \itemize; meant \describe ?
checkRd: (-1) matchRanges.Rd:71-73: Lost braces in \itemize; meant \describe ?
checkRd: (-1) matchRanges.Rd:74-77: Lost braces in \itemize; meant \describe ?
checkRd: (-1) matchedClass.Rd:37: Lost braces in \itemize; meant \describe ?
checkRd: (-1) matchedClass.Rd:38: Lost braces in \itemize; meant \describe ?
checkRd: (-1) matchedClass.Rd:39: Lost braces in \itemize; meant \describe ?
checkRd: (-1) matchedClass.Rd:40: Lost braces in \itemize; meant \describe ?
checkRd: (-1) matchedClass.Rd:41: Lost braces in \itemize; meant \describe ?
checkRd: (-1) segmentDensity.Rd:28: Lost braces in \itemize; \value handles \item{}{} directly
checkRd: (-1) segmentDensity.Rd:29: Lost braces in \itemize; \value handles \item{}{} directly
* checking Rd metadata ... OK
* checking Rd cross-references ... OK
* checking for missing documentation entries ... OK
* checking for code/documentation mismatches ... OK
* checking Rd \usage sections ... OK
* checking Rd contents ... OK
* checking for unstated dependencies in examples ... OK
* checking files in ‘vignettes’ ... OK
* checking examples ... OK
* checking for unstated dependencies in ‘tests’ ... OK
* checking tests ...
  Running ‘testthat.R’
 OK
* checking for unstated dependencies in vignettes ... OK
* checking package vignettes ... OK
* checking re-building of vignette outputs ... OK
* checking PDF version of manual ... OK
* DONE
Status: 1 NOTE
See
  ‘/home/biocbuild/bbs-3.20-bioc/meat/nullranges.Rcheck/00check.log’
for details.
nullranges.Rcheck/00install.out
############################################################################## ############################################################################## ### ### Running command: ### ### /home/biocbuild/bbs-3.20-bioc/R/bin/R CMD INSTALL nullranges ### ############################################################################## ############################################################################## * installing to library ‘/home/biocbuild/bbs-3.20-bioc/R/site-library’ * installing *source* package ‘nullranges’ ... ** using staged installation ** R ** inst ** byte-compile and prepare package for lazy loading ** help *** installing help indices *** copying figures ** building package indices ** installing vignettes ** testing if installed package can be loaded from temporary location ** testing if installed package can be loaded from final location ** testing if installed package keeps a record of temporary installation path * DONE (nullranges)
nullranges.Rcheck/tests/testthat.Rout
R version 4.4.3 (2025-02-28) -- "Trophy Case"
Copyright (C) 2025 The R Foundation for Statistical Computing
Platform: x86_64-pc-linux-gnu
R is free software and comes with ABSOLUTELY NO WARRANTY.
You are welcome to redistribute it under certain conditions.
Type 'license()' or 'licence()' for distribution details.
R is a collaborative project with many contributors.
Type 'contributors()' for more information and
'citation()' on how to cite R or R packages in publications.
Type 'demo()' for some demos, 'help()' for on-line help, or
'help.start()' for an HTML browser interface to help.
Type 'q()' to quit R.
> library(testthat)
> library(nullranges)
> 
> test_check("nullranges")
[ FAIL 0 | WARN 0 | SKIP 0 | PASS 9 ]
> 
> proc.time()
   user  system elapsed 
 16.455   0.838  17.192 
nullranges.Rcheck/nullranges-Ex.timings
| name | user | system | elapsed | |
| MatchedDataFrame | 2.909 | 0.024 | 2.755 | |
| MatchedGInteractions | 0.555 | 0.022 | 0.489 | |
| MatchedGRanges | 0.513 | 0.002 | 0.402 | |
| bootRanges | 0.279 | 0.003 | 0.281 | |
| combnCov | 0.002 | 0.001 | 0.003 | |
| covariates | 0.167 | 0.002 | 0.123 | |
| focal | 0.156 | 0.001 | 0.110 | |
| indices | 0.170 | 0.000 | 0.122 | |
| makeExampleMatchedDataSet | 1.392 | 0.084 | 1.360 | |
| matchRanges | 1.396 | 0.005 | 0.985 | |
| matched | 0.116 | 0.000 | 0.093 | |
| matchedClass | 0.125 | 0.003 | 0.105 | |
| matchedData | 0.121 | 0.001 | 0.090 | |
| method | 0.123 | 0.003 | 0.101 | |
| oneRegionSegment | 0.395 | 0.008 | 0.774 | |
| overview | 0.138 | 0.000 | 0.110 | |
| plotCovariate | 2.679 | 0.088 | 2.679 | |
| plotPropensity | 1.407 | 0.015 | 1.353 | |
| plotSegment | 1.428 | 0.046 | 1.474 | |
| pool | 0.218 | 0.006 | 0.184 | |
| reduceSegment | 0.210 | 0.000 | 0.207 | |
| segmentDensity | 0.419 | 0.010 | 0.429 | |
| unmatched | 0.187 | 0.009 | 0.156 | |
| withReplacement | 0.173 | 0.002 | 0.140 | |