| Back to Multiple platform build/check report for BioC 3.20: simplified long |
|
This page was generated on 2025-04-02 19:30 -0400 (Wed, 02 Apr 2025).
| Hostname | OS | Arch (*) | R version | Installed pkgs |
|---|---|---|---|---|
| nebbiolo2 | Linux (Ubuntu 24.04.1 LTS) | x86_64 | 4.4.3 (2025-02-28) -- "Trophy Case" | 4764 |
| palomino8 | Windows Server 2022 Datacenter | x64 | 4.4.3 (2025-02-28 ucrt) -- "Trophy Case" | 4495 |
| merida1 | macOS 12.7.5 Monterey | x86_64 | 4.4.3 (2025-02-28) -- "Trophy Case" | 4522 |
| kjohnson1 | macOS 13.6.6 Ventura | arm64 | 4.4.3 (2025-02-28) -- "Trophy Case" | 4449 |
| taishan | Linux (openEuler 24.03 LTS) | aarch64 | 4.4.3 (2025-02-28) -- "Trophy Case" | 4426 |
| Click on any hostname to see more info about the system (e.g. compilers) (*) as reported by 'uname -p', except on Windows and Mac OS X | ||||
| Package 1432/2289 | Hostname | OS / Arch | INSTALL | BUILD | CHECK | BUILD BIN | ||||||||
| nucleR 2.38.0 (landing page) Alba Sala
| nebbiolo2 | Linux (Ubuntu 24.04.1 LTS) / x86_64 | OK | OK | WARNINGS | |||||||||
| palomino8 | Windows Server 2022 Datacenter / x64 | OK | OK | WARNINGS | OK | |||||||||
| merida1 | macOS 12.7.5 Monterey / x86_64 | OK | OK | WARNINGS | OK | |||||||||
| kjohnson1 | macOS 13.6.6 Ventura / arm64 | OK | OK | WARNINGS | OK | |||||||||
| taishan | Linux (openEuler 24.03 LTS) / aarch64 | OK | OK | WARNINGS | ||||||||||
|
To the developers/maintainers of the nucleR package: - Allow up to 24 hours (and sometimes 48 hours) for your latest push to git@git.bioconductor.org:packages/nucleR.git to reflect on this report. See Troubleshooting Build Report for more information. - Use the following Renviron settings to reproduce errors and warnings. - If 'R CMD check' started to fail recently on the Linux builder(s) over a missing dependency, add the missing dependency to 'Suggests:' in your DESCRIPTION file. See Renviron.bioc for more information. |
| Package: nucleR |
| Version: 2.38.0 |
| Command: F:\biocbuild\bbs-3.20-bioc\R\bin\R.exe CMD check --no-multiarch --install=check:nucleR.install-out.txt --library=F:\biocbuild\bbs-3.20-bioc\R\library --no-vignettes --timings nucleR_2.38.0.tar.gz |
| StartedAt: 2025-04-01 04:10:32 -0400 (Tue, 01 Apr 2025) |
| EndedAt: 2025-04-01 04:16:03 -0400 (Tue, 01 Apr 2025) |
| EllapsedTime: 331.8 seconds |
| RetCode: 0 |
| Status: WARNINGS |
| CheckDir: nucleR.Rcheck |
| Warnings: 1 |
##############################################################################
##############################################################################
###
### Running command:
###
### F:\biocbuild\bbs-3.20-bioc\R\bin\R.exe CMD check --no-multiarch --install=check:nucleR.install-out.txt --library=F:\biocbuild\bbs-3.20-bioc\R\library --no-vignettes --timings nucleR_2.38.0.tar.gz
###
##############################################################################
##############################################################################
* using log directory 'F:/biocbuild/bbs-3.20-bioc/meat/nucleR.Rcheck'
* using R version 4.4.3 (2025-02-28 ucrt)
* using platform: x86_64-w64-mingw32
* R was compiled by
gcc.exe (GCC) 13.3.0
GNU Fortran (GCC) 13.3.0
* running under: Windows Server 2022 x64 (build 20348)
* using session charset: UTF-8
* using option '--no-vignettes'
* checking for file 'nucleR/DESCRIPTION' ... OK
* checking extension type ... Package
* this is package 'nucleR' version '2.38.0'
* package encoding: UTF-8
* checking package namespace information ... OK
* checking package dependencies ... OK
* checking if this is a source package ... OK
* checking if there is a namespace ... OK
* checking for hidden files and directories ... OK
* checking for portable file names ... OK
* checking whether package 'nucleR' can be installed ... OK
* checking installed package size ... OK
* checking package directory ... OK
* checking 'build' directory ... OK
* checking DESCRIPTION meta-information ... OK
* checking top-level files ... OK
* checking for left-over files ... OK
* checking index information ... OK
* checking package subdirectories ... OK
* checking code files for non-ASCII characters ... OK
* checking R files for syntax errors ... OK
* checking whether the package can be loaded ... OK
* checking whether the package can be loaded with stated dependencies ... OK
* checking whether the package can be unloaded cleanly ... OK
* checking whether the namespace can be loaded with stated dependencies ... OK
* checking whether the namespace can be unloaded cleanly ... OK
* checking dependencies in R code ... OK
* checking S3 generic/method consistency ... OK
* checking replacement functions ... OK
* checking foreign function calls ... OK
* checking R code for possible problems ... OK
* checking Rd files ... OK
* checking Rd metadata ... OK
* checking Rd cross-references ... NOTE
Unknown package 'Starr' in Rd xrefs
* checking for missing documentation entries ... OK
* checking for code/documentation mismatches ... OK
* checking Rd \usage sections ... WARNING
Undocumented arguments in Rd file 'dot-fftRegion.Rd'
'data2' 'pcKeepComp'
Undocumented arguments in Rd file 'dot-loadFiles.Rd'
'singleLoad' 'pairedLoad'
Undocumented arguments in Rd file 'dot-loadPairedBam.Rd'
'file'
Undocumented arguments in Rd file 'dot-loadSingleBam.Rd'
'exp'
Undocumented arguments in Rd file 'dot-mid.Rd'
'x'
Undocumented arguments in Rd file 'dot-unlist_as_integer.Rd'
'x'
Undocumented arguments in Rd file 'dot-xlapply.Rd'
'X' 'FUN' '...' 'mc.cores'
Documented arguments not in \usage in Rd file 'pcKeepCompDetect.Rd':
'...'
Functions with \usage entries need to have the appropriate \alias
entries, and all their arguments documented.
The \usage entries must correspond to syntactically valid R code.
See chapter 'Writing R documentation files' in the 'Writing R
Extensions' manual.
* checking Rd contents ... OK
* checking for unstated dependencies in examples ... OK
* checking contents of 'data' directory ... OK
* checking data for non-ASCII characters ... OK
* checking data for ASCII and uncompressed saves ... OK
* checking files in 'vignettes' ... OK
* checking examples ... OK
Examples with CPU (user + system) or elapsed time > 5s
user system elapsed
syntheticNucMap 43.99 0.56 49.13
* checking for unstated dependencies in 'tests' ... OK
* checking tests ...
Running 'testthat.R'
OK
* checking for unstated dependencies in vignettes ... OK
* checking package vignettes ... OK
* checking running R code from vignettes ... SKIPPED
* checking re-building of vignette outputs ... SKIPPED
* checking PDF version of manual ... OK
* DONE
Status: 1 WARNING, 1 NOTE
See
'F:/biocbuild/bbs-3.20-bioc/meat/nucleR.Rcheck/00check.log'
for details.
nucleR.Rcheck/00install.out
############################################################################## ############################################################################## ### ### Running command: ### ### F:\biocbuild\bbs-3.20-bioc\R\bin\R.exe CMD INSTALL nucleR ### ############################################################################## ############################################################################## * installing to library 'F:/biocbuild/bbs-3.20-bioc/R/library' * installing *source* package 'nucleR' ... ** using staged installation ** R ** data ** inst ** byte-compile and prepare package for lazy loading Loading required package: usethis Welcome at Mon Mar 31 16:26:57 2025 Goodbye at Mon Mar 31 16:27:16 2025 ** help *** installing help indices ** building package indices Loading required package: usethis Welcome at Mon Mar 31 16:27:23 2025 Goodbye at Mon Mar 31 16:27:23 2025 ** installing vignettes ** testing if installed package can be loaded from temporary location Loading required package: usethis Welcome at Mon Mar 31 16:27:25 2025 Goodbye at Mon Mar 31 16:27:34 2025 ** testing if installed package can be loaded from final location Loading required package: usethis Welcome at Mon Mar 31 16:27:36 2025 Goodbye at Mon Mar 31 16:27:45 2025 ** testing if installed package keeps a record of temporary installation path * DONE (nucleR)
nucleR.Rcheck/tests/testthat.Rout
R version 4.4.3 (2025-02-28 ucrt) -- "Trophy Case"
Copyright (C) 2025 The R Foundation for Statistical Computing
Platform: x86_64-w64-mingw32/x64
R is free software and comes with ABSOLUTELY NO WARRANTY.
You are welcome to redistribute it under certain conditions.
Type 'license()' or 'licence()' for distribution details.
R is a collaborative project with many contributors.
Type 'contributors()' for more information and
'citation()' on how to cite R or R packages in publications.
Type 'demo()' for some demos, 'help()' for on-line help, or
'help.start()' for an HTML browser interface to help.
Type 'q()' to quit R.
> library(testthat)
> library(nucleR)
>
> test_check("nucleR")
[ FAIL 0 | WARN 0 | SKIP 0 | PASS 2 ]
>
> proc.time()
user system elapsed
11.79 0.79 12.53
nucleR.Rcheck/nucleR-Ex.timings
| name | user | system | elapsed | |
| controlCorrection | 0.10 | 0.00 | 0.09 | |
| coverage.rpm | 0.54 | 0.03 | 0.58 | |
| export.bed | 0.23 | 0.03 | 0.27 | |
| export.wig | 0.05 | 0.06 | 0.11 | |
| filterFFT | 1.52 | 0.07 | 2.06 | |
| fragmentLenDetect | 0.65 | 0.06 | 0.72 | |
| mergeCalls | 0.69 | 0.03 | 0.72 | |
| nucleR-package | 1.91 | 0.09 | 2.00 | |
| pcKeepCompDetect | 0.36 | 0.04 | 0.39 | |
| peakDetection | 1.97 | 0.07 | 2.06 | |
| peakScoring | 0.45 | 0.02 | 0.47 | |
| plotPeaks | 1.53 | 0.11 | 1.64 | |
| processReads | 0.41 | 0.02 | 0.43 | |
| processTilingArray | 0 | 0 | 0 | |
| readBAM | 0.12 | 0.00 | 0.12 | |
| syntheticNucMap | 43.99 | 0.56 | 49.13 | |