| Back to Multiple platform build/check report for BioC 3.20: simplified long | 
 | 
This page was generated on 2025-04-02 19:30 -0400 (Wed, 02 Apr 2025).
| Hostname | OS | Arch (*) | R version | Installed pkgs | 
|---|---|---|---|---|
| nebbiolo2 | Linux (Ubuntu 24.04.1 LTS) | x86_64 | 4.4.3 (2025-02-28) -- "Trophy Case" | 4764 | 
| palomino8 | Windows Server 2022 Datacenter | x64 | 4.4.3 (2025-02-28 ucrt) -- "Trophy Case" | 4495 | 
| merida1 | macOS 12.7.5 Monterey | x86_64 | 4.4.3 (2025-02-28) -- "Trophy Case" | 4522 | 
| kjohnson1 | macOS 13.6.6 Ventura | arm64 | 4.4.3 (2025-02-28) -- "Trophy Case" | 4449 | 
| taishan | Linux (openEuler 24.03 LTS) | aarch64 | 4.4.3 (2025-02-28) -- "Trophy Case" | 4426 | 
| Click on any hostname to see more info about the system (e.g. compilers) (*) as reported by 'uname -p', except on Windows and Mac OS X | ||||
| Package 1401/2289 | Hostname | OS / Arch | INSTALL | BUILD | CHECK | BUILD BIN | ||||||||
| nearBynding 1.16.0  (landing page) Veronica Busa 
 | nebbiolo2 | Linux (Ubuntu 24.04.1 LTS) / x86_64 | OK | OK | OK |  | ||||||||
| palomino8 | Windows Server 2022 Datacenter / x64 | OK | OK | OK | OK |  | ||||||||
| merida1 | macOS 12.7.5 Monterey / x86_64 | OK | OK | OK | OK |  | ||||||||
| kjohnson1 | macOS 13.6.6 Ventura / arm64 | OK | OK | OK | OK |  | ||||||||
| taishan | Linux (openEuler 24.03 LTS) / aarch64 | OK | OK | OK | ||||||||||
| To the developers/maintainers of the nearBynding package: - Allow up to 24 hours (and sometimes 48 hours) for your latest push to git@git.bioconductor.org:packages/nearBynding.git to reflect on this report. See Troubleshooting Build Report for more information. - Use the following Renviron settings to reproduce errors and warnings. - If 'R CMD check' started to fail recently on the Linux builder(s) over a missing dependency, add the missing dependency to 'Suggests:' in your DESCRIPTION file. See Renviron.bioc for more information. | 
| Package: nearBynding | 
| Version: 1.16.0 | 
| Command: F:\biocbuild\bbs-3.20-bioc\R\bin\R.exe CMD check --no-multiarch --install=check:nearBynding.install-out.txt --library=F:\biocbuild\bbs-3.20-bioc\R\library --no-vignettes --timings nearBynding_1.16.0.tar.gz | 
| StartedAt: 2025-04-01 04:03:36 -0400 (Tue, 01 Apr 2025) | 
| EndedAt: 2025-04-01 04:09:44 -0400 (Tue, 01 Apr 2025) | 
| EllapsedTime: 368.0 seconds | 
| RetCode: 0 | 
| Status: OK | 
| CheckDir: nearBynding.Rcheck | 
| Warnings: 0 | 
##############################################################################
##############################################################################
###
### Running command:
###
###   F:\biocbuild\bbs-3.20-bioc\R\bin\R.exe CMD check --no-multiarch --install=check:nearBynding.install-out.txt --library=F:\biocbuild\bbs-3.20-bioc\R\library --no-vignettes --timings nearBynding_1.16.0.tar.gz
###
##############################################################################
##############################################################################
* using log directory 'F:/biocbuild/bbs-3.20-bioc/meat/nearBynding.Rcheck'
* using R version 4.4.3 (2025-02-28 ucrt)
* using platform: x86_64-w64-mingw32
* R was compiled by
    gcc.exe (GCC) 13.3.0
    GNU Fortran (GCC) 13.3.0
* running under: Windows Server 2022 x64 (build 20348)
* using session charset: UTF-8
* using option '--no-vignettes'
* checking for file 'nearBynding/DESCRIPTION' ... OK
* checking extension type ... Package
* this is package 'nearBynding' version '1.16.0'
* package encoding: UTF-8
* checking package namespace information ... OK
* checking package dependencies ... OK
* checking if this is a source package ... OK
* checking if there is a namespace ... OK
* checking for hidden files and directories ... OK
* checking for portable file names ... OK
* checking whether package 'nearBynding' can be installed ... OK
* checking installed package size ... NOTE
  installed size is  7.1Mb
  sub-directories of 1Mb or more:
    extdata   6.9Mb
* checking package directory ... OK
* checking 'build' directory ... OK
* checking DESCRIPTION meta-information ... OK
* checking top-level files ... OK
* checking for left-over files ... OK
* checking index information ... OK
* checking package subdirectories ... OK
* checking code files for non-ASCII characters ... OK
* checking R files for syntax errors ... OK
* checking whether the package can be loaded ... OK
* checking whether the package can be loaded with stated dependencies ... OK
* checking whether the package can be unloaded cleanly ... OK
* checking whether the namespace can be loaded with stated dependencies ... OK
* checking whether the namespace can be unloaded cleanly ... OK
* checking dependencies in R code ... OK
* checking S3 generic/method consistency ... OK
* checking replacement functions ... OK
* checking foreign function calls ... OK
* checking R code for possible problems ... OK
* checking Rd files ... OK
* checking Rd metadata ... OK
* checking Rd cross-references ... OK
* checking for missing documentation entries ... OK
* checking for code/documentation mismatches ... OK
* checking Rd \usage sections ... OK
* checking Rd contents ... OK
* checking for unstated dependencies in examples ... OK
* checking sizes of PDF files under 'inst/doc' ... OK
* checking files in 'vignettes' ... OK
* checking examples ... OK
Examples with CPU (user + system) or elapsed time > 5s
                          user system elapsed
processCapRout           27.86   0.62   28.59
visualizeCapRStereogene  12.97   0.15   13.19
visualizeStereogene      12.52   0.08   12.63
GenomeMappingToChainFile  5.81   0.27    6.12
* checking for unstated dependencies in vignettes ... OK
* checking package vignettes ... OK
* checking running R code from vignettes ... SKIPPED
* checking re-building of vignette outputs ... SKIPPED
* checking PDF version of manual ... OK
* DONE
Status: 1 NOTE
See
  'F:/biocbuild/bbs-3.20-bioc/meat/nearBynding.Rcheck/00check.log'
for details.
nearBynding.Rcheck/00install.out
############################################################################## ############################################################################## ### ### Running command: ### ### F:\biocbuild\bbs-3.20-bioc\R\bin\R.exe CMD INSTALL nearBynding ### ############################################################################## ############################################################################## * installing to library 'F:/biocbuild/bbs-3.20-bioc/R/library' * installing *source* package 'nearBynding' ... ** using staged installation ** R ** inst ** byte-compile and prepare package for lazy loading ** help *** installing help indices ** building package indices ** installing vignettes ** testing if installed package can be loaded from temporary location ** testing if installed package can be loaded from final location ** testing if installed package keeps a record of temporary installation path * DONE (nearBynding)
nearBynding.Rcheck/nearBynding-Ex.timings
| name | user | system | elapsed | |
| CleanBAMtoBG | 0.02 | 0.03 | 0.08 | |
| CleanBEDtoBG | 0.00 | 0.01 | 0.03 | |
| ExtractTranscriptomeSequence | 0 | 0 | 0 | |
| GenomeMappingToChainFile | 5.81 | 0.27 | 6.12 | |
| assessGrouping | 1.36 | 0.03 | 1.39 | |
| bindingContextDistance | 0.22 | 0.01 | 0.44 | |
| bindingContextDistanceCapR | 0.58 | 0.02 | 0.62 | |
| getChainChrSize | 4.23 | 0.05 | 4.33 | |
| get_outfiles | 0.02 | 0.01 | 0.06 | |
| liftOverToExomicBG | 4.45 | 0.05 | 4.54 | |
| nearBynding-package | 0 | 0 | 0 | |
| processCapRout | 27.86 | 0.62 | 28.59 | |
| runCapR | 0 | 0 | 0 | |
| runStereogene | 0.00 | 0.02 | 0.01 | |
| runStereogeneOnCapR | 0.00 | 0.02 | 0.02 | |
| symmetryCapR | 0.47 | 0.00 | 0.52 | |
| symmetryContext | 0.14 | 0.03 | 0.20 | |
| visualizeCapRStereogene | 12.97 | 0.15 | 13.19 | |
| visualizeStereogene | 12.52 | 0.08 | 12.63 | |
| write_config | 0 | 0 | 0 | |
| write_fasta | 0 | 0 | 0 | |