| Back to Multiple platform build/check report for BioC 3.20: simplified long | 
 | 
This page was generated on 2025-04-02 19:28 -0400 (Wed, 02 Apr 2025).
| Hostname | OS | Arch (*) | R version | Installed pkgs | 
|---|---|---|---|---|
| nebbiolo2 | Linux (Ubuntu 24.04.1 LTS) | x86_64 | 4.4.3 (2025-02-28) -- "Trophy Case" | 4764 | 
| palomino8 | Windows Server 2022 Datacenter | x64 | 4.4.3 (2025-02-28 ucrt) -- "Trophy Case" | 4495 | 
| merida1 | macOS 12.7.5 Monterey | x86_64 | 4.4.3 (2025-02-28) -- "Trophy Case" | 4522 | 
| kjohnson1 | macOS 13.6.6 Ventura | arm64 | 4.4.3 (2025-02-28) -- "Trophy Case" | 4449 | 
| taishan | Linux (openEuler 24.03 LTS) | aarch64 | 4.4.3 (2025-02-28) -- "Trophy Case" | 4426 | 
| Click on any hostname to see more info about the system (e.g. compilers) (*) as reported by 'uname -p', except on Windows and Mac OS X | ||||
| Package 1296/2289 | Hostname | OS / Arch | INSTALL | BUILD | CHECK | BUILD BIN | ||||||||
| mobileRNA 1.2.0  (landing page) Katie Jeynes-Cupper 
 | nebbiolo2 | Linux (Ubuntu 24.04.1 LTS) / x86_64 | OK | OK | OK |  | ||||||||
| palomino8 | Windows Server 2022 Datacenter / x64 | OK | OK | OK | OK |  | ||||||||
| merida1 | macOS 12.7.5 Monterey / x86_64 | OK | OK | OK | OK |  | ||||||||
| kjohnson1 | macOS 13.6.6 Ventura / arm64 | OK | OK | OK | OK |  | ||||||||
| taishan | Linux (openEuler 24.03 LTS) / aarch64 | OK | OK | OK | ||||||||||
| To the developers/maintainers of the mobileRNA package: - Allow up to 24 hours (and sometimes 48 hours) for your latest push to git@git.bioconductor.org:packages/mobileRNA.git to reflect on this report. See Troubleshooting Build Report for more information. - Use the following Renviron settings to reproduce errors and warnings. - If 'R CMD check' started to fail recently on the Linux builder(s) over a missing dependency, add the missing dependency to 'Suggests:' in your DESCRIPTION file. See Renviron.bioc for more information. | 
| Package: mobileRNA | 
| Version: 1.2.0 | 
| Command: /home/biocbuild/bbs-3.20-bioc/R/bin/R CMD check --install=check:mobileRNA.install-out.txt --library=/home/biocbuild/bbs-3.20-bioc/R/site-library --timings mobileRNA_1.2.0.tar.gz | 
| StartedAt: 2025-04-01 00:02:29 -0400 (Tue, 01 Apr 2025) | 
| EndedAt: 2025-04-01 00:08:12 -0400 (Tue, 01 Apr 2025) | 
| EllapsedTime: 343.3 seconds | 
| RetCode: 0 | 
| Status: OK | 
| CheckDir: mobileRNA.Rcheck | 
| Warnings: 0 | 
##############################################################################
##############################################################################
###
### Running command:
###
###   /home/biocbuild/bbs-3.20-bioc/R/bin/R CMD check --install=check:mobileRNA.install-out.txt --library=/home/biocbuild/bbs-3.20-bioc/R/site-library --timings mobileRNA_1.2.0.tar.gz
###
##############################################################################
##############################################################################
* using log directory ‘/home/biocbuild/bbs-3.20-bioc/meat/mobileRNA.Rcheck’
* using R version 4.4.3 (2025-02-28)
* using platform: x86_64-pc-linux-gnu
* R was compiled by
    gcc (Ubuntu 13.3.0-6ubuntu2~24.04) 13.3.0
    GNU Fortran (Ubuntu 13.3.0-6ubuntu2~24.04) 13.3.0
* running under: Ubuntu 24.04.2 LTS
* using session charset: UTF-8
* checking for file ‘mobileRNA/DESCRIPTION’ ... OK
* checking extension type ... Package
* this is package ‘mobileRNA’ version ‘1.2.0’
* package encoding: UTF-8
* checking package namespace information ... OK
* checking package dependencies ... OK
* checking if this is a source package ... OK
* checking if there is a namespace ... OK
* checking for hidden files and directories ... OK
* checking for portable file names ... OK
* checking for sufficient/correct file permissions ... OK
* checking whether package ‘mobileRNA’ can be installed ... OK
* checking installed package size ... OK
* checking package directory ... OK
* checking ‘build’ directory ... OK
* checking DESCRIPTION meta-information ... OK
* checking top-level files ... OK
* checking for left-over files ... OK
* checking index information ... OK
* checking package subdirectories ... OK
* checking code files for non-ASCII characters ... OK
* checking R files for syntax errors ... OK
* checking whether the package can be loaded ... OK
* checking whether the package can be loaded with stated dependencies ... OK
* checking whether the package can be unloaded cleanly ... OK
* checking whether the namespace can be loaded with stated dependencies ... OK
* checking whether the namespace can be unloaded cleanly ... OK
* checking loading without being on the library search path ... OK
* checking dependencies in R code ... OK
* checking S3 generic/method consistency ... OK
* checking replacement functions ... OK
* checking foreign function calls ... OK
* checking R code for possible problems ... OK
* checking Rd files ... OK
* checking Rd metadata ... OK
* checking Rd cross-references ... OK
* checking for missing documentation entries ... OK
* checking for code/documentation mismatches ... OK
* checking Rd \usage sections ... OK
* checking Rd contents ... OK
* checking for unstated dependencies in examples ... OK
* checking contents of ‘data’ directory ... OK
* checking data for non-ASCII characters ... OK
* checking data for ASCII and uncompressed saves ... OK
* checking files in ‘vignettes’ ... OK
* checking examples ... OK
Examples with CPU (user + system) or elapsed time > 5s
                          user system elapsed
RNAdistribution         10.777  0.218  10.996
RNAdicercall            10.250  0.627  10.878
RNAsubset               10.298  0.162  10.473
RNAdifferentialAnalysis  7.224  0.529   7.752
RNAsummary               5.608  0.183   5.791
* checking for unstated dependencies in vignettes ... OK
* checking package vignettes ... OK
* checking re-building of vignette outputs ... OK
* checking PDF version of manual ... OK
* DONE
Status: OK
mobileRNA.Rcheck/00install.out
############################################################################## ############################################################################## ### ### Running command: ### ### /home/biocbuild/bbs-3.20-bioc/R/bin/R CMD INSTALL mobileRNA ### ############################################################################## ############################################################################## * installing to library ‘/home/biocbuild/bbs-3.20-bioc/R/site-library’ * installing *source* package ‘mobileRNA’ ... ** using staged installation ** R ** data ** inst ** byte-compile and prepare package for lazy loading ** help *** installing help indices *** copying figures ** building package indices ** installing vignettes ** testing if installed package can be loaded from temporary location ** testing if installed package can be loaded from final location ** testing if installed package keeps a record of temporary installation path * DONE (mobileRNA)
mobileRNA.Rcheck/mobileRNA-Ex.timings
| name | user | system | elapsed | |
| RNAattributes | 1.810 | 0.350 | 2.159 | |
| RNAdf2se | 0.266 | 0.004 | 0.269 | |
| RNAdicercall | 10.250 | 0.627 | 10.878 | |
| RNAdifferentialAnalysis | 7.224 | 0.529 | 7.752 | |
| RNAdistribution | 10.777 | 0.218 | 10.996 | |
| RNAfeatures | 1.184 | 0.018 | 1.203 | |
| RNAimport | 0 | 0 | 0 | |
| RNAmergeAnnotations | 0.266 | 0.004 | 0.271 | |
| RNAmergeGenomes | 0.046 | 0.003 | 0.050 | |
| RNAmobile | 0.597 | 0.016 | 0.613 | |
| RNApopulation | 1.896 | 0.020 | 1.916 | |
| RNAreorder | 0.163 | 0.008 | 0.171 | |
| RNAsequences | 1.318 | 0.021 | 1.339 | |
| RNAsubset | 10.298 | 0.162 | 10.473 | |
| RNAsummary | 5.608 | 0.183 | 5.791 | |
| mRNA_data | 0.040 | 0.001 | 0.041 | |
| mapRNA | 0 | 0 | 0 | |
| plotHeatmap | 0.585 | 0.027 | 0.613 | |
| plotRNAfeatures | 0.979 | 0.039 | 1.019 | |
| plotSampleDistance | 2.368 | 0.030 | 2.398 | |
| plotSamplePCA | 2.848 | 0.011 | 2.858 | |
| sRNA_data | 0.137 | 0.004 | 0.140 | |