| Back to Multiple platform build/check report for BioC 3.20: simplified long |
|
This page was generated on 2025-04-02 19:30 -0400 (Wed, 02 Apr 2025).
| Hostname | OS | Arch (*) | R version | Installed pkgs |
|---|---|---|---|---|
| nebbiolo2 | Linux (Ubuntu 24.04.1 LTS) | x86_64 | 4.4.3 (2025-02-28) -- "Trophy Case" | 4764 |
| palomino8 | Windows Server 2022 Datacenter | x64 | 4.4.3 (2025-02-28 ucrt) -- "Trophy Case" | 4495 |
| merida1 | macOS 12.7.5 Monterey | x86_64 | 4.4.3 (2025-02-28) -- "Trophy Case" | 4522 |
| kjohnson1 | macOS 13.6.6 Ventura | arm64 | 4.4.3 (2025-02-28) -- "Trophy Case" | 4449 |
| taishan | Linux (openEuler 24.03 LTS) | aarch64 | 4.4.3 (2025-02-28) -- "Trophy Case" | 4426 |
| Click on any hostname to see more info about the system (e.g. compilers) (*) as reported by 'uname -p', except on Windows and Mac OS X | ||||
| Package 1287/2289 | Hostname | OS / Arch | INSTALL | BUILD | CHECK | BUILD BIN | ||||||||
| mitoClone2 1.12.0 (landing page) Benjamin Story
| nebbiolo2 | Linux (Ubuntu 24.04.1 LTS) / x86_64 | OK | OK | WARNINGS | |||||||||
| palomino8 | Windows Server 2022 Datacenter / x64 | OK | OK | WARNINGS | OK | |||||||||
| merida1 | macOS 12.7.5 Monterey / x86_64 | OK | OK | WARNINGS | OK | |||||||||
| kjohnson1 | macOS 13.6.6 Ventura / arm64 | OK | OK | WARNINGS | OK | |||||||||
| taishan | Linux (openEuler 24.03 LTS) / aarch64 | OK | OK | WARNINGS | ||||||||||
|
To the developers/maintainers of the mitoClone2 package: - Allow up to 24 hours (and sometimes 48 hours) for your latest push to git@git.bioconductor.org:packages/mitoClone2.git to reflect on this report. See Troubleshooting Build Report for more information. - Use the following Renviron settings to reproduce errors and warnings. - If 'R CMD check' started to fail recently on the Linux builder(s) over a missing dependency, add the missing dependency to 'Suggests:' in your DESCRIPTION file. See Renviron.bioc for more information. |
| Package: mitoClone2 |
| Version: 1.12.0 |
| Command: F:\biocbuild\bbs-3.20-bioc\R\bin\R.exe CMD INSTALL mitoClone2 |
| StartedAt: 2025-03-31 16:17:28 -0400 (Mon, 31 Mar 2025) |
| EndedAt: 2025-03-31 16:19:20 -0400 (Mon, 31 Mar 2025) |
| EllapsedTime: 111.6 seconds |
| RetCode: 0 |
| Status: OK |
##############################################################################
##############################################################################
###
### Running command:
###
### F:\biocbuild\bbs-3.20-bioc\R\bin\R.exe CMD INSTALL mitoClone2
###
##############################################################################
##############################################################################
* installing to library 'F:/biocbuild/bbs-3.20-bioc/R/library'
* installing *source* package 'mitoClone2' ...
** using staged installation
** libs
using C++ compiler: 'G__~1.EXE (GCC) 13.3.0'
g++ -std=gnu++17 -D_FILE_OFFSET_BITS=64 ../inst/SCITEpkg/*.cpp -o scite
../inst/SCITEpkg/findBestTrees.cpp:58:8: warning: built-in function 'gamma' declared as non-function [-Wbuiltin-declaration-mismatch]
58 | double gamma = 1;
| ^~~~~
mkdir -p "F:/biocbuild/bbs-3.20-bioc/R/library/00LOCK-mitoClone2/00new/mitoClone2/SCITE/"
cp scite "F:/biocbuild/bbs-3.20-bioc/R/library/00LOCK-mitoClone2/00new/mitoClone2/SCITE/"
rm scite
g++ -std=gnu++17 -I"F:/biocbuild/bbs-3.20-bioc/R/include" -DNDEBUG -D_FILE_OFFSET_BITS=64 -I'F:/biocbuild/bbs-3.20-bioc/R/library/Rhtslib/include' -I"C:/rtools44/x86_64-w64-mingw32.static.posix/include" -O2 -Wall -mfpmath=sse -msse2 -mstackrealign -c bam2R_10x.cpp -o bam2R_10x.o
bam2R_10x.cpp:6:2: warning: "/*" within comment [-Wcomment]
6 | /**************************************************************************************
|
bam2R_10x.cpp:8:1: warning: "/*" within comment [-Wcomment]
8 | /**********************************************************************
|
bam2R_10x.cpp: In function 'void bam2R_pileup_function(const bam_pileup1_t*, int, int, nttable_t&, std::map<std::__cxx11::basic_string<char>, std::vector<int> >&)':
bam2R_10x.cpp:75:17: warning: unused variable 'bc_absent' [-Wunused-variable]
75 | int bc_absent;
| ^~~~~~~~~
bam2R_10x.cpp: In function 'SEXPREC* bam2R_10x(SEXP, SEXP, SEXP, SEXP, int*, SEXP, SEXP, SEXP, SEXP, SEXP, SEXP, SEXP, SEXP, SEXP)':
bam2R_10x.cpp:158:16: warning: unused variable 'iter' [-Wunused-variable]
158 | hts_itr_t *iter = NULL;
| ^~~~
bam2R_10x.cpp:161:9: warning: unused variable 'c' [-Wunused-variable]
161 | int c = 0;
| ^
g++ -std=gnu++17 -shared -s -static-libgcc -o mitoClone2.dll tmp.def bam2R_10x.o F:/biocbuild/bbs-3.20-bioc/R/library/Rhtslib/usrlib/x64/libhts.a -lm -lbz2 -llzma -lcurl -lpsl -lbrotlidec -lbrotlicommon -lbcrypt -lidn2 -lunistring -liconv -lssl -lcrypto -lz -lcrypt32 -lwsock32 -lwldap32 -lssh2 -lgcrypt -lgpg-error -lws2_32 -lzstd -lregex -LC:/rtools44/x86_64-w64-mingw32.static.posix/lib/x64 -LC:/rtools44/x86_64-w64-mingw32.static.posix/lib -LF:/biocbuild/bbs-3.20-bioc/R/bin/x64 -lR
installing to F:/biocbuild/bbs-3.20-bioc/R/library/00LOCK-mitoClone2/00new/mitoClone2/libs/x64
** R
** data
** inst
** byte-compile and prepare package for lazy loading
** help
*** installing help indices
*** copying figures
** building package indices
** installing vignettes
** testing if installed package can be loaded from temporary location
** testing if installed package can be loaded from final location
** testing if installed package keeps a record of temporary installation path
* DONE (mitoClone2)