| Back to Multiple platform build/check report for BioC 3.20: simplified long | 
 | 
This page was generated on 2024-07-16 11:40 -0400 (Tue, 16 Jul 2024).
| Hostname | OS | Arch (*) | R version | Installed pkgs | 
|---|---|---|---|---|
| nebbiolo2 | Linux (Ubuntu 22.04.3 LTS) | x86_64 | 4.4.1 (2024-06-14) -- "Race for Your Life" | 4677 | 
| palomino6 | Windows Server 2022 Datacenter | x64 | 4.4.1 (2024-06-14 ucrt) -- "Race for Your Life" | 4416 | 
| lconway | macOS 12.7.1 Monterey | x86_64 | 4.4.1 (2024-06-14) -- "Race for Your Life" | 4444 | 
| kjohnson3 | macOS 13.6.5 Ventura | arm64 | 4.4.1 (2024-06-14) -- "Race for Your Life" | 4393 | 
| palomino8 | Windows Server 2022 Datacenter | x64 | 4.4.1 (2024-06-14 ucrt) -- "Race for Your Life" | 4373 | 
| Click on any hostname to see more info about the system (e.g. compilers) (*) as reported by 'uname -p', except on Windows and Mac OS X | ||||
| Package 1257/2243 | Hostname | OS / Arch | INSTALL | BUILD | CHECK | BUILD BIN | ||||||||
| miRSM 2.1.0  (landing page) Junpeng Zhang 
 | nebbiolo2 | Linux (Ubuntu 22.04.3 LTS) / x86_64 | OK | OK | OK |  | ||||||||
| palomino6 | Windows Server 2022 Datacenter / x64 | OK | OK | OK | OK | |||||||||
| lconway | macOS 12.7.1 Monterey / x86_64 | OK | OK | OK | OK |  | ||||||||
| kjohnson3 | macOS 13.6.5 Ventura / arm64 | OK | OK | OK | OK |  | ||||||||
| palomino8 | Windows Server 2022 Datacenter / x64 | OK | OK | OK | OK | |||||||||
| To the developers/maintainers of the miRSM package: - Allow up to 24 hours (and sometimes 48 hours) for your latest push to git@git.bioconductor.org:packages/miRSM.git to reflect on this report. See Troubleshooting Build Report for more information. - Use the following Renviron settings to reproduce errors and warnings. - If 'R CMD check' started to fail recently on the Linux builder(s) over a missing dependency, add the missing dependency to 'Suggests:' in your DESCRIPTION file. See Renviron.bioc for more information. | 
| Package: miRSM | 
| Version: 2.1.0 | 
| Command: C:\Users\biocbuild\bbs-3.20-bioc\R\bin\R.exe CMD check --no-multiarch --install=check:miRSM.install-out.txt --library=C:\Users\biocbuild\bbs-3.20-bioc\R\library --no-vignettes --timings miRSM_2.1.0.tar.gz | 
| StartedAt: 2024-07-16 01:49:45 -0400 (Tue, 16 Jul 2024) | 
| EndedAt: 2024-07-16 01:56:22 -0400 (Tue, 16 Jul 2024) | 
| EllapsedTime: 397.4 seconds | 
| RetCode: 0 | 
| Status: OK | 
| CheckDir: miRSM.Rcheck | 
| Warnings: 0 | 
##############################################################################
##############################################################################
###
### Running command:
###
###   C:\Users\biocbuild\bbs-3.20-bioc\R\bin\R.exe CMD check --no-multiarch --install=check:miRSM.install-out.txt --library=C:\Users\biocbuild\bbs-3.20-bioc\R\library --no-vignettes --timings miRSM_2.1.0.tar.gz
###
##############################################################################
##############################################################################
* using log directory 'C:/Users/biocbuild/bbs-3.20-bioc/meat/miRSM.Rcheck'
* using R version 4.4.1 (2024-06-14 ucrt)
* using platform: x86_64-w64-mingw32
* R was compiled by
    gcc.exe (GCC) 13.2.0
    GNU Fortran (GCC) 13.2.0
* running under: Windows Server 2022 x64 (build 20348)
* using session charset: UTF-8
* using option '--no-vignettes'
* checking for file 'miRSM/DESCRIPTION' ... OK
* checking extension type ... Package
* this is package 'miRSM' version '2.1.0'
* package encoding: UTF-8
* checking package namespace information ... OK
* checking package dependencies ... OK
* checking if this is a source package ... OK
* checking if there is a namespace ... OK
* checking for hidden files and directories ... OK
* checking for portable file names ... OK
* checking whether package 'miRSM' can be installed ... OK
* used C compiler: 'gcc.exe (GCC) 13.2.0'
* checking installed package size ... OK
* checking package directory ... OK
* checking 'build' directory ... OK
* checking DESCRIPTION meta-information ... OK
* checking top-level files ... OK
* checking for left-over files ... OK
* checking index information ... OK
* checking package subdirectories ... OK
* checking code files for non-ASCII characters ... OK
* checking R files for syntax errors ... OK
* checking whether the package can be loaded ... OK
* checking whether the package can be loaded with stated dependencies ... OK
* checking whether the package can be unloaded cleanly ... OK
* checking whether the namespace can be loaded with stated dependencies ... OK
* checking whether the namespace can be unloaded cleanly ... OK
* checking whether startup messages can be suppressed ... OK
* checking dependencies in R code ... OK
* checking S3 generic/method consistency ... OK
* checking replacement functions ... OK
* checking foreign function calls ... OK
* checking R code for possible problems ... OK
* checking Rd files ... NOTE
checkRd: (-1) module_GFA.Rd:47: Lost braces
    47 | Bunte K, Lepp\'{a}aho E, Saarinen I, Kaski S. 
       |                ^
checkRd: (-1) module_GFA.Rd:50: Lost braces
    50 | Lepp\'{a}aho E, Ammad-ud-din M, Kaski S. GFA: 
       |       ^
checkRd: (-1) module_biclust.Rd:54: Lost braces
    54 | Preli\'{c} A, Bleuler S, Zimmermann P, Wille A, 
       |        ^
checkRd: (-1) module_biclust.Rd:55: Lost braces
    55 | B\'{u}hlmann P, Gruissem W, Hennig L, Thiele L, Zitzler E. 
       |    ^
checkRd: (-1) module_biclust.Rd:80: Lost braces
    80 | Talloen W, Bijnens L, G\'{o}hlmann HW, Shkedy Z, Clevert DA. 
       |                          ^
* checking Rd metadata ... OK
* checking Rd cross-references ... OK
* checking for missing documentation entries ... OK
* checking for code/documentation mismatches ... OK
* checking Rd \usage sections ... OK
* checking Rd contents ... OK
* checking for unstated dependencies in examples ... OK
* checking contents of 'data' directory ... OK
* checking data for non-ASCII characters ... OK
* checking data for ASCII and uncompressed saves ... OK
* checking line endings in C/C++/Fortran sources/headers ... OK
* checking compiled code ... NOTE
Note: information on .o files for x64 is not available
File 'C:/Users/biocbuild/bbs-3.20-bioc/R/library/miRSM/libs/x64/miRSM.dll':
  Found '_exit', possibly from '_exit' (C)
  Found 'abort', possibly from 'abort' (C), 'runtime' (Fortran)
Compiled code should not call entry points which might terminate R nor
write to stdout/stderr instead of to the console, nor use Fortran I/O
nor system RNGs nor [v]sprintf. The detected symbols are linked into
the code but might come from libraries and not actually be called.
See 'Writing portable packages' in the 'Writing R Extensions' manual.
* checking files in 'vignettes' ... OK
* checking examples ... OK
Examples with CPU (user + system) or elapsed time > 5s
            user system elapsed
diff_module 7.97   0.13    8.03
miRSM_SS    6.64   0.12    6.74
share_miRs  5.83   0.04    5.91
* checking for unstated dependencies in 'tests' ... OK
* checking tests ...
  Running 'test_miRSM.R'
 OK
* checking for unstated dependencies in vignettes ... OK
* checking package vignettes ... OK
* checking running R code from vignettes ... SKIPPED
* checking re-building of vignette outputs ... SKIPPED
* checking PDF version of manual ... OK
* DONE
Status: 2 NOTEs
See
  'C:/Users/biocbuild/bbs-3.20-bioc/meat/miRSM.Rcheck/00check.log'
for details.
miRSM.Rcheck/00install.out
############################################################################## ############################################################################## ### ### Running command: ### ### C:\Users\biocbuild\bbs-3.20-bioc\R\bin\R.exe CMD INSTALL miRSM ### ############################################################################## ############################################################################## * installing to library 'C:/Users/biocbuild/bbs-3.20-bioc/R/library' * installing *source* package 'miRSM' ... ** using staged installation ** libs using C compiler: 'gcc.exe (GCC) 13.2.0' gcc -I"C:/Users/biocbuild/bbs-3.20-bioc/R/include" -DNDEBUG -I"C:/rtools44/x86_64-w64-mingw32.static.posix/include" -O2 -Wall -mfpmath=sse -msse2 -mstackrealign -c complex.c -o complex.o gcc -I"C:/Users/biocbuild/bbs-3.20-bioc/R/include" -DNDEBUG -I"C:/rtools44/x86_64-w64-mingw32.static.posix/include" -O2 -Wall -mfpmath=sse -msse2 -mstackrealign -c registerDynamicSymbol.c -o registerDynamicSymbol.o gcc -shared -s -static-libgcc -o miRSM.dll tmp.def complex.o registerDynamicSymbol.o -LC:/rtools44/x86_64-w64-mingw32.static.posix/lib/x64 -LC:/rtools44/x86_64-w64-mingw32.static.posix/lib -LC:/Users/biocbuild/bbs-3.20-bioc/R/bin/x64 -lR installing to C:/Users/biocbuild/bbs-3.20-bioc/R/library/00LOCK-miRSM/00new/miRSM/libs/x64 ** R ** data ** inst ** byte-compile and prepare package for lazy loading ** help *** installing help indices ** building package indices ** installing vignettes ** testing if installed package can be loaded from temporary location ** testing if installed package can be loaded from final location ** testing if installed package keeps a record of temporary installation path * DONE (miRSM)
miRSM.Rcheck/tests/test_miRSM.Rout
R version 4.4.1 (2024-06-14 ucrt) -- "Race for Your Life"
Copyright (C) 2024 The R Foundation for Statistical Computing
Platform: x86_64-w64-mingw32/x64
R is free software and comes with ABSOLUTELY NO WARRANTY.
You are welcome to redistribute it under certain conditions.
Type 'license()' or 'licence()' for distribution details.
R is a collaborative project with many contributors.
Type 'contributors()' for more information and
'citation()' on how to cite R or R packages in publications.
Type 'demo()' for some demos, 'help()' for on-line help, or
'help.start()' for an HTML browser interface to help.
Type 'q()' to quit R.
> suppressPackageStartupMessages(library(testthat))
> suppressPackageStartupMessages(library(GSEABase))
> suppressPackageStartupMessages(library(miRSM))
> 
> # Load datasets
> data(BRCASampleData)
> 
> # Identify gene co-expression modules using igraph method
> modulegenes_igraph <- module_igraph(ceRExp[, seq_len(10)], 
+     mRExp[, seq_len(10)])
> 
> 
> test_that("Test miRSM", {
+     expect_equal(geneIds(module_igraph(ceRExp[, seq_len(10)], 
+         mRExp[, seq_len(10)])), geneIds(modulegenes_igraph))
+ })
Test passed 🥇
> 
> proc.time()
   user  system elapsed 
  13.76    1.62   15.40 
miRSM.Rcheck/miRSM-Ex.timings
| name | user | system | elapsed | |
| cor_binary | 1.06 | 0.02 | 1.08 | |
| diff_module | 7.97 | 0.13 | 8.03 | |
| miRSM | 0.14 | 0.03 | 0.17 | |
| miRSM_SS | 6.64 | 0.12 | 6.74 | |
| module_CEA | 2.52 | 0.08 | 2.59 | |
| module_Coexpress | 3.12 | 0.03 | 3.16 | |
| module_FA | 0 | 0 | 0 | |
| module_GFA | 3.57 | 0.22 | 3.79 | |
| module_NMF | 2.57 | 0.05 | 2.63 | |
| module_ProNet | 0.08 | 0.03 | 0.11 | |
| module_Validate | 2.76 | 0.12 | 2.89 | |
| module_WGCNA | 2.22 | 0.00 | 2.24 | |
| module_biclust | 0.38 | 0.00 | 0.37 | |
| module_clust | 0.09 | 0.00 | 0.10 | |
| module_group_sim | 2.75 | 0.13 | 2.86 | |
| module_igraph | 0.09 | 0.00 | 0.09 | |
| module_miRdistribute | 2.75 | 0.08 | 2.83 | |
| module_miRsponge | 3.08 | 0.06 | 3.14 | |
| module_miRtarget | 2.62 | 0.08 | 2.66 | |
| share_miRs | 5.83 | 0.04 | 5.91 | |