| Back to Multiple platform build/check report for BioC 3.20: simplified long |
|
This page was generated on 2025-04-02 19:30 -0400 (Wed, 02 Apr 2025).
| Hostname | OS | Arch (*) | R version | Installed pkgs |
|---|---|---|---|---|
| nebbiolo2 | Linux (Ubuntu 24.04.1 LTS) | x86_64 | 4.4.3 (2025-02-28) -- "Trophy Case" | 4764 |
| palomino8 | Windows Server 2022 Datacenter | x64 | 4.4.3 (2025-02-28 ucrt) -- "Trophy Case" | 4495 |
| merida1 | macOS 12.7.5 Monterey | x86_64 | 4.4.3 (2025-02-28) -- "Trophy Case" | 4522 |
| kjohnson1 | macOS 13.6.6 Ventura | arm64 | 4.4.3 (2025-02-28) -- "Trophy Case" | 4449 |
| taishan | Linux (openEuler 24.03 LTS) | aarch64 | 4.4.3 (2025-02-28) -- "Trophy Case" | 4426 |
| Click on any hostname to see more info about the system (e.g. compilers) (*) as reported by 'uname -p', except on Windows and Mac OS X | ||||
| Package 1230/2289 | Hostname | OS / Arch | INSTALL | BUILD | CHECK | BUILD BIN | ||||||||
| methylKit 1.32.1 (landing page) Altuna Akalin
| nebbiolo2 | Linux (Ubuntu 24.04.1 LTS) / x86_64 | OK | OK | OK | |||||||||
| palomino8 | Windows Server 2022 Datacenter / x64 | OK | OK | OK | OK | |||||||||
| merida1 | macOS 12.7.5 Monterey / x86_64 | OK | OK | OK | OK | |||||||||
| kjohnson1 | macOS 13.6.6 Ventura / arm64 | OK | OK | OK | OK | |||||||||
| taishan | Linux (openEuler 24.03 LTS) / aarch64 | OK | OK | OK | ||||||||||
|
To the developers/maintainers of the methylKit package: - Allow up to 24 hours (and sometimes 48 hours) for your latest push to git@git.bioconductor.org:packages/methylKit.git to reflect on this report. See Troubleshooting Build Report for more information. - Use the following Renviron settings to reproduce errors and warnings. - If 'R CMD check' started to fail recently on the Linux builder(s) over a missing dependency, add the missing dependency to 'Suggests:' in your DESCRIPTION file. See Renviron.bioc for more information. |
| Package: methylKit |
| Version: 1.32.1 |
| Command: F:\biocbuild\bbs-3.20-bioc\R\bin\R.exe CMD check --no-multiarch --install=check:methylKit.install-out.txt --library=F:\biocbuild\bbs-3.20-bioc\R\library --no-vignettes --timings methylKit_1.32.1.tar.gz |
| StartedAt: 2025-04-01 03:20:12 -0400 (Tue, 01 Apr 2025) |
| EndedAt: 2025-04-01 03:29:37 -0400 (Tue, 01 Apr 2025) |
| EllapsedTime: 565.3 seconds |
| RetCode: 0 |
| Status: OK |
| CheckDir: methylKit.Rcheck |
| Warnings: 0 |
##############################################################################
##############################################################################
###
### Running command:
###
### F:\biocbuild\bbs-3.20-bioc\R\bin\R.exe CMD check --no-multiarch --install=check:methylKit.install-out.txt --library=F:\biocbuild\bbs-3.20-bioc\R\library --no-vignettes --timings methylKit_1.32.1.tar.gz
###
##############################################################################
##############################################################################
* using log directory 'F:/biocbuild/bbs-3.20-bioc/meat/methylKit.Rcheck'
* using R version 4.4.3 (2025-02-28 ucrt)
* using platform: x86_64-w64-mingw32
* R was compiled by
gcc.exe (GCC) 13.3.0
GNU Fortran (GCC) 13.3.0
* running under: Windows Server 2022 x64 (build 20348)
* using session charset: UTF-8
* using option '--no-vignettes'
* checking for file 'methylKit/DESCRIPTION' ... OK
* checking extension type ... Package
* this is package 'methylKit' version '1.32.1'
* checking package namespace information ... OK
* checking package dependencies ... OK
* checking if this is a source package ... OK
* checking if there is a namespace ... OK
* checking for hidden files and directories ... OK
* checking for portable file names ... OK
* checking whether package 'methylKit' can be installed ... OK
* used C++ compiler: 'G__~1.EXE (GCC) 13.3.0'
* checking C++ specification ... NOTE
Specified C++11: please drop specification unless essential
* checking installed package size ... NOTE
installed size is 14.2Mb
sub-directories of 1Mb or more:
R 1.4Mb
libs 11.4Mb
* checking package directory ... OK
* checking 'build' directory ... OK
* checking DESCRIPTION meta-information ... OK
* checking top-level files ... OK
* checking for left-over files ... OK
* checking index information ... OK
* checking package subdirectories ... NOTE
Problems with news in 'NEWS':
Cannot process chunk/lines:
returns the same object for the same content
* checking code files for non-ASCII characters ... OK
* checking R files for syntax errors ... OK
* checking whether the package can be loaded ... OK
* checking whether the package can be loaded with stated dependencies ... OK
* checking whether the package can be unloaded cleanly ... OK
* checking whether the namespace can be loaded with stated dependencies ... OK
* checking whether the namespace can be unloaded cleanly ... OK
* checking dependencies in R code ... NOTE
Namespace in Imports field not imported from: 'KernSmooth'
All declared Imports should be used.
* checking S3 generic/method consistency ... OK
* checking replacement functions ... OK
* checking foreign function calls ... OK
* checking R code for possible problems ... OK
* checking Rd files ... OK
* checking Rd metadata ... OK
* checking Rd cross-references ... OK
* checking for missing documentation entries ... OK
* checking for code/documentation mismatches ... OK
* checking Rd \usage sections ... OK
* checking Rd contents ... OK
* checking for unstated dependencies in examples ... OK
* checking contents of 'data' directory ... OK
* checking data for non-ASCII characters ... OK
* checking data for ASCII and uncompressed saves ... OK
* checking line endings in C/C++/Fortran sources/headers ... OK
* checking line endings in Makefiles ... OK
* checking compilation flags in Makevars ... OK
* checking for GNU extensions in Makefiles ... NOTE
GNU make is a SystemRequirements.
* checking for portable use of $(BLAS_LIBS) and $(LAPACK_LIBS) ... OK
* checking use of PKG_*FLAGS in Makefiles ... OK
* checking compiled code ... NOTE
Note: information on .o files for x64 is not available
File 'F:/biocbuild/bbs-3.20-bioc/R/library/methylKit/libs/x64/methylKit.dll':
Found '_assert', possibly from 'assert' (C)
Found '_exit', possibly from '_exit' (C)
Found 'abort', possibly from 'abort' (C), 'runtime' (Fortran)
Found 'exit', possibly from 'exit' (C), 'stop' (Fortran)
Compiled code should not call entry points which might terminate R nor
write to stdout/stderr instead of to the console, nor use Fortran I/O
nor system RNGs nor [v]sprintf. The detected symbols are linked into
the code but might come from libraries and not actually be called.
See 'Writing portable packages' in the 'Writing R Extensions' manual.
* checking files in 'vignettes' ... OK
* checking examples ... OK
Examples with CPU (user + system) or elapsed time > 5s
user system elapsed
calculateDiffMeth-methods 7.05 0.19 7.24
* checking for unstated dependencies in 'tests' ... OK
* checking tests ...
Running 'testthat.R'
OK
* checking for unstated dependencies in vignettes ... OK
* checking package vignettes ... OK
* checking running R code from vignettes ... SKIPPED
* checking re-building of vignette outputs ... SKIPPED
* checking PDF version of manual ... OK
* DONE
Status: 6 NOTEs
See
'F:/biocbuild/bbs-3.20-bioc/meat/methylKit.Rcheck/00check.log'
for details.
methylKit.Rcheck/00install.out
##############################################################################
##############################################################################
###
### Running command:
###
### F:\biocbuild\bbs-3.20-bioc\R\bin\R.exe CMD INSTALL methylKit
###
##############################################################################
##############################################################################
* installing to library 'F:/biocbuild/bbs-3.20-bioc/R/library'
* installing *source* package 'methylKit' ...
** using staged installation
** libs
using C++ compiler: 'G__~1.EXE (GCC) 13.3.0'
using C++11
g++ -std=gnu++11 -I"F:/biocbuild/bbs-3.20-bioc/R/include" -DNDEBUG -D_FILE_OFFSET_BITS=64 -I'F:/biocbuild/bbs-3.20-bioc/R/library/Rcpp/include' -I'F:/biocbuild/bbs-3.20-bioc/R/library/Rhtslib/include' -I'F:/biocbuild/bbs-3.20-bioc/R/library/zlibbioc/include' -I"C:/rtools44/x86_64-w64-mingw32.static.posix/include" -O2 -Wall -mfpmath=sse -msse2 -mstackrealign -c RcppExports.cpp -o RcppExports.o
g++ -std=gnu++11 -I"F:/biocbuild/bbs-3.20-bioc/R/include" -DNDEBUG -D_FILE_OFFSET_BITS=64 -I'F:/biocbuild/bbs-3.20-bioc/R/library/Rcpp/include' -I'F:/biocbuild/bbs-3.20-bioc/R/library/Rhtslib/include' -I'F:/biocbuild/bbs-3.20-bioc/R/library/zlibbioc/include' -I"C:/rtools44/x86_64-w64-mingw32.static.posix/include" -O2 -Wall -mfpmath=sse -msse2 -mstackrealign -c methCall.cpp -o methCall.o
methCall.cpp: In function 'int process_bam(std::string&, std::string&, std::string&, std::string&, int&, int&, int&, int, size_t&)':
methCall.cpp:908:17: warning: comparison of integer expressions of different signedness: 'int' and 'uint32_t' {aka 'unsigned int'} [-Wsign-compare]
908 | for (i = 0; i < len_cigar; i++)
| ~~^~~~~~~~~~~
g++ -shared -s -static-libgcc -o methylKit.dll tmp.def RcppExports.o methCall.o F:/biocbuild/bbs-3.20-bioc/R/library/Rhtslib/usrlib/x64/libhts.a -lm -lbz2 -llzma -lcurl -lpsl -lbrotlidec -lbrotlicommon -lbcrypt -lidn2 -lunistring -liconv -lssl -lcrypto -lz -lcrypt32 -lwsock32 -lwldap32 -lssh2 -lgcrypt -lgpg-error -lws2_32 -lzstd -lregex -LC:/rtools44/x86_64-w64-mingw32.static.posix/lib/x64 -LC:/rtools44/x86_64-w64-mingw32.static.posix/lib -LF:/biocbuild/bbs-3.20-bioc/R/bin/x64 -lR
installing to F:/biocbuild/bbs-3.20-bioc/R/library/00LOCK-methylKit/00new/methylKit/libs/x64
** R
** data
** inst
** byte-compile and prepare package for lazy loading
** help
*** installing help indices
** building package indices
** installing vignettes
** testing if installed package can be loaded from temporary location
** testing if installed package can be loaded from final location
** testing if installed package keeps a record of temporary installation path
* DONE (methylKit)
methylKit.Rcheck/tests/testthat.Rout
R version 4.4.3 (2025-02-28 ucrt) -- "Trophy Case"
Copyright (C) 2025 The R Foundation for Statistical Computing
Platform: x86_64-w64-mingw32/x64
R is free software and comes with ABSOLUTELY NO WARRANTY.
You are welcome to redistribute it under certain conditions.
Type 'license()' or 'licence()' for distribution details.
R is a collaborative project with many contributors.
Type 'contributors()' for more information and
'citation()' on how to cite R or R packages in publications.
Type 'demo()' for some demos, 'help()' for on-line help, or
'help.start()' for an HTML browser interface to help.
Type 'q()' to quit R.
> library(testthat)
> library(methylKit)
Loading required package: GenomicRanges
Loading required package: stats4
Loading required package: BiocGenerics
Attaching package: 'BiocGenerics'
The following objects are masked from 'package:stats':
IQR, mad, sd, var, xtabs
The following objects are masked from 'package:base':
Filter, Find, Map, Position, Reduce, anyDuplicated, aperm, append,
as.data.frame, basename, cbind, colnames, dirname, do.call,
duplicated, eval, evalq, get, grep, grepl, intersect, is.unsorted,
lapply, mapply, match, mget, order, paste, pmax, pmax.int, pmin,
pmin.int, rank, rbind, rownames, sapply, saveRDS, setdiff, table,
tapply, union, unique, unsplit, which.max, which.min
Loading required package: S4Vectors
Attaching package: 'S4Vectors'
The following object is masked from 'package:utils':
findMatches
The following objects are masked from 'package:base':
I, expand.grid, unname
Loading required package: IRanges
Attaching package: 'IRanges'
The following object is masked from 'package:grDevices':
windows
Loading required package: GenomeInfoDb
>
>
>
> test_check("methylKit")
Using internal DSS code...
Using internal DSS code...
[ FAIL 0 | WARN 0 | SKIP 0 | PASS 240 ]
>
> proc.time()
user system elapsed
92.03 4.01 111.73
methylKit.Rcheck/methylKit-Ex.timings
| name | user | system | elapsed | |
| PCASamples-methods | 0.03 | 0.02 | 0.05 | |
| adjustMethylC | 0.07 | 0.03 | 0.12 | |
| assocComp-methods | 0.03 | 0.00 | 0.03 | |
| bedgraph-methods | 0.05 | 0.00 | 0.06 | |
| calculateDiffMeth-methods | 7.05 | 0.19 | 7.24 | |
| calculateDiffMethDSS-methods | 0.42 | 0.01 | 0.43 | |
| clusterSamples-methods | 0.03 | 0.00 | 0.03 | |
| dataSim-methods | 0.02 | 0.00 | 0.02 | |
| diffMethPerChr-methods | 0.01 | 0.02 | 0.03 | |
| extract-methods | 0.03 | 0.01 | 0.05 | |
| filterByCoverage-methods | 0.08 | 0.02 | 0.12 | |
| getAssembly-methods | 0.00 | 0.02 | 0.02 | |
| getContext-methods | 0.03 | 0.00 | 0.03 | |
| getCorrelation-methods | 0.08 | 0.00 | 0.13 | |
| getCoverageStats-methods | 0.01 | 0.00 | 0.02 | |
| getDBPath-methods | 0.08 | 0.00 | 0.11 | |
| getData-methods | 0.02 | 0.01 | 0.03 | |
| getMethylDiff-methods | 0.01 | 0.00 | 0.01 | |
| getMethylationStats-methods | 0.02 | 0.00 | 0.02 | |
| getSampleID-methods | 0.00 | 0.02 | 0.02 | |
| getTreatment-methods | 0.01 | 0.00 | 0.02 | |
| makeMethylDB-methods | 0 | 0 | 0 | |
| methRead-methods | 0.41 | 0.04 | 0.73 | |
| methSeg | 0 | 0 | 0 | |
| methylBase-class | 0.01 | 0.02 | 0.03 | |
| methylBaseDB-class | 0.13 | 0.02 | 0.19 | |
| methylDiff-class | 0.03 | 0.00 | 0.03 | |
| methylDiffDB-class | 2.44 | 0.09 | 2.56 | |
| methylRaw-class | 0.09 | 0.01 | 0.11 | |
| methylRawDB-class | 0.16 | 0.00 | 0.19 | |
| methylRawList-class | 0.01 | 0.00 | 0.01 | |
| methylRawListDB-class | 0.27 | 0.04 | 0.46 | |
| normalizeCoverage-methods | 0.23 | 0.01 | 0.45 | |
| percMethylation-methods | 0.04 | 0.00 | 0.03 | |
| pool-methods | 0.01 | 0.00 | 0.02 | |
| processBismarkAln-methods | 0.09 | 0.02 | 0.12 | |
| readMethylDB-methods | 0 | 0 | 0 | |
| reconstruct-methods | 0.04 | 0.00 | 0.03 | |
| regionCounts | 0.43 | 0.00 | 0.44 | |
| removeComp-methods | 0.03 | 0.00 | 0.03 | |
| reorganize-methods | 0.17 | 0.01 | 0.19 | |
| select-methods | 0.13 | 0.05 | 0.25 | |
| selectByOverlap-methods | 3.06 | 0.06 | 3.43 | |
| show-methods | 0.03 | 0.00 | 0.03 | |
| tileMethylCounts-methods | 0.58 | 0.02 | 0.60 | |
| unite-methods | 0.12 | 0.00 | 0.12 | |