| Back to Multiple platform build/check report for BioC 3.20: simplified long | 
 | 
This page was generated on 2024-11-20 12:07 -0500 (Wed, 20 Nov 2024).
| Hostname | OS | Arch (*) | R version | Installed pkgs | 
|---|---|---|---|---|
| teran2 | Linux (Ubuntu 24.04.1 LTS) | x86_64 | 4.4.2 (2024-10-31) -- "Pile of Leaves" | 4481 | 
| nebbiolo2 | Linux (Ubuntu 24.04.1 LTS) | x86_64 | 4.4.2 (2024-10-31) -- "Pile of Leaves" | 4479 | 
| palomino8 | Windows Server 2022 Datacenter | x64 | 4.4.2 (2024-10-31 ucrt) -- "Pile of Leaves" | 4359 | 
| lconway | macOS 12.7.1 Monterey | x86_64 | 4.4.1 (2024-06-14) -- "Race for Your Life" | 4539 | 
| kunpeng2 | Linux (openEuler 22.03 LTS-SP1) | aarch64 | 4.4.1 (2024-06-14) -- "Race for Your Life" | 4493 | 
| Click on any hostname to see more info about the system (e.g. compilers) (*) as reported by 'uname -p', except on Windows and Mac OS X | ||||
| Package 1212/2289 | Hostname | OS / Arch | INSTALL | BUILD | CHECK | BUILD BIN | ||||||||
| metapod 1.14.0  (landing page) Aaron Lun 
 | teran2 | Linux (Ubuntu 24.04.1 LTS) / x86_64 | OK | OK | OK |  | ||||||||
| nebbiolo2 | Linux (Ubuntu 24.04.1 LTS) / x86_64 | OK | OK | OK | ||||||||||
| palomino8 | Windows Server 2022 Datacenter / x64 | OK | OK | OK | OK |  | ||||||||
| lconway | macOS 12.7.1 Monterey / x86_64 | OK | OK | OK | OK |  | ||||||||
| kunpeng2 | Linux (openEuler 22.03 LTS-SP1) / aarch64 | OK | OK | OK | ||||||||||
| To the developers/maintainers of the metapod package: - Allow up to 24 hours (and sometimes 48 hours) for your latest push to git@git.bioconductor.org:packages/metapod.git to reflect on this report. See Troubleshooting Build Report for more information. - Use the following Renviron settings to reproduce errors and warnings. - If 'R CMD check' started to fail recently on the Linux builder(s) over a missing dependency, add the missing dependency to 'Suggests:' in your DESCRIPTION file. See Renviron.bioc for more information. - See Martin Grigorov's blog post for how to debug Linux ARM64 related issues on a x86_64 host. | 
| Package: metapod | 
| Version: 1.14.0 | 
| Command: /home/biocbuild/R/R/bin/R CMD check --install=check:metapod.install-out.txt --library=/home/biocbuild/R/R/site-library --no-vignettes --timings metapod_1.14.0.tar.gz | 
| StartedAt: 2024-11-20 09:39:15 -0000 (Wed, 20 Nov 2024) | 
| EndedAt: 2024-11-20 09:39:57 -0000 (Wed, 20 Nov 2024) | 
| EllapsedTime: 42.1 seconds | 
| RetCode: 0 | 
| Status: OK | 
| CheckDir: metapod.Rcheck | 
| Warnings: 0 | 
##############################################################################
##############################################################################
###
### Running command:
###
###   /home/biocbuild/R/R/bin/R CMD check --install=check:metapod.install-out.txt --library=/home/biocbuild/R/R/site-library --no-vignettes --timings metapod_1.14.0.tar.gz
###
##############################################################################
##############################################################################
* using log directory ‘/home/biocbuild/bbs-3.20-bioc/meat/metapod.Rcheck’
* using R version 4.4.1 (2024-06-14)
* using platform: aarch64-unknown-linux-gnu
* R was compiled by
    gcc (GCC) 12.2.1 20220819 (openEuler 12.2.1-14)
    GNU Fortran (GCC) 10.3.1
* running under: openEuler 22.03 (LTS-SP1)
* using session charset: UTF-8
* using option ‘--no-vignettes’
* checking for file ‘metapod/DESCRIPTION’ ... OK
* this is package ‘metapod’ version ‘1.14.0’
* checking package namespace information ... OK
* checking package dependencies ... OK
* checking if this is a source package ... OK
* checking if there is a namespace ... OK
* checking for hidden files and directories ... OK
* checking for portable file names ... OK
* checking for sufficient/correct file permissions ... OK
* checking whether package ‘metapod’ can be installed ... OK
* used C++ compiler: ‘g++ (conda-forge gcc 14.2.0-1) 14.2.0’
* checking C++ specification ... NOTE
  Specified C++11: please drop specification unless essential
* checking installed package size ... OK
* checking package directory ... OK
* checking ‘build’ directory ... OK
* checking DESCRIPTION meta-information ... OK
* checking top-level files ... OK
* checking for left-over files ... OK
* checking index information ... OK
* checking package subdirectories ... OK
* checking code files for non-ASCII characters ... OK
* checking R files for syntax errors ... OK
* checking whether the package can be loaded ... OK
* checking whether the package can be loaded with stated dependencies ... OK
* checking whether the package can be unloaded cleanly ... OK
* checking whether the namespace can be loaded with stated dependencies ... OK
* checking whether the namespace can be unloaded cleanly ... OK
* checking loading without being on the library search path ... OK
* checking dependencies in R code ... OK
* checking S3 generic/method consistency ... OK
* checking replacement functions ... OK
* checking foreign function calls ... OK
* checking R code for possible problems ... OK
* checking Rd files ... OK
* checking Rd metadata ... OK
* checking Rd cross-references ... OK
* checking for missing documentation entries ... OK
* checking for code/documentation mismatches ... OK
* checking Rd \usage sections ... OK
* checking Rd contents ... OK
* checking for unstated dependencies in examples ... OK
* checking line endings in C/C++/Fortran sources/headers ... OK
* checking compiled code ... NOTE
Note: information on .o files is not available
* checking files in ‘vignettes’ ... OK
* checking examples ... OK
* checking for unstated dependencies in ‘tests’ ... OK
* checking tests ...
  Running ‘testthat.R’
 OK
* checking for unstated dependencies in vignettes ... OK
* checking package vignettes ... OK
* checking running R code from vignettes ... SKIPPED
* checking re-building of vignette outputs ... SKIPPED
* checking PDF version of manual ... OK
* DONE
Status: 2 NOTEs
See
  ‘/home/biocbuild/bbs-3.20-bioc/meat/metapod.Rcheck/00check.log’
for details.
metapod.Rcheck/00install.out
##############################################################################
##############################################################################
###
### Running command:
###
###   /home/biocbuild/R/R/bin/R CMD INSTALL metapod
###
##############################################################################
##############################################################################
* installing to library ‘/home/biocbuild/R/R-4.4.1/site-library’
* installing *source* package ‘metapod’ ...
** using staged installation
** libs
using C++ compiler: ‘g++ (conda-forge gcc 14.2.0-1) 14.2.0’
using C++11
g++ -std=gnu++11 -I"/home/biocbuild/R/R-4.4.1/include" -DNDEBUG  -I'/home/biocbuild/R/R-4.4.1/site-library/Rcpp/include' -I/usr/local/include    -fPIC  -g -O2  -Wall  -c RcppExports.cpp -o RcppExports.o
g++ -std=gnu++11 -I"/home/biocbuild/R/R-4.4.1/include" -DNDEBUG  -I'/home/biocbuild/R/R-4.4.1/site-library/Rcpp/include' -I/usr/local/include    -fPIC  -g -O2  -Wall  -c combine_group.cpp -o combine_group.o
combine_group.cpp: In instantiation of 'Rcpp::List compute_grouped(Rcpp::NumericVector, Rcpp::IntegerVector, Rcpp::RObject, bool, const PREP&) [with PREP = p_simes; Rcpp::List = Rcpp::Vector<19>; Rcpp::NumericVector = Rcpp::Vector<14, Rcpp::PreserveStorage>; Rcpp::IntegerVector = Rcpp::Vector<13>; Rcpp::RObject = Rcpp::RObject_Impl<Rcpp::PreserveStorage>]':
combine_group.cpp:81:27:   required from here
   81 |     return compute_grouped(pvals, runs, weights, log, p_simes());
      |            ~~~~~~~~~~~~~~~^~~~~~~~~~~~~~~~~~~~~~~~~~~~~~~~~~~~~~
combine_group.cpp:41:26: warning: comparison of integer expressions of different signedness: 'size_t' {aka 'long unsigned int'} and 'R_xlen_t' {aka 'long int'} [-Wsign-compare]
   41 |     for (size_t g = 0; g < runs.size(); ++g) {
      |                        ~~^~~~~~~~~~~~~
combine_group.cpp:68:17: warning: comparison of integer expressions of different signedness: 'size_t' {aka 'long unsigned int'} and 'R_xlen_t' {aka 'long int'} [-Wsign-compare]
   68 |     if (counter != pvals.size()) {
      |         ~~~~~~~~^~~~~~~~~~~~~~~
combine_group.cpp: In instantiation of 'Rcpp::List compute_grouped(Rcpp::NumericVector, Rcpp::IntegerVector, Rcpp::RObject, bool, const PREP&) [with PREP = p_berger; Rcpp::List = Rcpp::Vector<19>; Rcpp::NumericVector = Rcpp::Vector<14, Rcpp::PreserveStorage>; Rcpp::IntegerVector = Rcpp::Vector<13>; Rcpp::RObject = Rcpp::RObject_Impl<Rcpp::PreserveStorage>]':
combine_group.cpp:86:27:   required from here
   86 |     return compute_grouped(pvals, runs, weights, log, p_berger());
      |            ~~~~~~~~~~~~~~~^~~~~~~~~~~~~~~~~~~~~~~~~~~~~~~~~~~~~~~
combine_group.cpp:41:26: warning: comparison of integer expressions of different signedness: 'size_t' {aka 'long unsigned int'} and 'R_xlen_t' {aka 'long int'} [-Wsign-compare]
   41 |     for (size_t g = 0; g < runs.size(); ++g) {
      |                        ~~^~~~~~~~~~~~~
combine_group.cpp:68:17: warning: comparison of integer expressions of different signedness: 'size_t' {aka 'long unsigned int'} and 'R_xlen_t' {aka 'long int'} [-Wsign-compare]
   68 |     if (counter != pvals.size()) {
      |         ~~~~~~~~^~~~~~~~~~~~~~~
combine_group.cpp: In instantiation of 'Rcpp::List compute_grouped(Rcpp::NumericVector, Rcpp::IntegerVector, Rcpp::RObject, bool, const PREP&) [with PREP = p_wilkinson; Rcpp::List = Rcpp::Vector<19>; Rcpp::NumericVector = Rcpp::Vector<14, Rcpp::PreserveStorage>; Rcpp::IntegerVector = Rcpp::Vector<13>; Rcpp::RObject = Rcpp::RObject_Impl<Rcpp::PreserveStorage>]':
combine_group.cpp:91:27:   required from here
   91 |     return compute_grouped(pvals, runs, weights, log, p_wilkinson(min_n, min_prop));
      |            ~~~~~~~~~~~~~~~^~~~~~~~~~~~~~~~~~~~~~~~~~~~~~~~~~~~~~~~~~~~~~~~~~~~~~~~~
combine_group.cpp:41:26: warning: comparison of integer expressions of different signedness: 'size_t' {aka 'long unsigned int'} and 'R_xlen_t' {aka 'long int'} [-Wsign-compare]
   41 |     for (size_t g = 0; g < runs.size(); ++g) {
      |                        ~~^~~~~~~~~~~~~
combine_group.cpp:68:17: warning: comparison of integer expressions of different signedness: 'size_t' {aka 'long unsigned int'} and 'R_xlen_t' {aka 'long int'} [-Wsign-compare]
   68 |     if (counter != pvals.size()) {
      |         ~~~~~~~~^~~~~~~~~~~~~~~
combine_group.cpp: In instantiation of 'Rcpp::List compute_grouped(Rcpp::NumericVector, Rcpp::IntegerVector, Rcpp::RObject, bool, const PREP&) [with PREP = p_holm_min; Rcpp::List = Rcpp::Vector<19>; Rcpp::NumericVector = Rcpp::Vector<14, Rcpp::PreserveStorage>; Rcpp::IntegerVector = Rcpp::Vector<13>; Rcpp::RObject = Rcpp::RObject_Impl<Rcpp::PreserveStorage>]':
combine_group.cpp:96:27:   required from here
   96 |     return compute_grouped(pvals, runs, weights, log, p_holm_min(min_n, min_prop));
      |            ~~~~~~~~~~~~~~~^~~~~~~~~~~~~~~~~~~~~~~~~~~~~~~~~~~~~~~~~~~~~~~~~~~~~~~~
combine_group.cpp:41:26: warning: comparison of integer expressions of different signedness: 'size_t' {aka 'long unsigned int'} and 'R_xlen_t' {aka 'long int'} [-Wsign-compare]
   41 |     for (size_t g = 0; g < runs.size(); ++g) {
      |                        ~~^~~~~~~~~~~~~
combine_group.cpp:68:17: warning: comparison of integer expressions of different signedness: 'size_t' {aka 'long unsigned int'} and 'R_xlen_t' {aka 'long int'} [-Wsign-compare]
   68 |     if (counter != pvals.size()) {
      |         ~~~~~~~~^~~~~~~~~~~~~~~
combine_group.cpp: In instantiation of 'Rcpp::List compute_grouped(Rcpp::NumericVector, Rcpp::IntegerVector, Rcpp::RObject, bool, const PREP&) [with PREP = p_stouffer; Rcpp::List = Rcpp::Vector<19>; Rcpp::NumericVector = Rcpp::Vector<14, Rcpp::PreserveStorage>; Rcpp::IntegerVector = Rcpp::Vector<13>; Rcpp::RObject = Rcpp::RObject_Impl<Rcpp::PreserveStorage>]':
combine_group.cpp:101:27:   required from here
  101 |     return compute_grouped(pvals, runs, weights, log, p_stouffer());
      |            ~~~~~~~~~~~~~~~^~~~~~~~~~~~~~~~~~~~~~~~~~~~~~~~~~~~~~~~~
combine_group.cpp:41:26: warning: comparison of integer expressions of different signedness: 'size_t' {aka 'long unsigned int'} and 'R_xlen_t' {aka 'long int'} [-Wsign-compare]
   41 |     for (size_t g = 0; g < runs.size(); ++g) {
      |                        ~~^~~~~~~~~~~~~
combine_group.cpp:68:17: warning: comparison of integer expressions of different signedness: 'size_t' {aka 'long unsigned int'} and 'R_xlen_t' {aka 'long int'} [-Wsign-compare]
   68 |     if (counter != pvals.size()) {
      |         ~~~~~~~~^~~~~~~~~~~~~~~
combine_group.cpp: In instantiation of 'Rcpp::List compute_grouped(Rcpp::NumericVector, Rcpp::IntegerVector, Rcpp::RObject, bool, const PREP&) [with PREP = p_fisher; Rcpp::List = Rcpp::Vector<19>; Rcpp::NumericVector = Rcpp::Vector<14, Rcpp::PreserveStorage>; Rcpp::IntegerVector = Rcpp::Vector<13>; Rcpp::RObject = Rcpp::RObject_Impl<Rcpp::PreserveStorage>]':
combine_group.cpp:106:27:   required from here
  106 |     return compute_grouped(pvals, runs, weights, log, p_fisher());
      |            ~~~~~~~~~~~~~~~^~~~~~~~~~~~~~~~~~~~~~~~~~~~~~~~~~~~~~~
combine_group.cpp:41:26: warning: comparison of integer expressions of different signedness: 'size_t' {aka 'long unsigned int'} and 'R_xlen_t' {aka 'long int'} [-Wsign-compare]
   41 |     for (size_t g = 0; g < runs.size(); ++g) {
      |                        ~~^~~~~~~~~~~~~
combine_group.cpp:68:17: warning: comparison of integer expressions of different signedness: 'size_t' {aka 'long unsigned int'} and 'R_xlen_t' {aka 'long int'} [-Wsign-compare]
   68 |     if (counter != pvals.size()) {
      |         ~~~~~~~~^~~~~~~~~~~~~~~
combine_group.cpp: In instantiation of 'Rcpp::List compute_grouped(Rcpp::NumericVector, Rcpp::IntegerVector, Rcpp::RObject, bool, const PREP&) [with PREP = p_pearson; Rcpp::List = Rcpp::Vector<19>; Rcpp::NumericVector = Rcpp::Vector<14, Rcpp::PreserveStorage>; Rcpp::IntegerVector = Rcpp::Vector<13>; Rcpp::RObject = Rcpp::RObject_Impl<Rcpp::PreserveStorage>]':
combine_group.cpp:111:27:   required from here
  111 |     return compute_grouped(pvals, runs, weights, log, p_pearson());
      |            ~~~~~~~~~~~~~~~^~~~~~~~~~~~~~~~~~~~~~~~~~~~~~~~~~~~~~~~
combine_group.cpp:41:26: warning: comparison of integer expressions of different signedness: 'size_t' {aka 'long unsigned int'} and 'R_xlen_t' {aka 'long int'} [-Wsign-compare]
   41 |     for (size_t g = 0; g < runs.size(); ++g) {
      |                        ~~^~~~~~~~~~~~~
combine_group.cpp:68:17: warning: comparison of integer expressions of different signedness: 'size_t' {aka 'long unsigned int'} and 'R_xlen_t' {aka 'long int'} [-Wsign-compare]
   68 |     if (counter != pvals.size()) {
      |         ~~~~~~~~^~~~~~~~~~~~~~~
g++ -std=gnu++11 -I"/home/biocbuild/R/R-4.4.1/include" -DNDEBUG  -I'/home/biocbuild/R/R-4.4.1/site-library/Rcpp/include' -I/usr/local/include    -fPIC  -g -O2  -Wall  -c combine_parallel.cpp -o combine_parallel.o
combine_parallel.cpp: In constructor 'parallel_weight_server::parallel_weight_server(size_t, size_t, Rcpp::RObject)':
combine_parallel.cpp:28:36: warning: comparison of integer expressions of different signedness: 'R_xlen_t' {aka 'long int'} and 'const size_t' {aka 'const long unsigned int'} [-Wsign-compare]
   28 |                 if (wrepeat.size() != nvectors) {
      |                     ~~~~~~~~~~~~~~~^~~~~~~~~~~
In file included from p_berger.h:4,
                 from combine_parallel.cpp:1:
utils.h: In instantiation of 'parallel_vectors<V>::parallel_vectors(Rcpp::List) [with V = Rcpp::Vector<14, Rcpp::PreserveStorage>; Rcpp::List = Rcpp::Vector<19>]':
combine_parallel.cpp:20:82:   required from here
   20 |                 wvecs = parallel_vectors<Rcpp::NumericVector>(Rcpp::List(weights));
      |                                                                                  ^
utils.h:72:31: warning: comparison of integer expressions of different signedness: 'size_t' {aka 'long unsigned int'} and 'R_xlen_t' {aka 'long int'} [-Wsign-compare]
   72 |                 if (nelements != vectors[p].size()) {
      |                     ~~~~~~~~~~^~~~~~~~~~~~~~~~~~~~
g++ -std=gnu++11 -I"/home/biocbuild/R/R-4.4.1/include" -DNDEBUG  -I'/home/biocbuild/R/R-4.4.1/site-library/Rcpp/include' -I/usr/local/include    -fPIC  -g -O2  -Wall  -c count_direction.cpp -o count_direction.o
count_direction.cpp: In function 'Rcpp::List count_grouped_direction(Rcpp::NumericVector, Rcpp::IntegerVector, Rcpp::NumericVector, int, double, double, bool)':
count_direction.cpp:95:26: warning: comparison of integer expressions of different signedness: 'size_t' {aka 'long unsigned int'} and 'R_xlen_t' {aka 'long int'} [-Wsign-compare]
   95 |     for (size_t g = 0; g < runs.size(); ++g) {
      |                        ~~^~~~~~~~~~~~~
count_direction.cpp:98:25: warning: comparison of integer expressions of different signedness: 'size_t' {aka 'long unsigned int'} and 'R_xlen_t' {aka 'long int'} [-Wsign-compare]
   98 |             if (counter >= pvalues.size()) {
      |                 ~~~~~~~~^~~~~~~~~~~~~~~~~
count_direction.cpp:120:17: warning: comparison of integer expressions of different signedness: 'size_t' {aka 'long unsigned int'} and 'R_xlen_t' {aka 'long int'} [-Wsign-compare]
  120 |     if (counter != pvalues.size()) {
      |         ~~~~~~~~^~~~~~~~~~~~~~~~~
In file included from count_direction.cpp:2:
utils.h: In instantiation of 'parallel_vectors<V>::parallel_vectors(Rcpp::List) [with V = Rcpp::Vector<14, Rcpp::PreserveStorage>; Rcpp::List = Rcpp::Vector<19>]':
count_direction.cpp:40:58:   required from here
   40 |     parallel_vectors<Rcpp::NumericVector> Effects(effects);
      |                                                          ^
utils.h:72:31: warning: comparison of integer expressions of different signedness: 'size_t' {aka 'long unsigned int'} and 'R_xlen_t' {aka 'long int'} [-Wsign-compare]
   72 |                 if (nelements != vectors[p].size()) {
      |                     ~~~~~~~~~~^~~~~~~~~~~~~~~~~~~~
g++ -std=gnu++11 -I"/home/biocbuild/R/R-4.4.1/include" -DNDEBUG  -I'/home/biocbuild/R/R-4.4.1/site-library/Rcpp/include' -I/usr/local/include    -fPIC  -g -O2  -Wall  -c summarize_direction.cpp -o summarize_direction.o
summarize_direction.cpp: In function 'Rcpp::IntegerVector summarize_grouped_direction(Rcpp::NumericVector, Rcpp::IntegerVector, Rcpp::LogicalVector, double)':
summarize_direction.cpp:43:26: warning: comparison of integer expressions of different signedness: 'size_t' {aka 'long unsigned int'} and 'R_xlen_t' {aka 'long int'} [-Wsign-compare]
   43 |     for (size_t g = 0; g < runs.size(); ++g) {
      |                        ~~^~~~~~~~~~~~~
summarize_direction.cpp:46:25: warning: comparison of integer expressions of different signedness: 'size_t' {aka 'long unsigned int'} and 'R_xlen_t' {aka 'long int'} [-Wsign-compare]
   46 |             if (counter >= effects.size()) {
      |                 ~~~~~~~~^~~~~~~~~~~~~~~~~
summarize_direction.cpp:61:17: warning: comparison of integer expressions of different signedness: 'size_t' {aka 'long unsigned int'} and 'R_xlen_t' {aka 'long int'} [-Wsign-compare]
   61 |     if (counter != effects.size()) {
      |         ~~~~~~~~^~~~~~~~~~~~~~~~~
In file included from summarize_direction.cpp:2:
utils.h: In instantiation of 'parallel_vectors<V>::parallel_vectors(Rcpp::List) [with V = Rcpp::Vector<14, Rcpp::PreserveStorage>; Rcpp::List = Rcpp::Vector<19>]':
summarize_direction.cpp:10:58:   required from here
   10 |     parallel_vectors<Rcpp::NumericVector> Effects(effects);
      |                                                          ^
utils.h:72:31: warning: comparison of integer expressions of different signedness: 'size_t' {aka 'long unsigned int'} and 'R_xlen_t' {aka 'long int'} [-Wsign-compare]
   72 |                 if (nelements != vectors[p].size()) {
      |                     ~~~~~~~~~~^~~~~~~~~~~~~~~~~~~~
utils.h: In instantiation of 'parallel_vectors<V>::parallel_vectors(Rcpp::List) [with V = Rcpp::Vector<10, Rcpp::PreserveStorage>; Rcpp::List = Rcpp::Vector<19>]':
summarize_direction.cpp:11:66:   required from here
   11 |     parallel_vectors<Rcpp::LogicalVector> Influential(influential);
      |                                                                  ^
utils.h:72:31: warning: comparison of integer expressions of different signedness: 'size_t' {aka 'long unsigned int'} and 'R_xlen_t' {aka 'long int'} [-Wsign-compare]
   72 |                 if (nelements != vectors[p].size()) {
      |                     ~~~~~~~~~~^~~~~~~~~~~~~~~~~~~~
g++ -std=gnu++11 -shared -L/home/biocbuild/R/R-4.4.1/lib -L/usr/local/lib -o metapod.so RcppExports.o combine_group.o combine_parallel.o count_direction.o summarize_direction.o -L/home/biocbuild/R/R-4.4.1/lib -lR
installing to /home/biocbuild/R/R-4.4.1/site-library/00LOCK-metapod/00new/metapod/libs
** R
** inst
** byte-compile and prepare package for lazy loading
** help
*** installing help indices
** building package indices
** installing vignettes
** testing if installed package can be loaded from temporary location
** checking absolute paths in shared objects and dynamic libraries
** testing if installed package can be loaded from final location
** testing if installed package keeps a record of temporary installation path
* DONE (metapod)
metapod.Rcheck/tests/testthat.Rout
R version 4.4.1 (2024-06-14) -- "Race for Your Life"
Copyright (C) 2024 The R Foundation for Statistical Computing
Platform: aarch64-unknown-linux-gnu
R is free software and comes with ABSOLUTELY NO WARRANTY.
You are welcome to redistribute it under certain conditions.
Type 'license()' or 'licence()' for distribution details.
R is a collaborative project with many contributors.
Type 'contributors()' for more information and
'citation()' on how to cite R or R packages in publications.
Type 'demo()' for some demos, 'help()' for on-line help, or
'help.start()' for an HTML browser interface to help.
Type 'q()' to quit R.
> library(testthat)
> library(metapod)
> test_check("metapod")
[ FAIL 0 | WARN 0 | SKIP 0 | PASS 552 ]
> 
> proc.time()
   user  system elapsed 
 10.241   0.188  10.352 
metapod.Rcheck/metapod-Ex.timings
| name | user | system | elapsed | |
| averageGroupedStats | 0.002 | 0.000 | 0.002 | |
| averageParallelStats | 0.001 | 0.000 | 0.001 | |
| combineGroupedPValues | 0.031 | 0.000 | 0.031 | |
| combineParallelPValues | 0.018 | 0.000 | 0.019 | |
| countGroupedDirection | 0.000 | 0.001 | 0.001 | |
| countParallelDirection | 0.000 | 0.001 | 0.001 | |
| groupedBerger | 0.010 | 0.002 | 0.012 | |
| groupedFisher | 0.013 | 0.000 | 0.013 | |
| groupedHolmMin | 0.012 | 0.000 | 0.012 | |
| groupedPearson | 0.008 | 0.000 | 0.008 | |
| groupedSimes | 0.013 | 0.000 | 0.012 | |
| groupedStouffer | 0.012 | 0.000 | 0.012 | |
| groupedWilkinson | 0.012 | 0.000 | 0.012 | |
| parallelBerger | 0.006 | 0.004 | 0.009 | |
| parallelFisher | 0.009 | 0.000 | 0.009 | |
| parallelHolmMin | 0.014 | 0.000 | 0.014 | |
| parallelPearson | 0.009 | 0.000 | 0.010 | |
| parallelSimes | 0.014 | 0.004 | 0.018 | |
| parallelStouffer | 0.014 | 0.000 | 0.014 | |
| parallelWilkinson | 0.010 | 0.000 | 0.009 | |
| summarizeGroupedDirection | 0.001 | 0.000 | 0.001 | |
| summarizeParallelDirection | 0.000 | 0.000 | 0.001 | |