| Back to Multiple platform build/check report for BioC 3.20: simplified long | 
 | 
This page was generated on 2025-04-02 19:32 -0400 (Wed, 02 Apr 2025).
| Hostname | OS | Arch (*) | R version | Installed pkgs | 
|---|---|---|---|---|
| nebbiolo2 | Linux (Ubuntu 24.04.1 LTS) | x86_64 | 4.4.3 (2025-02-28) -- "Trophy Case" | 4764 | 
| palomino8 | Windows Server 2022 Datacenter | x64 | 4.4.3 (2025-02-28 ucrt) -- "Trophy Case" | 4495 | 
| merida1 | macOS 12.7.5 Monterey | x86_64 | 4.4.3 (2025-02-28) -- "Trophy Case" | 4522 | 
| kjohnson1 | macOS 13.6.6 Ventura | arm64 | 4.4.3 (2025-02-28) -- "Trophy Case" | 4449 | 
| taishan | Linux (openEuler 24.03 LTS) | aarch64 | 4.4.3 (2025-02-28) -- "Trophy Case" | 4426 | 
| Click on any hostname to see more info about the system (e.g. compilers) (*) as reported by 'uname -p', except on Windows and Mac OS X | ||||
| Package 1208/2289 | Hostname | OS / Arch | INSTALL | BUILD | CHECK | BUILD BIN | ||||||||
| metahdep 1.64.0  (landing page) John R. Stevens 
 | nebbiolo2 | Linux (Ubuntu 24.04.1 LTS) / x86_64 | OK | OK | WARNINGS |  | ||||||||
| palomino8 | Windows Server 2022 Datacenter / x64 | OK | OK | WARNINGS | OK |  | ||||||||
| merida1 | macOS 12.7.5 Monterey / x86_64 | OK | OK | WARNINGS | OK |  | ||||||||
| kjohnson1 | macOS 13.6.6 Ventura / arm64 | OK | OK | WARNINGS | OK |  | ||||||||
| taishan | Linux (openEuler 24.03 LTS) / aarch64 | ERROR | ERROR | skipped | ||||||||||
| To the developers/maintainers of the metahdep package: - Allow up to 24 hours (and sometimes 48 hours) for your latest push to git@git.bioconductor.org:packages/metahdep.git to reflect on this report. See Troubleshooting Build Report for more information. - Use the following Renviron settings to reproduce errors and warnings. - If 'R CMD check' started to fail recently on the Linux builder(s) over a missing dependency, add the missing dependency to 'Suggests:' in your DESCRIPTION file. See Renviron.bioc for more information. | 
| Package: metahdep | 
| Version: 1.64.0 | 
| Command: /Library/Frameworks/R.framework/Resources/bin/R CMD INSTALL metahdep | 
| StartedAt: 2025-03-31 15:03:48 -0400 (Mon, 31 Mar 2025) | 
| EndedAt: 2025-03-31 15:03:56 -0400 (Mon, 31 Mar 2025) | 
| EllapsedTime: 8.4 seconds | 
| RetCode: 0 | 
| Status: OK | 
##############################################################################
##############################################################################
###
### Running command:
###
###   /Library/Frameworks/R.framework/Resources/bin/R CMD INSTALL metahdep
###
##############################################################################
##############################################################################
* installing to library ‘/Library/Frameworks/R.framework/Versions/4.4-x86_64/Resources/library’
* installing *source* package ‘metahdep’ ...
** using staged installation
** libs
using C compiler: ‘Apple clang version 14.0.0 (clang-1400.0.29.202)’
using SDK: ‘MacOSX11.3.sdk’
clang -arch x86_64 -I"/Library/Frameworks/R.framework/Resources/include" -DNDEBUG   -I/opt/R/x86_64/include    -fPIC  -falign-functions=64 -Wall -g -O2  -c metahdep.c -o metahdep.o
metahdep.c:471:79: warning: incompatible pointer to integer conversion passing 'const char *' to parameter of type 'char' [-Wint-conversion]
                                index = metan_binary_search_unique(name_list, sort_index, R_old_names, j, CHAR(STRING_ELT(R_old_chipsets, j)), i);
                                                                                                          ^~~~~~~~~~~~~~~~~~~~~~~~~~~~~~~~~~~
/Library/Frameworks/R.framework/Resources/include/Rinternals.h:200:17: note: expanded from macro 'CHAR'
#define CHAR(x) R_CHAR(x)
                ^~~~~~~~~
metahdep.c:372:103: note: passing argument to parameter 'chipset_name' here
SEXP metan_binary_search_unique(SEXP name_list, SEXP sort_index, SEXP gene_name, int gene_index, char chipset_name, int study_num)
                                                                                                      ^
1 warning generated.
clang -arch x86_64 -dynamiclib -Wl,-headerpad_max_install_names -undefined dynamic_lookup -L/Library/Frameworks/R.framework/Resources/lib -L/opt/R/x86_64/lib -o metahdep.so metahdep.o -F/Library/Frameworks/R.framework/.. -framework R -Wl,-framework -Wl,CoreFoundation
installing to /Library/Frameworks/R.framework/Versions/4.4-x86_64/Resources/library/00LOCK-metahdep/00new/metahdep/libs
** R
** data
** byte-compile and prepare package for lazy loading
** help
*** installing help indices
** building package indices
** installing vignettes
** testing if installed package can be loaded from temporary location
** checking absolute paths in shared objects and dynamic libraries
** testing if installed package can be loaded from final location
** testing if installed package keeps a record of temporary installation path
* DONE (metahdep)