| Back to Multiple platform build/check report for BioC 3.20: simplified long | 
 | 
This page was generated on 2025-04-02 19:30 -0400 (Wed, 02 Apr 2025).
| Hostname | OS | Arch (*) | R version | Installed pkgs | 
|---|---|---|---|---|
| nebbiolo2 | Linux (Ubuntu 24.04.1 LTS) | x86_64 | 4.4.3 (2025-02-28) -- "Trophy Case" | 4764 | 
| palomino8 | Windows Server 2022 Datacenter | x64 | 4.4.3 (2025-02-28 ucrt) -- "Trophy Case" | 4495 | 
| merida1 | macOS 12.7.5 Monterey | x86_64 | 4.4.3 (2025-02-28) -- "Trophy Case" | 4522 | 
| kjohnson1 | macOS 13.6.6 Ventura | arm64 | 4.4.3 (2025-02-28) -- "Trophy Case" | 4449 | 
| taishan | Linux (openEuler 24.03 LTS) | aarch64 | 4.4.3 (2025-02-28) -- "Trophy Case" | 4426 | 
| Click on any hostname to see more info about the system (e.g. compilers) (*) as reported by 'uname -p', except on Windows and Mac OS X | ||||
| Package 1209/2289 | Hostname | OS / Arch | INSTALL | BUILD | CHECK | BUILD BIN | ||||||||
| metaMS 1.42.0  (landing page) Yann Guitton 
 | nebbiolo2 | Linux (Ubuntu 24.04.1 LTS) / x86_64 | OK | OK | OK |  | ||||||||
| palomino8 | Windows Server 2022 Datacenter / x64 | OK | OK | OK | OK |  | ||||||||
| merida1 | macOS 12.7.5 Monterey / x86_64 | OK | OK | OK | OK |  | ||||||||
| kjohnson1 | macOS 13.6.6 Ventura / arm64 | OK | OK | OK | OK |  | ||||||||
| taishan | Linux (openEuler 24.03 LTS) / aarch64 | OK | OK | OK | ||||||||||
| To the developers/maintainers of the metaMS package: - Allow up to 24 hours (and sometimes 48 hours) for your latest push to git@git.bioconductor.org:packages/metaMS.git to reflect on this report. See Troubleshooting Build Report for more information. - Use the following Renviron settings to reproduce errors and warnings. - If 'R CMD check' started to fail recently on the Linux builder(s) over a missing dependency, add the missing dependency to 'Suggests:' in your DESCRIPTION file. See Renviron.bioc for more information. | 
| Package: metaMS | 
| Version: 1.42.0 | 
| Command: F:\biocbuild\bbs-3.20-bioc\R\bin\R.exe CMD check --no-multiarch --install=check:metaMS.install-out.txt --library=F:\biocbuild\bbs-3.20-bioc\R\library --no-vignettes --timings metaMS_1.42.0.tar.gz | 
| StartedAt: 2025-04-01 03:14:38 -0400 (Tue, 01 Apr 2025) | 
| EndedAt: 2025-04-01 03:21:43 -0400 (Tue, 01 Apr 2025) | 
| EllapsedTime: 424.2 seconds | 
| RetCode: 0 | 
| Status: OK | 
| CheckDir: metaMS.Rcheck | 
| Warnings: 0 | 
##############################################################################
##############################################################################
###
### Running command:
###
###   F:\biocbuild\bbs-3.20-bioc\R\bin\R.exe CMD check --no-multiarch --install=check:metaMS.install-out.txt --library=F:\biocbuild\bbs-3.20-bioc\R\library --no-vignettes --timings metaMS_1.42.0.tar.gz
###
##############################################################################
##############################################################################
* using log directory 'F:/biocbuild/bbs-3.20-bioc/meat/metaMS.Rcheck'
* using R version 4.4.3 (2025-02-28 ucrt)
* using platform: x86_64-w64-mingw32
* R was compiled by
    gcc.exe (GCC) 13.3.0
    GNU Fortran (GCC) 13.3.0
* running under: Windows Server 2022 x64 (build 20348)
* using session charset: UTF-8
* using option '--no-vignettes'
* checking for file 'metaMS/DESCRIPTION' ... OK
* checking extension type ... Package
* this is package 'metaMS' version '1.42.0'
* package encoding: UTF-8
* checking package namespace information ... OK
* checking package dependencies ... OK
* checking if this is a source package ... OK
* checking if there is a namespace ... OK
* checking for hidden files and directories ... OK
* checking for portable file names ... OK
* checking whether package 'metaMS' can be installed ... OK
* checking installed package size ... OK
* checking package directory ... OK
* checking 'build' directory ... OK
* checking DESCRIPTION meta-information ... OK
* checking top-level files ... OK
* checking for left-over files ... OK
* checking index information ... OK
* checking package subdirectories ... OK
* checking code files for non-ASCII characters ... OK
* checking R files for syntax errors ... OK
* checking whether the package can be loaded ... OK
* checking whether the package can be loaded with stated dependencies ... OK
* checking whether the package can be unloaded cleanly ... OK
* checking whether the namespace can be loaded with stated dependencies ... OK
* checking whether the namespace can be unloaded cleanly ... OK
* checking dependencies in R code ... OK
* checking S3 generic/method consistency ... OK
* checking replacement functions ... OK
* checking foreign function calls ... OK
* checking R code for possible problems ... OK
* checking Rd files ... OK
* checking Rd metadata ... OK
* checking Rd cross-references ... OK
* checking for missing documentation entries ... OK
* checking for code/documentation mismatches ... OK
* checking Rd \usage sections ... OK
* checking Rd contents ... OK
* checking for unstated dependencies in examples ... OK
* checking contents of 'data' directory ... OK
* checking data for non-ASCII characters ... OK
* checking data for ASCII and uncompressed saves ... OK
* checking sizes of PDF files under 'inst/doc' ... OK
* checking files in 'vignettes' ... OK
* checking examples ... OK
* checking for unstated dependencies in 'tests' ... OK
* checking tests ...
  Running 'runTests.R'
 OK
* checking for unstated dependencies in vignettes ... OK
* checking package vignettes ... OK
* checking running R code from vignettes ... SKIPPED
* checking re-building of vignette outputs ... SKIPPED
* checking PDF version of manual ... OK
* DONE
Status: OK
metaMS.Rcheck/00install.out
############################################################################## ############################################################################## ### ### Running command: ### ### F:\biocbuild\bbs-3.20-bioc\R\bin\R.exe CMD INSTALL metaMS ### ############################################################################## ############################################################################## * installing to library 'F:/biocbuild/bbs-3.20-bioc/R/library' * installing *source* package 'metaMS' ... ** using staged installation ** R ** data ** inst ** byte-compile and prepare package for lazy loading ** help *** installing help indices ** building package indices ** installing vignettes ** testing if installed package can be loaded from temporary location ** testing if installed package can be loaded from final location ** testing if installed package keeps a record of temporary installation path * DONE (metaMS)
metaMS.Rcheck/tests/runTests.Rout
R version 4.4.3 (2025-02-28 ucrt) -- "Trophy Case"
Copyright (C) 2025 The R Foundation for Statistical Computing
Platform: x86_64-w64-mingw32/x64
R is free software and comes with ABSOLUTELY NO WARRANTY.
You are welcome to redistribute it under certain conditions.
Type 'license()' or 'licence()' for distribution details.
R is a collaborative project with many contributors.
Type 'contributors()' for more information and
'citation()' on how to cite R or R packages in publications.
Type 'demo()' for some demos, 'help()' for on-line help, or
'help.start()' for an HTML browser interface to help.
Type 'q()' to quit R.
> BiocGenerics:::testPackage("metaMS")
Attaching package: 'BiocGenerics'
The following objects are masked from 'package:stats':
    IQR, mad, sd, var, xtabs
The following objects are masked from 'package:base':
    Filter, Find, Map, Position, Reduce, anyDuplicated, aperm, append,
    as.data.frame, basename, cbind, colnames, dirname, do.call,
    duplicated, eval, evalq, get, grep, grepl, intersect, is.unsorted,
    lapply, mapply, match, mget, order, paste, pmax, pmax.int, pmin,
    pmin.int, rank, rbind, rownames, sapply, saveRDS, setdiff, table,
    tapply, union, unique, unsplit, which.max, which.min
Welcome to Bioconductor
    Vignettes contain introductory material; view with
    'browseVignettes()'. To cite Bioconductor, see
    'citation("Biobase")', and for packages 'citation("pkgname")'.
This is xcms version 4.4.0 
Attaching package: 'xcms'
The following object is masked from 'package:stats':
    sigma
< -------- Experiment of 4 samples ------------------------------------- >
< -------- Instrument: TSQXLS.QQQ.GC ----------------------------------- >
< -------- Annotation using database of 3 spectra ---------------------- >
< -------- Using xcmsSet object - only doing annotation ---------------- >
< -------- Removing artefacts (Bleeding, Plasticizers) ----------------- >
< -------- Matching with database of standards ------------------------- >
< -------- Matching unknowns across samples ---------------------------- >
< -------- Formatting results ------------------------------------------ >
< -------- Done! ------------------------------------------------------- >
< -------- Experiment of 4 samples ------------------------------------- >
< -------- Instrument: Synapt.QTOF.RP  - polarity: positive ------------ >
< -------- Database of 4 compounds ------------------------------------- >
< -------- Using xcmsSet object - only doing annotation ---------------- >
< -------- Performing annotation --------------------------------------- >
	 Fixed mass tolerance 0.005
	 Feature-wise Annotation ...
< -------- Formatting the output --------------------------------------- >
< -------- Done ! ------------------------------------------------------ >
RUNIT TEST PROTOCOL -- Tue Apr  1 03:21:22 2025 
*********************************************** 
Number of test functions: 2 
Number of errors: 0 
Number of failures: 0 
 
1 Test Suite : 
metaMS RUnit Tests - 2 test functions, 0 errors, 0 failures
Number of test functions: 2 
Number of errors: 0 
Number of failures: 0 
> 
> proc.time()
   user  system elapsed 
  19.82    1.32   21.11 
metaMS.Rcheck/metaMS-Ex.timings
| name | user | system | elapsed | |
| AnnotateTable | 0.02 | 0.03 | 0.05 | |
| FEMsettings | 0 | 0 | 0 | |
| addRI | 0.03 | 0.00 | 0.05 | |
| alignmentLC | 0.30 | 0.14 | 0.44 | |
| constructExpPseudoSpectra | 0.04 | 0.00 | 0.04 | |
| createSTDdbGC | 0 | 0 | 0 | |
| createSTDdbLC | 0.02 | 0.02 | 0.04 | |
| errf | 0.03 | 0.00 | 0.03 | |
| getAnnotationLC | 0.20 | 0.08 | 0.28 | |
| getAnnotationMat | 0.04 | 0.01 | 0.04 | |
| getFeatureInfo | 0.04 | 0.00 | 0.05 | |
| getPeakTable | 0.22 | 0.05 | 0.27 | |
| matchExpSpec | 0.00 | 0.03 | 0.03 | |
| matchSamples2DB | 0 | 0 | 0 | |
| matchSamples2Samples | 0.00 | 0.02 | 0.01 | |
| metaMSsettings-class | 0 | 0 | 0 | |
| metaSetting-methods | 0 | 0 | 0 | |
| msp | 0 | 0 | 0 | |
| peakDetection | 0.00 | 0.01 | 0.02 | |
| plotPseudoSpectrum | 0.02 | 0.00 | 0.02 | |
| processStandards | 1.15 | 0.03 | 1.18 | |
| readStdInfo | 0.03 | 0.00 | 0.05 | |
| runCAMERA | 0.24 | 0.11 | 0.34 | |
| runGC | 0.03 | 0.02 | 0.05 | |
| runLC | 0.02 | 0.01 | 0.03 | |
| threeStdsDB | 0.01 | 0.00 | 0.02 | |
| treat.DB | 0.02 | 0.00 | 0.01 | |