| Back to Multiple platform build/check report for BioC 3.20: simplified long | 
 | 
This page was generated on 2025-04-02 19:35 -0400 (Wed, 02 Apr 2025).
| Hostname | OS | Arch (*) | R version | Installed pkgs | 
|---|---|---|---|---|
| nebbiolo2 | Linux (Ubuntu 24.04.1 LTS) | x86_64 | 4.4.3 (2025-02-28) -- "Trophy Case" | 4764 | 
| palomino8 | Windows Server 2022 Datacenter | x64 | 4.4.3 (2025-02-28 ucrt) -- "Trophy Case" | 4495 | 
| merida1 | macOS 12.7.5 Monterey | x86_64 | 4.4.3 (2025-02-28) -- "Trophy Case" | 4522 | 
| kjohnson1 | macOS 13.6.6 Ventura | arm64 | 4.4.3 (2025-02-28) -- "Trophy Case" | 4449 | 
| taishan | Linux (openEuler 24.03 LTS) | aarch64 | 4.4.3 (2025-02-28) -- "Trophy Case" | 4426 | 
| Click on any hostname to see more info about the system (e.g. compilers) (*) as reported by 'uname -p', except on Windows and Mac OS X | ||||
| Package 1154/2289 | Hostname | OS / Arch | INSTALL | BUILD | CHECK | BUILD BIN | ||||||||
| maser 1.24.0  (landing page) Diogo F.T. Veiga 
 | nebbiolo2 | Linux (Ubuntu 24.04.1 LTS) / x86_64 | OK | OK | OK |  | ||||||||
| palomino8 | Windows Server 2022 Datacenter / x64 | OK | OK | OK | OK |  | ||||||||
| merida1 | macOS 12.7.5 Monterey / x86_64 | OK | OK | OK | OK |  | ||||||||
| kjohnson1 | macOS 13.6.6 Ventura / arm64 | OK | OK | OK | OK |  | ||||||||
| taishan | Linux (openEuler 24.03 LTS) / aarch64 | OK | OK | OK | ||||||||||
| To the developers/maintainers of the maser package: - Allow up to 24 hours (and sometimes 48 hours) for your latest push to git@git.bioconductor.org:packages/maser.git to reflect on this report. See Troubleshooting Build Report for more information. - Use the following Renviron settings to reproduce errors and warnings. - If 'R CMD check' started to fail recently on the Linux builder(s) over a missing dependency, add the missing dependency to 'Suggests:' in your DESCRIPTION file. See Renviron.bioc for more information. - See Martin Grigorov's blog post for how to debug Linux ARM64 related issues on a x86_64 host. | 
| Package: maser | 
| Version: 1.24.0 | 
| Command: /home/biocbuild/R/R/bin/R CMD check --install=check:maser.install-out.txt --library=/home/biocbuild/R/R/site-library --no-vignettes --timings maser_1.24.0.tar.gz | 
| StartedAt: 2025-04-01 07:56:10 -0000 (Tue, 01 Apr 2025) | 
| EndedAt: 2025-04-01 08:03:57 -0000 (Tue, 01 Apr 2025) | 
| EllapsedTime: 466.6 seconds | 
| RetCode: 0 | 
| Status: OK | 
| CheckDir: maser.Rcheck | 
| Warnings: 0 | 
##############################################################################
##############################################################################
###
### Running command:
###
###   /home/biocbuild/R/R/bin/R CMD check --install=check:maser.install-out.txt --library=/home/biocbuild/R/R/site-library --no-vignettes --timings maser_1.24.0.tar.gz
###
##############################################################################
##############################################################################
* using log directory ‘/home/biocbuild/bbs-3.20-bioc/meat/maser.Rcheck’
* using R version 4.4.3 (2025-02-28)
* using platform: aarch64-unknown-linux-gnu
* R was compiled by
    aarch64-unknown-linux-gnu-gcc (GCC) 14.2.0
    GNU Fortran (GCC) 14.2.0
* running under: openEuler 24.03 (LTS)
* using session charset: UTF-8
* using option ‘--no-vignettes’
* checking for file ‘maser/DESCRIPTION’ ... OK
* checking extension type ... Package
* this is package ‘maser’ version ‘1.24.0’
* package encoding: UTF-8
* checking package namespace information ... OK
* checking package dependencies ... OK
* checking if this is a source package ... OK
* checking if there is a namespace ... OK
* checking for hidden files and directories ... OK
* checking for portable file names ... OK
* checking for sufficient/correct file permissions ... OK
* checking whether package ‘maser’ can be installed ... OK
* checking installed package size ... OK
* checking package directory ... OK
* checking ‘build’ directory ... OK
* checking DESCRIPTION meta-information ... OK
* checking top-level files ... OK
* checking for left-over files ... OK
* checking index information ... OK
* checking package subdirectories ... OK
* checking code files for non-ASCII characters ... OK
* checking R files for syntax errors ... OK
* checking whether the package can be loaded ... OK
* checking whether the package can be loaded with stated dependencies ... OK
* checking whether the package can be unloaded cleanly ... OK
* checking whether the namespace can be loaded with stated dependencies ... OK
* checking whether the namespace can be unloaded cleanly ... OK
* checking loading without being on the library search path ... OK
* checking whether startup messages can be suppressed ... OK
* checking dependencies in R code ... OK
* checking S3 generic/method consistency ... OK
* checking replacement functions ... OK
* checking foreign function calls ... OK
* checking R code for possible problems ... NOTE
availableFeaturesUniprotKB: no visible global function definition for
  'read.csv'
availableFeaturesUniprotKB: no visible binding for global variable
  'Category'
availableFeaturesUniprotKB: no visible binding for global variable
  'Name'
filterByIds: no visible binding for global variable 'ID'
mapTranscriptsA3SSevent: no visible global function definition for
  'subjectHits'
mapTranscriptsA5SSevent: no visible global function definition for
  'subjectHits'
mapTranscriptsMXEevent: no visible global function definition for
  'subjectHits'
mapTranscriptsRIevent: no visible global function definition for
  'subjectHits'
mapTranscriptsSEevent: no visible global function definition for
  'subjectHits'
overlappingFeatures: no visible global function definition for
  'subjectHits'
urlTracksUniprotKB: no visible global function definition for
  'read.csv'
Undefined global functions or variables:
  Category ID Name read.csv subjectHits
Consider adding
  importFrom("utils", "read.csv")
to your NAMESPACE file.
* checking Rd files ... OK
* checking Rd metadata ... OK
* checking Rd cross-references ... OK
* checking for missing documentation entries ... OK
* checking for code/documentation mismatches ... OK
* checking Rd \usage sections ... OK
* checking Rd contents ... OK
* checking for unstated dependencies in examples ... OK
* checking R/sysdata.rda ... OK
* checking files in ‘vignettes’ ... OK
* checking examples ... OK
Examples with CPU (user + system) or elapsed time > 5s
                            user system elapsed
plotUniprotKBFeatures      8.239  1.032  16.675
plotTranscripts            7.954  0.535   8.505
mapProteinFeaturesToEvents 4.409  0.374  12.002
* checking for unstated dependencies in vignettes ... OK
* checking package vignettes ... OK
* checking running R code from vignettes ... SKIPPED
* checking re-building of vignette outputs ... SKIPPED
* checking PDF version of manual ... OK
* DONE
Status: 1 NOTE
See
  ‘/home/biocbuild/bbs-3.20-bioc/meat/maser.Rcheck/00check.log’
for details.
maser.Rcheck/00install.out
############################################################################## ############################################################################## ### ### Running command: ### ### /home/biocbuild/R/R/bin/R CMD INSTALL maser ### ############################################################################## ############################################################################## * installing to library ‘/home/biocbuild/R/R-4.4.3/site-library’ * installing *source* package ‘maser’ ... ** using staged installation ** R ** inst ** byte-compile and prepare package for lazy loading ** help *** installing help indices ** building package indices ** installing vignettes ** testing if installed package can be loaded from temporary location ** testing if installed package can be loaded from final location ** testing if installed package keeps a record of temporary installation path * DONE (maser)
maser.Rcheck/maser-Ex.timings
| name | user | system | elapsed | |
| PSI-Maser-character-method | 0.895 | 0.016 | 0.923 | |
| PSI | 0.647 | 0.004 | 0.653 | |
| annotation-Maser-method | 0.744 | 0.048 | 0.794 | |
| availableFeaturesUniprotKB | 0.089 | 0.016 | 0.848 | |
| boxplot_PSI_levels | 2.850 | 0.335 | 3.192 | |
| counts-Maser-method | 0.652 | 0.064 | 0.717 | |
| display | 1.940 | 0.159 | 2.112 | |
| dotplot | 1.613 | 0.091 | 1.708 | |
| filterByCoverage | 1.137 | 0.004 | 1.143 | |
| filterByEventId | 1.094 | 0.000 | 1.096 | |
| geneEvents | 2.114 | 0.104 | 2.222 | |
| granges-Maser-method | 0.732 | 0.064 | 0.798 | |
| mapProteinFeaturesToEvents | 4.409 | 0.374 | 12.002 | |
| mapTranscriptsToEvents | 1.923 | 0.132 | 2.062 | |
| maser | 0.703 | 0.076 | 0.782 | |
| pca | 1.386 | 0.056 | 1.446 | |
| plotGenePSI | 2.209 | 0.116 | 2.330 | |
| plotTranscripts | 7.954 | 0.535 | 8.505 | |
| plotUniprotKBFeatures | 8.239 | 1.032 | 16.675 | |
| splicingDistribution | 1.505 | 0.119 | 1.629 | |
| summary-Maser-method | 0.876 | 0.056 | 0.934 | |
| topEvents | 1.180 | 0.076 | 1.259 | |
| volcano | 1.514 | 0.064 | 1.582 | |