| Back to Multiple platform build/check report for BioC 3.20: simplified long | 
  | 
This page was generated on 2025-04-02 19:32 -0400 (Wed, 02 Apr 2025).
| Hostname | OS | Arch (*) | R version | Installed pkgs | 
|---|---|---|---|---|
| nebbiolo2 | Linux (Ubuntu 24.04.1 LTS) | x86_64 | 4.4.3 (2025-02-28) -- "Trophy Case" | 4764 | 
| palomino8 | Windows Server 2022 Datacenter | x64 | 4.4.3 (2025-02-28 ucrt) -- "Trophy Case" | 4495 | 
| merida1 | macOS 12.7.5 Monterey | x86_64 | 4.4.3 (2025-02-28) -- "Trophy Case" | 4522 | 
| kjohnson1 | macOS 13.6.6 Ventura | arm64 | 4.4.3 (2025-02-28) -- "Trophy Case" | 4449 | 
| taishan | Linux (openEuler 24.03 LTS) | aarch64 | 4.4.3 (2025-02-28) -- "Trophy Case" | 4426 | 
| Click on any hostname to see more info about the system (e.g. compilers) (*) as reported by 'uname -p', except on Windows and Mac OS X | ||||
| Package 1080/2289 | Hostname | OS / Arch | INSTALL | BUILD | CHECK | BUILD BIN | ||||||||
| kebabs 1.40.0  (landing page) Ulrich Bodenhofer 
  | nebbiolo2 | Linux (Ubuntu 24.04.1 LTS) / x86_64 | OK | OK | OK | |||||||||
| palomino8 | Windows Server 2022 Datacenter / x64 | OK | OK | OK | OK | |||||||||
| merida1 | macOS 12.7.5 Monterey / x86_64 | OK | OK | OK | OK | |||||||||
| kjohnson1 | macOS 13.6.6 Ventura / arm64 | OK | OK | OK | OK | |||||||||
| taishan | Linux (openEuler 24.03 LTS) / aarch64 | OK | OK | OK | ||||||||||
| 
To the developers/maintainers of the kebabs package: - Allow up to 24 hours (and sometimes 48 hours) for your latest push to git@git.bioconductor.org:packages/kebabs.git to reflect on this report. See Troubleshooting Build Report for more information. - Use the following Renviron settings to reproduce errors and warnings. - If 'R CMD check' started to fail recently on the Linux builder(s) over a missing dependency, add the missing dependency to 'Suggests:' in your DESCRIPTION file. See Renviron.bioc for more information.  | 
| Package: kebabs | 
| Version: 1.40.0 | 
| Command: /Library/Frameworks/R.framework/Resources/bin/R CMD check --install=check:kebabs.install-out.txt --library=/Library/Frameworks/R.framework/Resources/library --no-vignettes --timings kebabs_1.40.0.tar.gz | 
| StartedAt: 2025-04-01 04:48:23 -0400 (Tue, 01 Apr 2025) | 
| EndedAt: 2025-04-01 04:54:47 -0400 (Tue, 01 Apr 2025) | 
| EllapsedTime: 383.1 seconds | 
| RetCode: 0 | 
| Status: OK | 
| CheckDir: kebabs.Rcheck | 
| Warnings: 0 | 
##############################################################################
##############################################################################
###
### Running command:
###
###   /Library/Frameworks/R.framework/Resources/bin/R CMD check --install=check:kebabs.install-out.txt --library=/Library/Frameworks/R.framework/Resources/library --no-vignettes --timings kebabs_1.40.0.tar.gz
###
##############################################################################
##############################################################################
* using log directory ‘/Users/biocbuild/bbs-3.20-bioc/meat/kebabs.Rcheck’
* using R version 4.4.3 (2025-02-28)
* using platform: x86_64-apple-darwin20
* R was compiled by
    Apple clang version 14.0.0 (clang-1400.0.29.202)
    GNU Fortran (GCC) 12.2.0
* running under: macOS Monterey 12.7.6
* using session charset: UTF-8
* using option ‘--no-vignettes’
* checking for file ‘kebabs/DESCRIPTION’ ... OK
* checking extension type ... Package
* this is package ‘kebabs’ version ‘1.40.0’
* checking package namespace information ... OK
* checking package dependencies ... OK
* checking if this is a source package ... OK
* checking if there is a namespace ... OK
* checking for hidden files and directories ... OK
* checking for portable file names ... OK
* checking for sufficient/correct file permissions ... OK
* checking whether package ‘kebabs’ can be installed ... OK
* used C compiler: ‘Apple clang version 14.0.0 (clang-1400.0.29.202)’
* used C++ compiler: ‘Apple clang version 14.0.0 (clang-1400.0.29.202)’
* used SDK: ‘MacOSX11.3.sdk’
* checking installed package size ... OK
* checking package directory ... OK
* checking ‘build’ directory ... OK
* checking DESCRIPTION meta-information ... OK
* checking top-level files ... OK
* checking for left-over files ... OK
* checking index information ... OK
* checking package subdirectories ... OK
* checking code files for non-ASCII characters ... OK
* checking R files for syntax errors ... OK
* checking whether the package can be loaded ... OK
* checking whether the package can be loaded with stated dependencies ... OK
* checking whether the package can be unloaded cleanly ... OK
* checking whether the namespace can be loaded with stated dependencies ... OK
* checking whether the namespace can be unloaded cleanly ... OK
* checking whether startup messages can be suppressed ... OK
* checking dependencies in R code ... OK
* checking S3 generic/method consistency ... OK
* checking replacement functions ... OK
* checking foreign function calls ... OK
* checking R code for possible problems ... OK
* checking Rd files ... OK
* checking Rd metadata ... OK
* checking Rd cross-references ... OK
* checking for missing documentation entries ... OK
* checking for code/documentation mismatches ... OK
* checking Rd \usage sections ... OK
* checking Rd contents ... OK
* checking for unstated dependencies in examples ... OK
* checking contents of ‘data’ directory ... OK
* checking data for non-ASCII characters ... OK
* checking data for ASCII and uncompressed saves ... OK
* checking line endings in C/C++/Fortran sources/headers ... OK
* checking line endings in Makefiles ... OK
* checking compilation flags in Makevars ... OK
* checking for GNU extensions in Makefiles ... OK
* checking for portable use of $(BLAS_LIBS) and $(LAPACK_LIBS) ... OK
* checking use of PKG_*FLAGS in Makefiles ... OK
* checking compiled code ... NOTE
Note: information on .o files is not available
* checking sizes of PDF files under ‘inst/doc’ ... OK
* checking files in ‘vignettes’ ... OK
* checking examples ... OK
Examples with CPU (user + system) or elapsed time > 5s
                       user system elapsed
performModelSelection 9.594  0.077  10.544
LinearKernel          8.401  0.071   8.628
performGridSearch     5.664  0.098   6.301
computeROCandAUC      4.083  1.200   5.736
* checking for unstated dependencies in vignettes ... OK
* checking package vignettes ... OK
* checking running R code from vignettes ... SKIPPED
* checking re-building of vignette outputs ... SKIPPED
* checking PDF version of manual ... OK
* DONE
Status: 1 NOTE
See
  ‘/Users/biocbuild/bbs-3.20-bioc/meat/kebabs.Rcheck/00check.log’
for details.
kebabs.Rcheck/00install.out
##############################################################################
##############################################################################
###
### Running command:
###
###   /Library/Frameworks/R.framework/Resources/bin/R CMD INSTALL kebabs
###
##############################################################################
##############################################################################
* installing to library ‘/Library/Frameworks/R.framework/Versions/4.4-x86_64/Resources/library’
* installing *source* package ‘kebabs’ ...
** using staged installation
** libs
using C compiler: ‘Apple clang version 14.0.0 (clang-1400.0.29.202)’
using C++ compiler: ‘Apple clang version 14.0.0 (clang-1400.0.29.202)’
using SDK: ‘MacOSX11.3.sdk’
clang -arch x86_64 -I"/Library/Frameworks/R.framework/Resources/include" -DNDEBUG -DSTRICT_R_HEADERS -I'/Library/Frameworks/R.framework/Versions/4.4-x86_64/Resources/library/IRanges/include' -I'/Library/Frameworks/R.framework/Versions/4.4-x86_64/Resources/library/XVector/include' -I'/Library/Frameworks/R.framework/Versions/4.4-x86_64/Resources/library/Biostrings/include' -I'/Library/Frameworks/R.framework/Versions/4.4-x86_64/Resources/library/Rcpp/include' -I'/Library/Frameworks/R.framework/Versions/4.4-x86_64/Resources/library/S4Vectors/include' -I/opt/R/x86_64/include    -fPIC  -falign-functions=64 -Wall -g -O2  -c Biostrings_stubs.c -o Biostrings_stubs.o
clang -arch x86_64 -I"/Library/Frameworks/R.framework/Resources/include" -DNDEBUG -DSTRICT_R_HEADERS -I'/Library/Frameworks/R.framework/Versions/4.4-x86_64/Resources/library/IRanges/include' -I'/Library/Frameworks/R.framework/Versions/4.4-x86_64/Resources/library/XVector/include' -I'/Library/Frameworks/R.framework/Versions/4.4-x86_64/Resources/library/Biostrings/include' -I'/Library/Frameworks/R.framework/Versions/4.4-x86_64/Resources/library/Rcpp/include' -I'/Library/Frameworks/R.framework/Versions/4.4-x86_64/Resources/library/S4Vectors/include' -I/opt/R/x86_64/include    -fPIC  -falign-functions=64 -Wall -g -O2  -c ByteStringVector.c -o ByteStringVector.o
clang++ -arch x86_64 -std=gnu++17 -I"/Library/Frameworks/R.framework/Resources/include" -DNDEBUG -DSTRICT_R_HEADERS -I'/Library/Frameworks/R.framework/Versions/4.4-x86_64/Resources/library/IRanges/include' -I'/Library/Frameworks/R.framework/Versions/4.4-x86_64/Resources/library/XVector/include' -I'/Library/Frameworks/R.framework/Versions/4.4-x86_64/Resources/library/Biostrings/include' -I'/Library/Frameworks/R.framework/Versions/4.4-x86_64/Resources/library/Rcpp/include' -I'/Library/Frameworks/R.framework/Versions/4.4-x86_64/Resources/library/S4Vectors/include' -I/opt/R/x86_64/include    -fPIC  -falign-functions=64 -Wall -g -O2   -c ExplicitRepC.cpp -o ExplicitRepC.o
clang++ -arch x86_64 -std=gnu++17 -I"/Library/Frameworks/R.framework/Resources/include" -DNDEBUG -DSTRICT_R_HEADERS -I'/Library/Frameworks/R.framework/Versions/4.4-x86_64/Resources/library/IRanges/include' -I'/Library/Frameworks/R.framework/Versions/4.4-x86_64/Resources/library/XVector/include' -I'/Library/Frameworks/R.framework/Versions/4.4-x86_64/Resources/library/Biostrings/include' -I'/Library/Frameworks/R.framework/Versions/4.4-x86_64/Resources/library/Rcpp/include' -I'/Library/Frameworks/R.framework/Versions/4.4-x86_64/Resources/library/S4Vectors/include' -I/opt/R/x86_64/include    -fPIC  -falign-functions=64 -Wall -g -O2   -c FeatureWeightsPosDepC.cpp -o FeatureWeightsPosDepC.o
clang++ -arch x86_64 -std=gnu++17 -I"/Library/Frameworks/R.framework/Resources/include" -DNDEBUG -DSTRICT_R_HEADERS -I'/Library/Frameworks/R.framework/Versions/4.4-x86_64/Resources/library/IRanges/include' -I'/Library/Frameworks/R.framework/Versions/4.4-x86_64/Resources/library/XVector/include' -I'/Library/Frameworks/R.framework/Versions/4.4-x86_64/Resources/library/Biostrings/include' -I'/Library/Frameworks/R.framework/Versions/4.4-x86_64/Resources/library/Rcpp/include' -I'/Library/Frameworks/R.framework/Versions/4.4-x86_64/Resources/library/S4Vectors/include' -I/opt/R/x86_64/include    -fPIC  -falign-functions=64 -Wall -g -O2   -c GappyPairC.cpp -o GappyPairC.o
clang -arch x86_64 -I"/Library/Frameworks/R.framework/Resources/include" -DNDEBUG -DSTRICT_R_HEADERS -I'/Library/Frameworks/R.framework/Versions/4.4-x86_64/Resources/library/IRanges/include' -I'/Library/Frameworks/R.framework/Versions/4.4-x86_64/Resources/library/XVector/include' -I'/Library/Frameworks/R.framework/Versions/4.4-x86_64/Resources/library/Biostrings/include' -I'/Library/Frameworks/R.framework/Versions/4.4-x86_64/Resources/library/Rcpp/include' -I'/Library/Frameworks/R.framework/Versions/4.4-x86_64/Resources/library/S4Vectors/include' -I/opt/R/x86_64/include    -fPIC  -falign-functions=64 -Wall -g -O2  -c IRanges_stubs.c -o IRanges_stubs.o
clang++ -arch x86_64 -std=gnu++17 -I"/Library/Frameworks/R.framework/Resources/include" -DNDEBUG -DSTRICT_R_HEADERS -I'/Library/Frameworks/R.framework/Versions/4.4-x86_64/Resources/library/IRanges/include' -I'/Library/Frameworks/R.framework/Versions/4.4-x86_64/Resources/library/XVector/include' -I'/Library/Frameworks/R.framework/Versions/4.4-x86_64/Resources/library/Biostrings/include' -I'/Library/Frameworks/R.framework/Versions/4.4-x86_64/Resources/library/Rcpp/include' -I'/Library/Frameworks/R.framework/Versions/4.4-x86_64/Resources/library/S4Vectors/include' -I/opt/R/x86_64/include    -fPIC  -falign-functions=64 -Wall -g -O2   -c KernelUtils.cpp -o KernelUtils.o
clang++ -arch x86_64 -std=gnu++17 -I"/Library/Frameworks/R.framework/Resources/include" -DNDEBUG -DSTRICT_R_HEADERS -I'/Library/Frameworks/R.framework/Versions/4.4-x86_64/Resources/library/IRanges/include' -I'/Library/Frameworks/R.framework/Versions/4.4-x86_64/Resources/library/XVector/include' -I'/Library/Frameworks/R.framework/Versions/4.4-x86_64/Resources/library/Biostrings/include' -I'/Library/Frameworks/R.framework/Versions/4.4-x86_64/Resources/library/Rcpp/include' -I'/Library/Frameworks/R.framework/Versions/4.4-x86_64/Resources/library/S4Vectors/include' -I/opt/R/x86_64/include    -fPIC  -falign-functions=64 -Wall -g -O2   -c MismatchC.cpp -o MismatchC.o
clang++ -arch x86_64 -std=gnu++17 -I"/Library/Frameworks/R.framework/Resources/include" -DNDEBUG -DSTRICT_R_HEADERS -I'/Library/Frameworks/R.framework/Versions/4.4-x86_64/Resources/library/IRanges/include' -I'/Library/Frameworks/R.framework/Versions/4.4-x86_64/Resources/library/XVector/include' -I'/Library/Frameworks/R.framework/Versions/4.4-x86_64/Resources/library/Biostrings/include' -I'/Library/Frameworks/R.framework/Versions/4.4-x86_64/Resources/library/Rcpp/include' -I'/Library/Frameworks/R.framework/Versions/4.4-x86_64/Resources/library/S4Vectors/include' -I/opt/R/x86_64/include    -fPIC  -falign-functions=64 -Wall -g -O2   -c MotifC.cpp -o MotifC.o
MotifC.cpp:2927:14: warning: variable 'dimFeatureSpace' set but not used [-Wunused-but-set-variable]
    uint64_t dimFeatureSpace;
             ^
MotifC.cpp:3511:41: warning: variable 'dimFeatureSpace' set but not used [-Wunused-but-set-variable]
    uint64_t keyPoolSize, poolNextFree, dimFeatureSpace;
                                        ^
2 warnings generated.
clang++ -arch x86_64 -std=gnu++17 -I"/Library/Frameworks/R.framework/Resources/include" -DNDEBUG -DSTRICT_R_HEADERS -I'/Library/Frameworks/R.framework/Versions/4.4-x86_64/Resources/library/IRanges/include' -I'/Library/Frameworks/R.framework/Versions/4.4-x86_64/Resources/library/XVector/include' -I'/Library/Frameworks/R.framework/Versions/4.4-x86_64/Resources/library/Biostrings/include' -I'/Library/Frameworks/R.framework/Versions/4.4-x86_64/Resources/library/Rcpp/include' -I'/Library/Frameworks/R.framework/Versions/4.4-x86_64/Resources/library/S4Vectors/include' -I/opt/R/x86_64/include    -fPIC  -falign-functions=64 -Wall -g -O2   -c PredictionC.cpp -o PredictionC.o
clang++ -arch x86_64 -std=gnu++17 -I"/Library/Frameworks/R.framework/Resources/include" -DNDEBUG -DSTRICT_R_HEADERS -I'/Library/Frameworks/R.framework/Versions/4.4-x86_64/Resources/library/IRanges/include' -I'/Library/Frameworks/R.framework/Versions/4.4-x86_64/Resources/library/XVector/include' -I'/Library/Frameworks/R.framework/Versions/4.4-x86_64/Resources/library/Biostrings/include' -I'/Library/Frameworks/R.framework/Versions/4.4-x86_64/Resources/library/Rcpp/include' -I'/Library/Frameworks/R.framework/Versions/4.4-x86_64/Resources/library/S4Vectors/include' -I/opt/R/x86_64/include    -fPIC  -falign-functions=64 -Wall -g -O2   -c PredictionProfileC.cpp -o PredictionProfileC.o
clang++ -arch x86_64 -std=gnu++17 -I"/Library/Frameworks/R.framework/Resources/include" -DNDEBUG -DSTRICT_R_HEADERS -I'/Library/Frameworks/R.framework/Versions/4.4-x86_64/Resources/library/IRanges/include' -I'/Library/Frameworks/R.framework/Versions/4.4-x86_64/Resources/library/XVector/include' -I'/Library/Frameworks/R.framework/Versions/4.4-x86_64/Resources/library/Biostrings/include' -I'/Library/Frameworks/R.framework/Versions/4.4-x86_64/Resources/library/Rcpp/include' -I'/Library/Frameworks/R.framework/Versions/4.4-x86_64/Resources/library/S4Vectors/include' -I/opt/R/x86_64/include    -fPIC  -falign-functions=64 -Wall -g -O2   -c R_init_kebabs.cpp -o R_init_kebabs.o
clang -arch x86_64 -I"/Library/Frameworks/R.framework/Resources/include" -DNDEBUG -DSTRICT_R_HEADERS -I'/Library/Frameworks/R.framework/Versions/4.4-x86_64/Resources/library/IRanges/include' -I'/Library/Frameworks/R.framework/Versions/4.4-x86_64/Resources/library/XVector/include' -I'/Library/Frameworks/R.framework/Versions/4.4-x86_64/Resources/library/Biostrings/include' -I'/Library/Frameworks/R.framework/Versions/4.4-x86_64/Resources/library/Rcpp/include' -I'/Library/Frameworks/R.framework/Versions/4.4-x86_64/Resources/library/S4Vectors/include' -I/opt/R/x86_64/include    -fPIC  -falign-functions=64 -Wall -g -O2  -c Rsvm.c -o Rsvm.o
clang++ -arch x86_64 -std=gnu++17 -I"/Library/Frameworks/R.framework/Resources/include" -DNDEBUG -DSTRICT_R_HEADERS -I'/Library/Frameworks/R.framework/Versions/4.4-x86_64/Resources/library/IRanges/include' -I'/Library/Frameworks/R.framework/Versions/4.4-x86_64/Resources/library/XVector/include' -I'/Library/Frameworks/R.framework/Versions/4.4-x86_64/Resources/library/Biostrings/include' -I'/Library/Frameworks/R.framework/Versions/4.4-x86_64/Resources/library/Rcpp/include' -I'/Library/Frameworks/R.framework/Versions/4.4-x86_64/Resources/library/S4Vectors/include' -I/opt/R/x86_64/include    -fPIC  -falign-functions=64 -Wall -g -O2   -c SparseMatrixHash.cpp -o SparseMatrixHash.o
clang++ -arch x86_64 -std=gnu++17 -I"/Library/Frameworks/R.framework/Resources/include" -DNDEBUG -DSTRICT_R_HEADERS -I'/Library/Frameworks/R.framework/Versions/4.4-x86_64/Resources/library/IRanges/include' -I'/Library/Frameworks/R.framework/Versions/4.4-x86_64/Resources/library/XVector/include' -I'/Library/Frameworks/R.framework/Versions/4.4-x86_64/Resources/library/Biostrings/include' -I'/Library/Frameworks/R.framework/Versions/4.4-x86_64/Resources/library/Rcpp/include' -I'/Library/Frameworks/R.framework/Versions/4.4-x86_64/Resources/library/S4Vectors/include' -I/opt/R/x86_64/include    -fPIC  -falign-functions=64 -Wall -g -O2   -c SpectrumC.cpp -o SpectrumC.o
clang++ -arch x86_64 -std=gnu++17 -I"/Library/Frameworks/R.framework/Resources/include" -DNDEBUG -DSTRICT_R_HEADERS -I'/Library/Frameworks/R.framework/Versions/4.4-x86_64/Resources/library/IRanges/include' -I'/Library/Frameworks/R.framework/Versions/4.4-x86_64/Resources/library/XVector/include' -I'/Library/Frameworks/R.framework/Versions/4.4-x86_64/Resources/library/Biostrings/include' -I'/Library/Frameworks/R.framework/Versions/4.4-x86_64/Resources/library/Rcpp/include' -I'/Library/Frameworks/R.framework/Versions/4.4-x86_64/Resources/library/S4Vectors/include' -I/opt/R/x86_64/include    -fPIC  -falign-functions=64 -Wall -g -O2   -c SymmetricPairC.cpp -o SymmetricPairC.o
clang++ -arch x86_64 -std=gnu++17 -I"/Library/Frameworks/R.framework/Resources/include" -DNDEBUG -DSTRICT_R_HEADERS -I'/Library/Frameworks/R.framework/Versions/4.4-x86_64/Resources/library/IRanges/include' -I'/Library/Frameworks/R.framework/Versions/4.4-x86_64/Resources/library/XVector/include' -I'/Library/Frameworks/R.framework/Versions/4.4-x86_64/Resources/library/Biostrings/include' -I'/Library/Frameworks/R.framework/Versions/4.4-x86_64/Resources/library/Rcpp/include' -I'/Library/Frameworks/R.framework/Versions/4.4-x86_64/Resources/library/S4Vectors/include' -I/opt/R/x86_64/include    -fPIC  -falign-functions=64 -Wall -g -O2   -c Utils.cpp -o Utils.o
clang -arch x86_64 -I"/Library/Frameworks/R.framework/Resources/include" -DNDEBUG -DSTRICT_R_HEADERS -I'/Library/Frameworks/R.framework/Versions/4.4-x86_64/Resources/library/IRanges/include' -I'/Library/Frameworks/R.framework/Versions/4.4-x86_64/Resources/library/XVector/include' -I'/Library/Frameworks/R.framework/Versions/4.4-x86_64/Resources/library/Biostrings/include' -I'/Library/Frameworks/R.framework/Versions/4.4-x86_64/Resources/library/Rcpp/include' -I'/Library/Frameworks/R.framework/Versions/4.4-x86_64/Resources/library/S4Vectors/include' -I/opt/R/x86_64/include    -fPIC  -falign-functions=64 -Wall -g -O2  -c XVector_stubs.c -o XVector_stubs.o
clang++ -arch x86_64 -std=gnu++17 -I"/Library/Frameworks/R.framework/Resources/include" -DNDEBUG -DSTRICT_R_HEADERS -I'/Library/Frameworks/R.framework/Versions/4.4-x86_64/Resources/library/IRanges/include' -I'/Library/Frameworks/R.framework/Versions/4.4-x86_64/Resources/library/XVector/include' -I'/Library/Frameworks/R.framework/Versions/4.4-x86_64/Resources/library/Biostrings/include' -I'/Library/Frameworks/R.framework/Versions/4.4-x86_64/Resources/library/Rcpp/include' -I'/Library/Frameworks/R.framework/Versions/4.4-x86_64/Resources/library/S4Vectors/include' -I/opt/R/x86_64/include    -fPIC  -falign-functions=64 -Wall -g -O2   -c svm.cpp -o svm.o
clang++ -arch x86_64 -std=gnu++17 -dynamiclib -Wl,-headerpad_max_install_names -undefined dynamic_lookup -L/Library/Frameworks/R.framework/Resources/lib -L/opt/R/x86_64/lib -o kebabs.so Biostrings_stubs.o ByteStringVector.o ExplicitRepC.o FeatureWeightsPosDepC.o GappyPairC.o IRanges_stubs.o KernelUtils.o MismatchC.o MotifC.o PredictionC.o PredictionProfileC.o R_init_kebabs.o Rsvm.o SparseMatrixHash.o SpectrumC.o SymmetricPairC.o Utils.o XVector_stubs.o svm.o -F/Library/Frameworks/R.framework/.. -framework R -Wl,-framework -Wl,CoreFoundation
installing to /Library/Frameworks/R.framework/Versions/4.4-x86_64/Resources/library/00LOCK-kebabs/00new/kebabs/libs
** R
** data
** inst
** byte-compile and prepare package for lazy loading
** help
*** installing help indices
** building package indices
** installing vignettes
** testing if installed package can be loaded from temporary location
** checking absolute paths in shared objects and dynamic libraries
** testing if installed package can be loaded from final location
** testing if installed package keeps a record of temporary installation path
* DONE (kebabs)
kebabs.Rcheck/kebabs-Ex.timings
| name | user | system | elapsed | |
| BioVector | 0.594 | 0.007 | 0.626 | |
| CrossValidationResultAccessors | 0.003 | 0.001 | 0.004 | |
| KBModelAccessors | 0.002 | 0.002 | 0.003 | |
| KernelMatrixAccessors | 0.002 | 0.001 | 0.002 | |
| LinearKernel | 8.401 | 0.071 | 8.628 | |
| ModelSelectionResultAccessors | 0.002 | 0.001 | 0.004 | |
| PredictionProfileAccessors | 0.004 | 0.001 | 0.004 | |
| ROCDataAccessors | 0.002 | 0.001 | 0.002 | |
| SVMAccess | 0.144 | 0.019 | 0.169 | |
| annotationSpecificKernel | 0.207 | 0.010 | 0.222 | |
| computeROCandAUC | 4.083 | 1.200 | 5.736 | |
| evaluatePrediction | 0.975 | 0.023 | 1.054 | |
| explicitRepresentation | 0.413 | 0.053 | 0.489 | |
| featureWeights | 0.357 | 0.023 | 0.394 | |
| gappyPairKernel | 0.016 | 0.005 | 0.023 | |
| genRandBioSeqs | 0.113 | 0.015 | 0.133 | |
| getPredProfMixture-methods | 4.137 | 0.299 | 4.934 | |
| getPredictionProfile-methods | 1.795 | 0.057 | 2.039 | |
| heatmap-methods | 0.714 | 0.047 | 0.820 | |
| kbsvm-methods | 0.386 | 0.028 | 0.452 | |
| kebabsCollectInfo | 0.089 | 0.011 | 0.108 | |
| kebabsOverview | 0.489 | 0.033 | 0.577 | |
| mismatchKernel | 0.017 | 0.004 | 0.020 | |
| motifKernel | 0.013 | 0.003 | 0.016 | |
| performCrossValidation-methods | 0.431 | 0.032 | 0.508 | |
| performGridSearch | 5.664 | 0.098 | 6.301 | |
| performModelSelection | 9.594 | 0.077 | 10.544 | |
| plot-methods | 0.547 | 0.030 | 0.631 | |
| positionDependentKernel | 0.023 | 0.009 | 0.037 | |
| predict-methods | 0.423 | 0.024 | 0.491 | |
| sequenceKernel | 0.061 | 0.008 | 0.072 | |
| show-methods | 0.051 | 0.016 | 0.072 | |
| spectrumKernel | 0.012 | 0.004 | 0.017 | |
| symmetricPairKernel | 0.187 | 0.015 | 0.225 | |