| Back to Multiple platform build/check report for BioC 3.20: simplified long |
|
This page was generated on 2024-07-16 11:40 -0400 (Tue, 16 Jul 2024).
| Hostname | OS | Arch (*) | R version | Installed pkgs |
|---|---|---|---|---|
| nebbiolo2 | Linux (Ubuntu 22.04.3 LTS) | x86_64 | 4.4.1 (2024-06-14) -- "Race for Your Life" | 4677 |
| palomino6 | Windows Server 2022 Datacenter | x64 | 4.4.1 (2024-06-14 ucrt) -- "Race for Your Life" | 4416 |
| lconway | macOS 12.7.1 Monterey | x86_64 | 4.4.1 (2024-06-14) -- "Race for Your Life" | 4444 |
| kjohnson3 | macOS 13.6.5 Ventura | arm64 | 4.4.1 (2024-06-14) -- "Race for Your Life" | 4393 |
| palomino8 | Windows Server 2022 Datacenter | x64 | 4.4.1 (2024-06-14 ucrt) -- "Race for Your Life" | 4373 |
| Click on any hostname to see more info about the system (e.g. compilers) (*) as reported by 'uname -p', except on Windows and Mac OS X | ||||
| Package 1049/2243 | Hostname | OS / Arch | INSTALL | BUILD | CHECK | BUILD BIN | ||||||||
| isomiRs 1.33.1 (landing page) Lorena Pantano
| nebbiolo2 | Linux (Ubuntu 22.04.3 LTS) / x86_64 | OK | OK | OK | |||||||||
| palomino6 | Windows Server 2022 Datacenter / x64 | OK | OK | OK | OK | |||||||||
| lconway | macOS 12.7.1 Monterey / x86_64 | OK | OK | OK | OK | |||||||||
| kjohnson3 | macOS 13.6.5 Ventura / arm64 | OK | OK | OK | OK | |||||||||
| palomino8 | Windows Server 2022 Datacenter / x64 | OK | OK | OK | OK | |||||||||
|
To the developers/maintainers of the isomiRs package: - Allow up to 24 hours (and sometimes 48 hours) for your latest push to git@git.bioconductor.org:packages/isomiRs.git to reflect on this report. See Troubleshooting Build Report for more information. - Use the following Renviron settings to reproduce errors and warnings. - If 'R CMD check' started to fail recently on the Linux builder(s) over a missing dependency, add the missing dependency to 'Suggests:' in your DESCRIPTION file. See Renviron.bioc for more information. |
| Package: isomiRs |
| Version: 1.33.1 |
| Command: C:\Users\biocbuild\bbs-3.20-bioc\R\bin\R.exe CMD check --no-multiarch --install=check:isomiRs.install-out.txt --library=C:\Users\biocbuild\bbs-3.20-bioc\R\library --no-vignettes --timings isomiRs_1.33.1.tar.gz |
| StartedAt: 2024-07-16 01:09:30 -0400 (Tue, 16 Jul 2024) |
| EndedAt: 2024-07-16 01:13:50 -0400 (Tue, 16 Jul 2024) |
| EllapsedTime: 259.8 seconds |
| RetCode: 0 |
| Status: OK |
| CheckDir: isomiRs.Rcheck |
| Warnings: 0 |
##############################################################################
##############################################################################
###
### Running command:
###
### C:\Users\biocbuild\bbs-3.20-bioc\R\bin\R.exe CMD check --no-multiarch --install=check:isomiRs.install-out.txt --library=C:\Users\biocbuild\bbs-3.20-bioc\R\library --no-vignettes --timings isomiRs_1.33.1.tar.gz
###
##############################################################################
##############################################################################
* using log directory 'C:/Users/biocbuild/bbs-3.20-bioc/meat/isomiRs.Rcheck'
* using R version 4.4.1 (2024-06-14 ucrt)
* using platform: x86_64-w64-mingw32
* R was compiled by
gcc.exe (GCC) 13.2.0
GNU Fortran (GCC) 13.2.0
* running under: Windows Server 2022 x64 (build 20348)
* using session charset: UTF-8
* using option '--no-vignettes'
* checking for file 'isomiRs/DESCRIPTION' ... OK
* checking extension type ... Package
* this is package 'isomiRs' version '1.33.1'
* package encoding: UTF-8
* checking package namespace information ... OK
* checking package dependencies ... OK
* checking if this is a source package ... OK
* checking if there is a namespace ... OK
* checking for hidden files and directories ... NOTE
Found the following hidden files and directories:
.travis.yml
These were most likely included in error. See section 'Package
structure' in the 'Writing R Extensions' manual.
* checking for portable file names ... OK
* checking whether package 'isomiRs' can be installed ... OK
* checking installed package size ... OK
* checking package directory ... OK
* checking 'build' directory ... OK
* checking DESCRIPTION meta-information ... NOTE
License stub is invalid DCF.
* checking top-level files ... OK
* checking for left-over files ... OK
* checking index information ... OK
* checking package subdirectories ... OK
* checking code files for non-ASCII characters ... OK
* checking R files for syntax errors ... OK
* checking whether the package can be loaded ... OK
* checking whether the package can be loaded with stated dependencies ... OK
* checking whether the package can be unloaded cleanly ... OK
* checking whether the namespace can be loaded with stated dependencies ... OK
* checking whether the namespace can be unloaded cleanly ... OK
* checking dependencies in R code ... OK
* checking S3 generic/method consistency ... OK
* checking replacement functions ... OK
* checking foreign function calls ... OK
* checking R code for possible problems ... NOTE
.clean_noise: no visible binding for global variable 'total'
.clean_noise: no visible binding for global variable 'hits'
.remove_gt_n_changes: no visible binding for global variable 'changes'
isoAnnotate: no visible binding for global variable 'pct'
isoCounts: no visible global function definition for 'as.tibble'
isoPlot: no visible global function definition for 'across'
isoPlot: no visible global function definition for 'everything'
isoPlot: no visible binding for global variable 'iso_sample'
isoPlotPosition: no visible global function definition for 'across'
isoPlotPosition: no visible global function definition for 'everything'
isoPlotPosition: no visible binding for global variable 'iso_sample'
isoSelect.IsomirDataSeq: no visible global function definition for
'across'
isoSelect.IsomirDataSeq: no visible global function definition for
'everything'
mirna2targetscan: no visible binding for global variable
'targetscan.Hs.egMIRNA'
mirna2targetscan: no visible binding for global variable
'targetscan.Hs.egMIRBASE2FAMILY'
mirna2targetscan: no visible binding for global variable
'targetscan.Hs.egTARGETS'
mirna2targetscan: no visible binding for global variable
'targetscan.Hs.egTARGETSFULL'
mirna2targetscan: no visible binding for global variable
'targetscan.Mm.egMIRNA'
mirna2targetscan: no visible binding for global variable
'targetscan.Mm.egMIRBASE2FAMILY'
mirna2targetscan: no visible binding for global variable
'targetscan.Mm.egTARGETS'
mirna2targetscan: no visible binding for global variable
'targetscan.Mm.egTARGETSFULL'
isoSelect,IsomirDataSeq: no visible global function definition for
'across'
isoSelect,IsomirDataSeq: no visible global function definition for
'everything'
Undefined global functions or variables:
across as.tibble changes everything hits iso_sample pct
targetscan.Hs.egMIRBASE2FAMILY targetscan.Hs.egMIRNA
targetscan.Hs.egTARGETS targetscan.Hs.egTARGETSFULL
targetscan.Mm.egMIRBASE2FAMILY targetscan.Mm.egMIRNA
targetscan.Mm.egTARGETS targetscan.Mm.egTARGETSFULL total
* checking Rd files ... OK
* checking Rd metadata ... OK
* checking Rd cross-references ... OK
* checking for missing documentation entries ... OK
* checking for code/documentation mismatches ... OK
* checking Rd \usage sections ... OK
* checking Rd contents ... OK
* checking for unstated dependencies in examples ... OK
* checking contents of 'data' directory ... OK
* checking data for non-ASCII characters ... OK
* checking LazyData ... OK
* checking data for ASCII and uncompressed saves ... OK
* checking files in 'vignettes' ... OK
* checking examples ... OK
Examples with CPU (user + system) or elapsed time > 5s
user system elapsed
isoNetwork 6.34 0.21 6.57
* checking for unstated dependencies in 'tests' ... OK
* checking tests ...
Running 'testthat.R'
OK
* checking for unstated dependencies in vignettes ... OK
* checking package vignettes ... OK
* checking running R code from vignettes ... SKIPPED
* checking re-building of vignette outputs ... SKIPPED
* checking PDF version of manual ... OK
* DONE
Status: 3 NOTEs
See
'C:/Users/biocbuild/bbs-3.20-bioc/meat/isomiRs.Rcheck/00check.log'
for details.
isomiRs.Rcheck/00install.out
############################################################################## ############################################################################## ### ### Running command: ### ### C:\Users\biocbuild\bbs-3.20-bioc\R\bin\R.exe CMD INSTALL isomiRs ### ############################################################################## ############################################################################## * installing to library 'C:/Users/biocbuild/bbs-3.20-bioc/R/library' * installing *source* package 'isomiRs' ... ** using staged installation ** R ** data *** moving datasets to lazyload DB Registered S3 method overwritten by 'GGally': method from +.gg ggplot2 ** inst ** byte-compile and prepare package for lazy loading ** help *** installing help indices ** building package indices ** installing vignettes ** testing if installed package can be loaded from temporary location ** testing if installed package can be loaded from final location ** testing if installed package keeps a record of temporary installation path * DONE (isomiRs)
isomiRs.Rcheck/tests/testthat.Rout
R version 4.4.1 (2024-06-14 ucrt) -- "Race for Your Life"
Copyright (C) 2024 The R Foundation for Statistical Computing
Platform: x86_64-w64-mingw32/x64
R is free software and comes with ABSOLUTELY NO WARRANTY.
You are welcome to redistribute it under certain conditions.
Type 'license()' or 'licence()' for distribution details.
R is a collaborative project with many contributors.
Type 'contributors()' for more information and
'citation()' on how to cite R or R packages in publications.
Type 'demo()' for some demos, 'help()' for on-line help, or
'help.start()' for an HTML browser interface to help.
Type 'q()' to quit R.
> library(testthat)
> library(isomiRs)
Loading required package: SummarizedExperiment
Loading required package: MatrixGenerics
Loading required package: matrixStats
Attaching package: 'MatrixGenerics'
The following objects are masked from 'package:matrixStats':
colAlls, colAnyNAs, colAnys, colAvgsPerRowSet, colCollapse,
colCounts, colCummaxs, colCummins, colCumprods, colCumsums,
colDiffs, colIQRDiffs, colIQRs, colLogSumExps, colMadDiffs,
colMads, colMaxs, colMeans2, colMedians, colMins, colOrderStats,
colProds, colQuantiles, colRanges, colRanks, colSdDiffs, colSds,
colSums2, colTabulates, colVarDiffs, colVars, colWeightedMads,
colWeightedMeans, colWeightedMedians, colWeightedSds,
colWeightedVars, rowAlls, rowAnyNAs, rowAnys, rowAvgsPerColSet,
rowCollapse, rowCounts, rowCummaxs, rowCummins, rowCumprods,
rowCumsums, rowDiffs, rowIQRDiffs, rowIQRs, rowLogSumExps,
rowMadDiffs, rowMads, rowMaxs, rowMeans2, rowMedians, rowMins,
rowOrderStats, rowProds, rowQuantiles, rowRanges, rowRanks,
rowSdDiffs, rowSds, rowSums2, rowTabulates, rowVarDiffs, rowVars,
rowWeightedMads, rowWeightedMeans, rowWeightedMedians,
rowWeightedSds, rowWeightedVars
Loading required package: GenomicRanges
Loading required package: stats4
Loading required package: BiocGenerics
Attaching package: 'BiocGenerics'
The following objects are masked from 'package:stats':
IQR, mad, sd, var, xtabs
The following objects are masked from 'package:base':
Filter, Find, Map, Position, Reduce, anyDuplicated, aperm, append,
as.data.frame, basename, cbind, colnames, dirname, do.call,
duplicated, eval, evalq, get, grep, grepl, intersect, is.unsorted,
lapply, mapply, match, mget, order, paste, pmax, pmax.int, pmin,
pmin.int, rank, rbind, rownames, sapply, setdiff, table, tapply,
union, unique, unsplit, which.max, which.min
Loading required package: S4Vectors
Attaching package: 'S4Vectors'
The following object is masked from 'package:utils':
findMatches
The following objects are masked from 'package:base':
I, expand.grid, unname
Loading required package: IRanges
Attaching package: 'IRanges'
The following object is masked from 'package:grDevices':
windows
Loading required package: GenomeInfoDb
Loading required package: Biobase
Welcome to Bioconductor
Vignettes contain introductory material; view with
'browseVignettes()'. To cite Bioconductor, see
'citation("Biobase")', and for packages 'citation("pkgname")'.
Attaching package: 'Biobase'
The following object is masked from 'package:MatrixGenerics':
rowMedians
The following objects are masked from 'package:matrixStats':
anyMissing, rowMedians
>
> test_check("isomiRs")
Dimmension of cor matrix: 20 20
Dimmension of cor matrix: 3 2
Dimmension of cor matrix: 3 2
Dimmension of cor matrix: 0 0
[ FAIL 0 | WARN 6 | SKIP 0 | PASS 25 ]
[ FAIL 0 | WARN 6 | SKIP 0 | PASS 25 ]
>
> proc.time()
user system elapsed
15.17 1.10 16.42
isomiRs.Rcheck/isomiRs-Ex.timings
| name | user | system | elapsed | |
| IsomirDataSeq | 2.10 | 0.22 | 2.55 | |
| IsomirDataSeqFromFiles | 1.50 | 0.22 | 1.59 | |
| IsomirDataSeqFromMirtop | 0.77 | 0.05 | 0.79 | |
| IsomirDataSeqFromRawData | 1.44 | 0.17 | 1.49 | |
| counts | 0.04 | 0.02 | 0.06 | |
| design | 0.22 | 0.00 | 0.21 | |
| findTargets | 0.08 | 0.02 | 0.09 | |
| isoAnnotate | 4.36 | 0.04 | 4.41 | |
| isoCounts | 0.42 | 0.05 | 0.47 | |
| isoDE | 4.77 | 0.10 | 4.87 | |
| isoNetwork | 6.34 | 0.21 | 6.57 | |
| isoNorm | 1.27 | 0.07 | 1.32 | |
| isoPlot | 0.58 | 0.01 | 0.60 | |
| isoPlotPosition | 0.28 | 0.05 | 0.33 | |
| isoSelect | 0.12 | 0.00 | 0.14 | |
| isoTop | 0.25 | 0.03 | 0.28 | |
| mirna2targetscan | 3.19 | 0.06 | 3.72 | |