| Back to Multiple platform build/check report for BioC 3.20: simplified long | 
 | 
This page was generated on 2025-04-02 19:34 -0400 (Wed, 02 Apr 2025).
| Hostname | OS | Arch (*) | R version | Installed pkgs | 
|---|---|---|---|---|
| nebbiolo2 | Linux (Ubuntu 24.04.1 LTS) | x86_64 | 4.4.3 (2025-02-28) -- "Trophy Case" | 4764 | 
| palomino8 | Windows Server 2022 Datacenter | x64 | 4.4.3 (2025-02-28 ucrt) -- "Trophy Case" | 4495 | 
| merida1 | macOS 12.7.5 Monterey | x86_64 | 4.4.3 (2025-02-28) -- "Trophy Case" | 4522 | 
| kjohnson1 | macOS 13.6.6 Ventura | arm64 | 4.4.3 (2025-02-28) -- "Trophy Case" | 4449 | 
| taishan | Linux (openEuler 24.03 LTS) | aarch64 | 4.4.3 (2025-02-28) -- "Trophy Case" | 4426 | 
| Click on any hostname to see more info about the system (e.g. compilers) (*) as reported by 'uname -p', except on Windows and Mac OS X | ||||
| Package 950/2289 | Hostname | OS / Arch | INSTALL | BUILD | CHECK | BUILD BIN | ||||||||
| hiAnnotator 1.40.0  (landing page) Nirav V Malani 
 | nebbiolo2 | Linux (Ubuntu 24.04.1 LTS) / x86_64 | OK | OK | OK |  | ||||||||
| palomino8 | Windows Server 2022 Datacenter / x64 | OK | OK | OK | OK |  | ||||||||
| merida1 | macOS 12.7.5 Monterey / x86_64 | OK | OK | OK | OK |  | ||||||||
| kjohnson1 | macOS 13.6.6 Ventura / arm64 | OK | OK | OK | OK |  | ||||||||
| taishan | Linux (openEuler 24.03 LTS) / aarch64 | OK | OK | OK | ||||||||||
| To the developers/maintainers of the hiAnnotator package: - Allow up to 24 hours (and sometimes 48 hours) for your latest push to git@git.bioconductor.org:packages/hiAnnotator.git to reflect on this report. See Troubleshooting Build Report for more information. - Use the following Renviron settings to reproduce errors and warnings. - If 'R CMD check' started to fail recently on the Linux builder(s) over a missing dependency, add the missing dependency to 'Suggests:' in your DESCRIPTION file. See Renviron.bioc for more information. | 
| Package: hiAnnotator | 
| Version: 1.40.0 | 
| Command: /Library/Frameworks/R.framework/Resources/bin/R CMD check --install=check:hiAnnotator.install-out.txt --library=/Library/Frameworks/R.framework/Resources/library --no-vignettes --timings hiAnnotator_1.40.0.tar.gz | 
| StartedAt: 2025-04-01 21:39:08 -0400 (Tue, 01 Apr 2025) | 
| EndedAt: 2025-04-01 21:43:22 -0400 (Tue, 01 Apr 2025) | 
| EllapsedTime: 254.4 seconds | 
| RetCode: 0 | 
| Status: OK | 
| CheckDir: hiAnnotator.Rcheck | 
| Warnings: 0 | 
##############################################################################
##############################################################################
###
### Running command:
###
###   /Library/Frameworks/R.framework/Resources/bin/R CMD check --install=check:hiAnnotator.install-out.txt --library=/Library/Frameworks/R.framework/Resources/library --no-vignettes --timings hiAnnotator_1.40.0.tar.gz
###
##############################################################################
##############################################################################
* using log directory ‘/Users/biocbuild/bbs-3.20-bioc/meat/hiAnnotator.Rcheck’
* using R version 4.4.3 (2025-02-28)
* using platform: aarch64-apple-darwin20
* R was compiled by
    Apple clang version 14.0.0 (clang-1400.0.29.202)
    GNU Fortran (GCC) 12.2.0
* running under: macOS Ventura 13.7.1
* using session charset: UTF-8
* using option ‘--no-vignettes’
* checking for file ‘hiAnnotator/DESCRIPTION’ ... OK
* this is package ‘hiAnnotator’ version ‘1.40.0’
* checking package namespace information ... OK
* checking package dependencies ... OK
* checking if this is a source package ... OK
* checking if there is a namespace ... OK
* checking for hidden files and directories ... OK
* checking for portable file names ... OK
* checking for sufficient/correct file permissions ... OK
* checking whether package ‘hiAnnotator’ can be installed ... OK
* checking installed package size ... OK
* checking package directory ... OK
* checking ‘build’ directory ... OK
* checking DESCRIPTION meta-information ... OK
* checking top-level files ... OK
* checking for left-over files ... OK
* checking index information ... OK
* checking package subdirectories ... OK
* checking code files for non-ASCII characters ... OK
* checking R files for syntax errors ... OK
* checking whether the package can be loaded ... OK
* checking whether the package can be loaded with stated dependencies ... OK
* checking whether the package can be unloaded cleanly ... OK
* checking whether the namespace can be loaded with stated dependencies ... OK
* checking whether the namespace can be unloaded cleanly ... OK
* checking dependencies in R code ... OK
* checking S3 generic/method consistency ... OK
* checking replacement functions ... OK
* checking foreign function calls ... OK
* checking R code for possible problems ... NOTE
get2NearestFeature: no visible global function definition for ‘IRanges’
get2NearestFeature: no visible global function definition for ‘mid’
get2NearestFeature: no visible binding for global variable ‘qStrand’
get2NearestFeature: no visible binding for global variable
  ‘subjectHits’
get2NearestFeature : <anonymous>: no visible binding for global
  variable ‘queryHits’
get2NearestFeature : <anonymous>: no visible binding for global
  variable ‘featureName’
getFeatureCounts : <anonymous>: no visible global function definition
  for ‘countQueryHits’
getFeatureCountsBig: no visible global function definition for ‘mid’
getLowestDists: no visible binding for global variable ‘queryHits’
getNearestFeature: no visible global function definition for ‘IRanges’
getNearestFeature: no visible global function definition for ‘mid’
getNearestFeature: no visible binding for global variable ‘queryHits’
getNearestFeature: no visible binding for global variable ‘n’
getNearestFeature: no visible binding for global variable ‘featureName’
getSitesInFeature: no visible global function definition for
  ‘overlapsAny’
getSitesInFeature: no visible binding for global variable ‘queryHits’
getSitesInFeature: no visible global function definition for ‘n’
getSitesInFeature: no visible binding for global variable ‘featureName’
makeChunks: no visible global function definition for ‘breakInChunks’
makeChunks: no visible global function definition for ‘detectCores’
makeChunks : <anonymous>: no visible global function definition for
  ‘keepSeqlevels’
makeChunks : <anonymous>: no visible global function definition for
  ‘seqlevelsInUse’
makeGRanges: no visible global function definition for ‘IRanges’
makeGRanges: no visible global function definition for ‘seqlengths’
makeGRanges: no visible global function definition for ‘seqlevels<-’
makeGRanges: no visible global function definition for ‘sortSeqlevels’
makeGRanges: no visible global function definition for ‘seqlevelsInUse’
makeGRanges: no visible global function definition for ‘seqlengths<-’
makeGRanges: no visible global function definition for ‘seqlevels’
Undefined global functions or variables:
  IRanges breakInChunks countQueryHits detectCores featureName
  keepSeqlevels mid n overlapsAny qStrand queryHits seqlengths
  seqlengths<- seqlevels seqlevels<- seqlevelsInUse sortSeqlevels
  subjectHits
* checking Rd files ... OK
* checking Rd metadata ... OK
* checking Rd cross-references ... OK
* checking for missing documentation entries ... OK
* checking for code/documentation mismatches ... OK
* checking Rd \usage sections ... OK
* checking Rd contents ... OK
* checking for unstated dependencies in examples ... OK
* checking contents of ‘data’ directory ... OK
* checking data for non-ASCII characters ... OK
* checking data for ASCII and uncompressed saves ... OK
* checking files in ‘vignettes’ ... OK
* checking examples ... OK
* checking for unstated dependencies in vignettes ... OK
* checking package vignettes ... OK
* checking running R code from vignettes ... SKIPPED
* checking re-building of vignette outputs ... SKIPPED
* checking PDF version of manual ... OK
* DONE
Status: 1 NOTE
See
  ‘/Users/biocbuild/bbs-3.20-bioc/meat/hiAnnotator.Rcheck/00check.log’
for details.
hiAnnotator.Rcheck/00install.out
############################################################################## ############################################################################## ### ### Running command: ### ### /Library/Frameworks/R.framework/Resources/bin/R CMD INSTALL hiAnnotator ### ############################################################################## ############################################################################## * installing to library ‘/Library/Frameworks/R.framework/Versions/4.4-arm64/Resources/library’ * installing *source* package ‘hiAnnotator’ ... ** using staged installation ** R ** data ** byte-compile and prepare package for lazy loading ** help *** installing help indices ** building package indices ** installing vignettes ** testing if installed package can be loaded from temporary location ** testing if installed package can be loaded from final location ** testing if installed package keeps a record of temporary installation path * DONE (hiAnnotator)
hiAnnotator.Rcheck/hiAnnotator-Ex.timings
| name | user | system | elapsed | |
| cleanColname | 0.000 | 0.000 | 0.001 | |
| doAnnotation | 0.968 | 0.023 | 0.993 | |
| get2NearestFeature | 2.152 | 0.035 | 2.189 | |
| getFeatureCounts | 0.529 | 0.019 | 0.547 | |
| getFeatureCountsBig | 0.554 | 0.024 | 0.578 | |
| getLowestDists | 0.083 | 0.001 | 0.085 | |
| getNearestFeature | 1.134 | 0.033 | 1.170 | |
| getRelevantCol | 0.006 | 0.003 | 0.010 | |
| getSitesInFeature | 0.613 | 0.018 | 0.631 | |
| getUCSCtable | 0 | 0 | 0 | |
| getWindowLabel | 0 | 0 | 0 | |
| makeChunks | 0.396 | 0.017 | 0.413 | |
| makeGRanges | 0.357 | 0.014 | 0.371 | |
| makeUCSCsession | 0.001 | 0.000 | 0.000 | |
| plotdisFeature | 1.332 | 0.030 | 1.364 | |