| Back to Multiple platform build/check report for BioC 3.20: simplified long |
|
This page was generated on 2025-04-02 19:30 -0400 (Wed, 02 Apr 2025).
| Hostname | OS | Arch (*) | R version | Installed pkgs |
|---|---|---|---|---|
| nebbiolo2 | Linux (Ubuntu 24.04.1 LTS) | x86_64 | 4.4.3 (2025-02-28) -- "Trophy Case" | 4764 |
| palomino8 | Windows Server 2022 Datacenter | x64 | 4.4.3 (2025-02-28 ucrt) -- "Trophy Case" | 4495 |
| merida1 | macOS 12.7.5 Monterey | x86_64 | 4.4.3 (2025-02-28) -- "Trophy Case" | 4522 |
| kjohnson1 | macOS 13.6.6 Ventura | arm64 | 4.4.3 (2025-02-28) -- "Trophy Case" | 4449 |
| taishan | Linux (openEuler 24.03 LTS) | aarch64 | 4.4.3 (2025-02-28) -- "Trophy Case" | 4426 |
| Click on any hostname to see more info about the system (e.g. compilers) (*) as reported by 'uname -p', except on Windows and Mac OS X | ||||
| Package 932/2289 | Hostname | OS / Arch | INSTALL | BUILD | CHECK | BUILD BIN | ||||||||
| h5vc 2.40.1 (landing page) Paul Theodor Pyl
| nebbiolo2 | Linux (Ubuntu 24.04.1 LTS) / x86_64 | OK | OK | WARNINGS | |||||||||
| palomino8 | Windows Server 2022 Datacenter / x64 | OK | OK | WARNINGS | OK | |||||||||
| merida1 | macOS 12.7.5 Monterey / x86_64 | OK | OK | WARNINGS | OK | |||||||||
| kjohnson1 | macOS 13.6.6 Ventura / arm64 | OK | OK | WARNINGS | OK | |||||||||
| taishan | Linux (openEuler 24.03 LTS) / aarch64 | OK | OK | WARNINGS | ||||||||||
|
To the developers/maintainers of the h5vc package: - Allow up to 24 hours (and sometimes 48 hours) for your latest push to git@git.bioconductor.org:packages/h5vc.git to reflect on this report. See Troubleshooting Build Report for more information. - Use the following Renviron settings to reproduce errors and warnings. - If 'R CMD check' started to fail recently on the Linux builder(s) over a missing dependency, add the missing dependency to 'Suggests:' in your DESCRIPTION file. See Renviron.bioc for more information. |
| Package: h5vc |
| Version: 2.40.1 |
| Command: F:\biocbuild\bbs-3.20-bioc\R\bin\R.exe CMD INSTALL h5vc |
| StartedAt: 2025-03-31 15:45:47 -0400 (Mon, 31 Mar 2025) |
| EndedAt: 2025-03-31 15:46:37 -0400 (Mon, 31 Mar 2025) |
| EllapsedTime: 49.7 seconds |
| RetCode: 0 |
| Status: OK |
##############################################################################
##############################################################################
###
### Running command:
###
### F:\biocbuild\bbs-3.20-bioc\R\bin\R.exe CMD INSTALL h5vc
###
##############################################################################
##############################################################################
* installing to library 'F:/biocbuild/bbs-3.20-bioc/R/library'
* installing *source* package 'h5vc' ...
** using staged installation
** libs
using C compiler: 'gcc.exe (GCC) 13.3.0'
using C++ compiler: 'G__~1.EXE (GCC) 13.3.0'
gcc -I"F:/biocbuild/bbs-3.20-bioc/R/include" -DNDEBUG -D_FILE_OFFSET_BITS=64 -I'F:/biocbuild/bbs-3.20-bioc/R/library/Rhtslib/include' -I"C:/rtools44/x86_64-w64-mingw32.static.posix/include" -O2 -Wall -mfpmath=sse -msse2 -mstackrealign -c bam_plbuf.c -o bam_plbuf.o
g++ -std=gnu++17 -I"F:/biocbuild/bbs-3.20-bioc/R/include" -DNDEBUG -D_FILE_OFFSET_BITS=64 -I'F:/biocbuild/bbs-3.20-bioc/R/library/Rhtslib/include' -I"C:/rtools44/x86_64-w64-mingw32.static.posix/include" -O2 -Wall -mfpmath=sse -msse2 -mstackrealign -c tallyBAM.cpp -o tallyBAM.o
tallyBAM.cpp: In function 'int pileup_func_old(uint32_t, hts_pos_t, int, const bam_pileup1_t*, void*)':
tallyBAM.cpp:47:7: warning: unused variable 'len' [-Wunused-variable]
47 | int len = nttable->end - nttable->beg;
| ^~~
tallyBAM.cpp: In function 'int pileup_func(uint32_t, hts_pos_t, int, const bam_pileup1_t*, void*)':
tallyBAM.cpp:96:7: warning: unused variable 'len' [-Wunused-variable]
96 | int len = nttable->end - nttable->beg;
| ^~~
tallyBAM.cpp: In function 'int _tallyBAM(char**, char**, int*, int*, int*, int*, int*, int*, int*, int*)':
tallyBAM.cpp:140:13: warning: unused variable 'c' [-Wunused-variable]
140 | int c = 0;
| ^
tallyBAM.cpp: At global scope:
tallyBAM.cpp:43:12: warning: 'int pileup_func_old(uint32_t, hts_pos_t, int, const bam_pileup1_t*, void*)' defined but not used [-Wunused-function]
43 | static int pileup_func_old(uint32_t tid, hts_pos_t pos, int n, const bam_pileup1_t *pl, void *data)
| ^~~~~~~~~~~~~~~
g++ -std=gnu++17 -shared -s -static-libgcc -o h5vc.dll tmp.def bam_plbuf.o tallyBAM.o F:/biocbuild/bbs-3.20-bioc/R/library/Rhtslib/usrlib/x64/libhts.a -lm -lbz2 -llzma -lcurl -lpsl -lbrotlidec -lbrotlicommon -lbcrypt -lidn2 -lunistring -liconv -lssl -lcrypto -lz -lcrypt32 -lwsock32 -lwldap32 -lssh2 -lgcrypt -lgpg-error -lws2_32 -lzstd -lregex -LC:/rtools44/x86_64-w64-mingw32.static.posix/lib/x64 -LC:/rtools44/x86_64-w64-mingw32.static.posix/lib -LF:/biocbuild/bbs-3.20-bioc/R/bin/x64 -lR
installing to F:/biocbuild/bbs-3.20-bioc/R/library/00LOCK-h5vc/00new/h5vc/libs/x64
** R
** data
** inst
** byte-compile and prepare package for lazy loading
Warning: replacing previous import 'Biostrings::pattern' by 'grid::pattern' when loading 'h5vc'
** help
*** installing help indices
** building package indices
** installing vignettes
** testing if installed package can be loaded from temporary location
Warning: replacing previous import 'Biostrings::pattern' by 'grid::pattern' when loading 'h5vc'
** testing if installed package can be loaded from final location
Warning: replacing previous import 'Biostrings::pattern' by 'grid::pattern' when loading 'h5vc'
** testing if installed package keeps a record of temporary installation path
* DONE (h5vc)