| Back to Multiple platform build/check report for BioC 3.20: simplified long | 
 | 
This page was generated on 2024-11-20 12:02 -0500 (Wed, 20 Nov 2024).
| Hostname | OS | Arch (*) | R version | Installed pkgs | 
|---|---|---|---|---|
| teran2 | Linux (Ubuntu 24.04.1 LTS) | x86_64 | 4.4.2 (2024-10-31) -- "Pile of Leaves" | 4481 | 
| nebbiolo2 | Linux (Ubuntu 24.04.1 LTS) | x86_64 | 4.4.2 (2024-10-31) -- "Pile of Leaves" | 4479 | 
| palomino8 | Windows Server 2022 Datacenter | x64 | 4.4.2 (2024-10-31 ucrt) -- "Pile of Leaves" | 4359 | 
| lconway | macOS 12.7.1 Monterey | x86_64 | 4.4.1 (2024-06-14) -- "Race for Your Life" | 4539 | 
| kunpeng2 | Linux (openEuler 22.03 LTS-SP1) | aarch64 | 4.4.1 (2024-06-14) -- "Race for Your Life" | 4493 | 
| Click on any hostname to see more info about the system (e.g. compilers) (*) as reported by 'uname -p', except on Windows and Mac OS X | ||||
| Package 931/2289 | Hostname | OS / Arch | INSTALL | BUILD | CHECK | BUILD BIN | ||||||||
| gypsum 1.2.0  (landing page) Aaron Lun 
 | teran2 | Linux (Ubuntu 24.04.1 LTS) / x86_64 | OK | OK | OK |  | ||||||||
| nebbiolo2 | Linux (Ubuntu 24.04.1 LTS) / x86_64 | OK | OK | OK | ||||||||||
| palomino8 | Windows Server 2022 Datacenter / x64 | OK | OK | OK | OK |  | ||||||||
| lconway | macOS 12.7.1 Monterey / x86_64 | OK | OK | OK | OK |  | ||||||||
| kunpeng2 | Linux (openEuler 22.03 LTS-SP1) / aarch64 | OK | OK | OK | ||||||||||
| To the developers/maintainers of the gypsum package: - Allow up to 24 hours (and sometimes 48 hours) for your latest push to git@git.bioconductor.org:packages/gypsum.git to reflect on this report. See Troubleshooting Build Report for more information. - Use the following Renviron settings to reproduce errors and warnings. - If 'R CMD check' started to fail recently on the Linux builder(s) over a missing dependency, add the missing dependency to 'Suggests:' in your DESCRIPTION file. See Renviron.bioc for more information. | 
| Package: gypsum | 
| Version: 1.2.0 | 
| Command: /home/biocbuild/bbs-3.20-bioc/R/bin/R CMD check --install=check:gypsum.install-out.txt --library=/home/biocbuild/bbs-3.20-bioc/R/site-library --timings gypsum_1.2.0.tar.gz | 
| StartedAt: 2024-11-20 04:11:56 -0500 (Wed, 20 Nov 2024) | 
| EndedAt: 2024-11-20 04:12:41 -0500 (Wed, 20 Nov 2024) | 
| EllapsedTime: 44.2 seconds | 
| RetCode: 0 | 
| Status: OK | 
| CheckDir: gypsum.Rcheck | 
| Warnings: 0 | 
##############################################################################
##############################################################################
###
### Running command:
###
###   /home/biocbuild/bbs-3.20-bioc/R/bin/R CMD check --install=check:gypsum.install-out.txt --library=/home/biocbuild/bbs-3.20-bioc/R/site-library --timings gypsum_1.2.0.tar.gz
###
##############################################################################
##############################################################################
* using log directory ‘/media/volume/teran2_disk/biocbuild/bbs-3.20-bioc/meat/gypsum.Rcheck’
* using R version 4.4.2 (2024-10-31)
* using platform: x86_64-pc-linux-gnu
* R was compiled by
    gcc (Ubuntu 13.2.0-23ubuntu4) 13.2.0
    GNU Fortran (Ubuntu 13.2.0-23ubuntu4) 13.2.0
* running under: Ubuntu 24.04.1 LTS
* using session charset: UTF-8
* checking for file ‘gypsum/DESCRIPTION’ ... OK
* this is package ‘gypsum’ version ‘1.2.0’
* checking package namespace information ... OK
* checking package dependencies ... OK
* checking if this is a source package ... OK
* checking if there is a namespace ... OK
* checking for hidden files and directories ... OK
* checking for portable file names ... OK
* checking for sufficient/correct file permissions ... OK
* checking whether package ‘gypsum’ can be installed ... OK
* checking installed package size ... OK
* checking package directory ... OK
* checking ‘build’ directory ... OK
* checking DESCRIPTION meta-information ... NOTE
License stub is invalid DCF.
* checking top-level files ... OK
* checking for left-over files ... OK
* checking index information ... OK
* checking package subdirectories ... OK
* checking code files for non-ASCII characters ... OK
* checking R files for syntax errors ... OK
* checking whether the package can be loaded ... OK
* checking whether the package can be loaded with stated dependencies ... OK
* checking whether the package can be unloaded cleanly ... OK
* checking whether the namespace can be loaded with stated dependencies ... OK
* checking whether the namespace can be unloaded cleanly ... OK
* checking loading without being on the library search path ... OK
* checking dependencies in R code ... OK
* checking S3 generic/method consistency ... OK
* checking replacement functions ... OK
* checking foreign function calls ... OK
* checking R code for possible problems ... OK
* checking Rd files ... OK
* checking Rd metadata ... OK
* checking Rd cross-references ... OK
* checking for missing documentation entries ... OK
* checking for code/documentation mismatches ... OK
* checking Rd \usage sections ... OK
* checking Rd contents ... OK
* checking for unstated dependencies in examples ... OK
* checking files in ‘vignettes’ ... OK
* checking examples ... OK
* checking for unstated dependencies in ‘tests’ ... OK
* checking tests ...
  Running ‘testthat.R’
 OK
* checking for unstated dependencies in vignettes ... OK
* checking package vignettes ... OK
* checking re-building of vignette outputs ... OK
* checking PDF version of manual ... OK
* DONE
Status: 1 NOTE
See
  ‘/media/volume/teran2_disk/biocbuild/bbs-3.20-bioc/meat/gypsum.Rcheck/00check.log’
for details.
gypsum.Rcheck/00install.out
############################################################################## ############################################################################## ### ### Running command: ### ### /home/biocbuild/bbs-3.20-bioc/R/bin/R CMD INSTALL gypsum ### ############################################################################## ############################################################################## * installing to library ‘/media/volume/teran2_disk/biocbuild/bbs-3.20-bioc/R/site-library’ * installing *source* package ‘gypsum’ ... ** using staged installation ** R ** inst ** byte-compile and prepare package for lazy loading ** help *** installing help indices ** building package indices ** installing vignettes ** testing if installed package can be loaded from temporary location ** testing if installed package can be loaded from final location ** testing if installed package keeps a record of temporary installation path * DONE (gypsum)
gypsum.Rcheck/tests/testthat.Rout
R version 4.4.2 (2024-10-31) -- "Pile of Leaves"
Copyright (C) 2024 The R Foundation for Statistical Computing
Platform: x86_64-pc-linux-gnu
R is free software and comes with ABSOLUTELY NO WARRANTY.
You are welcome to redistribute it under certain conditions.
Type 'license()' or 'licence()' for distribution details.
R is a collaborative project with many contributors.
Type 'contributors()' for more information and
'citation()' on how to cite R or R packages in publications.
Type 'demo()' for some demos, 'help()' for on-line help, or
'help.start()' for an HTML browser interface to help.
Type 'q()' to quit R.
> library(testthat)
> library(gypsum)
> test_check("gypsum")
[ FAIL 0 | WARN 0 | SKIP 13 | PASS 252 ]
══ Skipped tests (13) ══════════════════════════════════════════════════════════
• is.na(gh_token) is TRUE (13): 'test-accessToken.R:5:5', 'test-latest.R:5:5',
  'test-permissions.R:5:5', 'test-probation.R:5:5', 'test-probation.R:28:5',
  'test-quota.R:5:5', 'test-quota.R:23:5', 'test-remove.R:5:5',
  'test-unlockProject.R:5:5', 'test-upload.R:5:5', 'test-upload.R:55:5',
  'test-upload.R:89:5', 'test-upload.R:107:5'
[ FAIL 0 | WARN 0 | SKIP 13 | PASS 252 ]
> 
> proc.time()
   user  system elapsed 
  3.414   0.243  14.890 
gypsum.Rcheck/gypsum-Ex.timings
| name | user | system | elapsed | |
| abortUpload | 0.000 | 0.001 | 0.001 | |
| accessToken | 0 | 0 | 0 | |
| approveProbation | 0.000 | 0.000 | 0.001 | |
| cacheDirectory | 0.001 | 0.000 | 0.001 | |
| cloneVersion | 0.006 | 0.000 | 0.019 | |
| completeUpload | 0.001 | 0.001 | 0.003 | |
| createProject | 0 | 0 | 0 | |
| fetchLatest | 0.051 | 0.004 | 0.232 | |
| fetchManifest | 0 | 0 | 0 | |
| fetchMetadataDatabase | 0.056 | 0.000 | 0.307 | |
| fetchMetadataSchema | 0.001 | 0.000 | 0.002 | |
| fetchPermissions | 0.007 | 0.000 | 0.119 | |
| fetchQuota | 0.007 | 0.000 | 0.112 | |
| fetchSummary | 0.001 | 0.001 | 0.002 | |
| fetchUsage | 0.006 | 0.000 | 0.108 | |
| formatObjectMetadata | 0.569 | 0.043 | 0.790 | |
| listAssets | 0.007 | 0.000 | 0.103 | |
| listFiles | 0.006 | 0.001 | 0.106 | |
| listProjects | 0 | 0 | 0 | |
| listVersions | 0.006 | 0.001 | 0.101 | |
| prepareDirectoryUpload | 0.002 | 0.001 | 0.007 | |
| publicS3Config | 0.001 | 0.000 | 0.006 | |
| refreshLatest | 0 | 0 | 0 | |
| refreshUsage | 0 | 0 | 0 | |
| rejectProbation | 0.000 | 0.000 | 0.001 | |
| removeAsset | 0.001 | 0.000 | 0.000 | |
| removeProject | 0 | 0 | 0 | |
| removeVersion | 0 | 0 | 0 | |
| resolveLinks | 0.037 | 0.006 | 0.838 | |
| restUrl | 0 | 0 | 0 | |
| saveFile | 0.001 | 0.000 | 0.001 | |
| saveVersion | 0.000 | 0.001 | 0.001 | |
| searchMetadata | 0.383 | 0.026 | 0.697 | |
| setPermissions | 0 | 0 | 0 | |
| setQuota | 0 | 0 | 0 | |
| startUpload | 0.001 | 0.000 | 0.001 | |
| translateTextQuery | 0.027 | 0.012 | 0.045 | |
| unlockProject | 0 | 0 | 0 | |
| uploadDirectory | 0.000 | 0.001 | 0.001 | |
| uploadFiles | 0.000 | 0.001 | 0.001 | |
| validateMetadata | 0.344 | 0.034 | 0.444 | |