| Back to Multiple platform build/check report for BioC 3.20: simplified long | 
 | 
This page was generated on 2024-07-16 11:40 -0400 (Tue, 16 Jul 2024).
| Hostname | OS | Arch (*) | R version | Installed pkgs | 
|---|---|---|---|---|
| nebbiolo2 | Linux (Ubuntu 22.04.3 LTS) | x86_64 | 4.4.1 (2024-06-14) -- "Race for Your Life" | 4677 | 
| palomino6 | Windows Server 2022 Datacenter | x64 | 4.4.1 (2024-06-14 ucrt) -- "Race for Your Life" | 4416 | 
| lconway | macOS 12.7.1 Monterey | x86_64 | 4.4.1 (2024-06-14) -- "Race for Your Life" | 4444 | 
| kjohnson3 | macOS 13.6.5 Ventura | arm64 | 4.4.1 (2024-06-14) -- "Race for Your Life" | 4393 | 
| palomino8 | Windows Server 2022 Datacenter | x64 | 4.4.1 (2024-06-14 ucrt) -- "Race for Your Life" | 4373 | 
| Click on any hostname to see more info about the system (e.g. compilers) (*) as reported by 'uname -p', except on Windows and Mac OS X | ||||
| Package 855/2243 | Hostname | OS / Arch | INSTALL | BUILD | CHECK | BUILD BIN | ||||||||
| glmSparseNet 1.23.0  (landing page) André Veríssimo 
 | nebbiolo2 | Linux (Ubuntu 22.04.3 LTS) / x86_64 | OK | OK | OK |  | ||||||||
| palomino6 | Windows Server 2022 Datacenter / x64 | OK | OK | OK | OK | |||||||||
| lconway | macOS 12.7.1 Monterey / x86_64 | OK | OK | OK | OK |  | ||||||||
| kjohnson3 | macOS 13.6.5 Ventura / arm64 | OK | OK | OK | OK |  | ||||||||
| palomino8 | Windows Server 2022 Datacenter / x64 | OK | OK | OK | OK | |||||||||
| To the developers/maintainers of the glmSparseNet package: - Allow up to 24 hours (and sometimes 48 hours) for your latest push to git@git.bioconductor.org:packages/glmSparseNet.git to reflect on this report. See Troubleshooting Build Report for more information. - Use the following Renviron settings to reproduce errors and warnings. - If 'R CMD check' started to fail recently on the Linux builder(s) over a missing dependency, add the missing dependency to 'Suggests:' in your DESCRIPTION file. See Renviron.bioc for more information. | 
| Package: glmSparseNet | 
| Version: 1.23.0 | 
| Command: C:\Users\biocbuild\bbs-3.20-bioc\R\bin\R.exe CMD check --no-multiarch --install=check:glmSparseNet.install-out.txt --library=C:\Users\biocbuild\bbs-3.20-bioc\R\library --no-vignettes --timings glmSparseNet_1.23.0.tar.gz | 
| StartedAt: 2024-07-16 00:29:43 -0400 (Tue, 16 Jul 2024) | 
| EndedAt: 2024-07-16 00:31:39 -0400 (Tue, 16 Jul 2024) | 
| EllapsedTime: 116.0 seconds | 
| RetCode: 0 | 
| Status: OK | 
| CheckDir: glmSparseNet.Rcheck | 
| Warnings: 0 | 
##############################################################################
##############################################################################
###
### Running command:
###
###   C:\Users\biocbuild\bbs-3.20-bioc\R\bin\R.exe CMD check --no-multiarch --install=check:glmSparseNet.install-out.txt --library=C:\Users\biocbuild\bbs-3.20-bioc\R\library --no-vignettes --timings glmSparseNet_1.23.0.tar.gz
###
##############################################################################
##############################################################################
* using log directory 'C:/Users/biocbuild/bbs-3.20-bioc/meat/glmSparseNet.Rcheck'
* using R version 4.4.1 (2024-06-14 ucrt)
* using platform: x86_64-w64-mingw32
* R was compiled by
    gcc.exe (GCC) 13.2.0
    GNU Fortran (GCC) 13.2.0
* running under: Windows Server 2022 x64 (build 20348)
* using session charset: UTF-8
* using option '--no-vignettes'
* checking for file 'glmSparseNet/DESCRIPTION' ... OK
* checking extension type ... Package
* this is package 'glmSparseNet' version '1.23.0'
* package encoding: UTF-8
* checking package namespace information ... OK
* checking package dependencies ... OK
* checking if this is a source package ... OK
* checking if there is a namespace ... OK
* checking for hidden files and directories ... OK
* checking for portable file names ... OK
* checking whether package 'glmSparseNet' can be installed ... OK
* checking installed package size ... OK
* checking package directory ... OK
* checking 'build' directory ... OK
* checking DESCRIPTION meta-information ... OK
* checking top-level files ... OK
* checking for left-over files ... OK
* checking index information ... OK
* checking package subdirectories ... OK
* checking code files for non-ASCII characters ... OK
* checking R files for syntax errors ... OK
* checking whether the package can be loaded ... OK
* checking whether the package can be loaded with stated dependencies ... OK
* checking whether the package can be unloaded cleanly ... OK
* checking whether the namespace can be loaded with stated dependencies ... OK
* checking whether the namespace can be unloaded cleanly ... OK
* checking whether startup messages can be suppressed ... OK
* checking dependencies in R code ... OK
* checking S3 generic/method consistency ... OK
* checking replacement functions ... OK
* checking foreign function calls ... OK
* checking R code for possible problems ... OK
* checking Rd files ... OK
* checking Rd metadata ... OK
* checking Rd cross-references ... OK
* checking for missing documentation entries ... OK
* checking for code/documentation mismatches ... OK
* checking Rd \usage sections ... OK
* checking Rd contents ... OK
* checking for unstated dependencies in examples ... OK
* checking contents of 'data' directory ... OK
* checking data for non-ASCII characters ... OK
* checking data for ASCII and uncompressed saves ... OK
* checking files in 'vignettes' ... OK
* checking examples ... OK
Examples with CPU (user + system) or elapsed time > 5s
                  user system elapsed
cv.glmSparseNet  13.01   0.86   13.77
ensemblGeneNames  2.25   0.92    6.50
* checking for unstated dependencies in 'tests' ... OK
* checking tests ...
  Running 'testthat.R'
 OK
* checking for unstated dependencies in vignettes ... OK
* checking package vignettes ... OK
* checking running R code from vignettes ... SKIPPED
* checking re-building of vignette outputs ... SKIPPED
* checking PDF version of manual ... OK
* DONE
Status: OK
glmSparseNet.Rcheck/00install.out
############################################################################## ############################################################################## ### ### Running command: ### ### C:\Users\biocbuild\bbs-3.20-bioc\R\bin\R.exe CMD INSTALL glmSparseNet ### ############################################################################## ############################################################################## * installing to library 'C:/Users/biocbuild/bbs-3.20-bioc/R/library' * installing *source* package 'glmSparseNet' ... ** using staged installation ** R ** data ** inst ** byte-compile and prepare package for lazy loading ** help *** installing help indices *** copying figures ** building package indices ** installing vignettes ** testing if installed package can be loaded from temporary location ** testing if installed package can be loaded from final location ** testing if installed package keeps a record of temporary installation path * DONE (glmSparseNet)
glmSparseNet.Rcheck/tests/testthat.Rout
R version 4.4.1 (2024-06-14 ucrt) -- "Race for Your Life"
Copyright (C) 2024 The R Foundation for Statistical Computing
Platform: x86_64-w64-mingw32/x64
R is free software and comes with ABSOLUTELY NO WARRANTY.
You are welcome to redistribute it under certain conditions.
Type 'license()' or 'licence()' for distribution details.
R is a collaborative project with many contributors.
Type 'contributors()' for more information and
'citation()' on how to cite R or R packages in publications.
Type 'demo()' for some demos, 'help()' for on-line help, or
'help.start()' for an HTML browser interface to help.
Type 'q()' to quit R.
> library(testthat)
> library(glmSparseNet)
> 
> test_check("glmSparseNet")
[ FAIL 0 | WARN 0 | SKIP 2 | PASS 215 ]
══ Skipped tests (2) ═══════════════════════════════════════════════════════════
• empty test (2): 'test-cache.R:38:1', 'test-cache.R:62:1'
[ FAIL 0 | WARN 0 | SKIP 2 | PASS 215 ]
> 
> proc.time()
   user  system elapsed 
  29.03    4.70   34.50 
glmSparseNet.Rcheck/glmSparseNet-Ex.timings
| name | user | system | elapsed | |
| balancedCvFolds | 0.01 | 0.00 | 0.01 | |
| buildLambda | 0 | 0 | 0 | |
| buildStringNetwork | 0 | 0 | 0 | |
| cv.glmSparseNet | 13.01 | 0.86 | 13.77 | |
| degreeCor | 0.02 | 0.00 | 0.02 | |
| degreeCov | 0 | 0 | 0 | |
| dot-baseDir | 0 | 0 | 0 | |
| dot-biomartLoad | 1.04 | 0.13 | 1.17 | |
| dot-buildFunctionDigest | 0.02 | 0.00 | 0.02 | |
| dot-cacheCompression | 0 | 0 | 0 | |
| dot-calcPenalty | 0.01 | 0.00 | 0.03 | |
| dot-calculateResult | 0 | 0 | 0 | |
| dot-createDirectoryForCache | 0 | 0 | 0 | |
| dot-curlWorkaround | 0 | 0 | 0 | |
| dot-digestCache | 0 | 0 | 0 | |
| dot-runCache | 0.00 | 0.00 | 0.04 | |
| dot-saveRunCache | 0 | 0 | 0 | |
| dot-showMessage | 0 | 0 | 0 | |
| dot-writeReadme | 0 | 0 | 0 | |
| downloadFileLocal | 2.09 | 0.03 | 2.32 | |
| ensemblGeneNames | 2.25 | 0.92 | 6.50 | |
| geneNames | 0.74 | 0.11 | 0.86 | |
| glmSparseNet | 1.40 | 0.13 | 1.54 | |
| heuristicScale | 0 | 0 | 0 | |
| hubHeuristic | 0 | 0 | 0 | |
| myColors | 0 | 0 | 0 | |
| mySymbols | 0 | 0 | 0 | |
| networkCorParallel | 0.04 | 0.00 | 0.03 | |
| networkCovParallel | 0.01 | 0.00 | 0.02 | |
| networkOptions | 0 | 0 | 0 | |
| orphanHeuristic | 0 | 0 | 0 | |
| protein2EnsemblGeneNames | 0.66 | 0.12 | 0.80 | |
| separate2GroupsCox | 3.48 | 0.15 | 3.66 | |
| stringDBhomoSapiens | 0 | 0 | 0 | |