| Back to Multiple platform build/check report for BioC 3.20: simplified long |
|
This page was generated on 2025-04-02 19:32 -0400 (Wed, 02 Apr 2025).
| Hostname | OS | Arch (*) | R version | Installed pkgs |
|---|---|---|---|---|
| nebbiolo2 | Linux (Ubuntu 24.04.1 LTS) | x86_64 | 4.4.3 (2025-02-28) -- "Trophy Case" | 4764 |
| palomino8 | Windows Server 2022 Datacenter | x64 | 4.4.3 (2025-02-28 ucrt) -- "Trophy Case" | 4495 |
| merida1 | macOS 12.7.5 Monterey | x86_64 | 4.4.3 (2025-02-28) -- "Trophy Case" | 4522 |
| kjohnson1 | macOS 13.6.6 Ventura | arm64 | 4.4.3 (2025-02-28) -- "Trophy Case" | 4449 |
| taishan | Linux (openEuler 24.03 LTS) | aarch64 | 4.4.3 (2025-02-28) -- "Trophy Case" | 4426 |
| Click on any hostname to see more info about the system (e.g. compilers) (*) as reported by 'uname -p', except on Windows and Mac OS X | ||||
| Package 839/2289 | Hostname | OS / Arch | INSTALL | BUILD | CHECK | BUILD BIN | ||||||||
| geomeTriD 1.0.1 (landing page) Jianhong Ou
| nebbiolo2 | Linux (Ubuntu 24.04.1 LTS) / x86_64 | OK | OK | OK | |||||||||
| palomino8 | Windows Server 2022 Datacenter / x64 | OK | OK | OK | OK | |||||||||
| merida1 | macOS 12.7.5 Monterey / x86_64 | OK | OK | OK | OK | |||||||||
| kjohnson1 | macOS 13.6.6 Ventura / arm64 | OK | OK | OK | OK | |||||||||
| taishan | Linux (openEuler 24.03 LTS) / aarch64 | OK | OK | WARNINGS | ||||||||||
|
To the developers/maintainers of the geomeTriD package: - Allow up to 24 hours (and sometimes 48 hours) for your latest push to git@git.bioconductor.org:packages/geomeTriD.git to reflect on this report. See Troubleshooting Build Report for more information. - Use the following Renviron settings to reproduce errors and warnings. - If 'R CMD check' started to fail recently on the Linux builder(s) over a missing dependency, add the missing dependency to 'Suggests:' in your DESCRIPTION file. See Renviron.bioc for more information. |
| Package: geomeTriD |
| Version: 1.0.1 |
| Command: /Library/Frameworks/R.framework/Resources/bin/R CMD check --install=check:geomeTriD.install-out.txt --library=/Library/Frameworks/R.framework/Resources/library --no-vignettes --timings geomeTriD_1.0.1.tar.gz |
| StartedAt: 2025-04-01 03:37:26 -0400 (Tue, 01 Apr 2025) |
| EndedAt: 2025-04-01 03:51:28 -0400 (Tue, 01 Apr 2025) |
| EllapsedTime: 842.0 seconds |
| RetCode: 0 |
| Status: OK |
| CheckDir: geomeTriD.Rcheck |
| Warnings: 0 |
##############################################################################
##############################################################################
###
### Running command:
###
### /Library/Frameworks/R.framework/Resources/bin/R CMD check --install=check:geomeTriD.install-out.txt --library=/Library/Frameworks/R.framework/Resources/library --no-vignettes --timings geomeTriD_1.0.1.tar.gz
###
##############################################################################
##############################################################################
* using log directory ‘/Users/biocbuild/bbs-3.20-bioc/meat/geomeTriD.Rcheck’
* using R version 4.4.3 (2025-02-28)
* using platform: x86_64-apple-darwin20
* R was compiled by
Apple clang version 14.0.0 (clang-1400.0.29.202)
GNU Fortran (GCC) 12.2.0
* running under: macOS Monterey 12.7.6
* using session charset: UTF-8
* using option ‘--no-vignettes’
* checking for file ‘geomeTriD/DESCRIPTION’ ... OK
* checking extension type ... Package
* this is package ‘geomeTriD’ version ‘1.0.1’
* package encoding: UTF-8
* checking package namespace information ... OK
* checking package dependencies ... OK
* checking if this is a source package ... OK
* checking if there is a namespace ... OK
* checking for hidden files and directories ... OK
* checking for portable file names ... OK
* checking for sufficient/correct file permissions ... OK
* checking whether package ‘geomeTriD’ can be installed ... OK
* checking installed package size ... OK
* checking package directory ... OK
* checking ‘build’ directory ... OK
* checking DESCRIPTION meta-information ... OK
* checking top-level files ... OK
* checking for left-over files ... OK
* checking index information ... OK
* checking package subdirectories ... OK
* checking code files for non-ASCII characters ... OK
* checking R files for syntax errors ... OK
* checking whether the package can be loaded ... OK
* checking whether the package can be loaded with stated dependencies ... OK
* checking whether the package can be unloaded cleanly ... OK
* checking whether the namespace can be loaded with stated dependencies ... OK
* checking whether the namespace can be unloaded cleanly ... OK
* checking dependencies in R code ... OK
* checking S3 generic/method consistency ... OK
* checking replacement functions ... OK
* checking foreign function calls ... OK
* checking R code for possible problems ... OK
* checking Rd files ... OK
* checking Rd metadata ... OK
* checking Rd cross-references ... OK
* checking for missing documentation entries ... OK
* checking for code/documentation mismatches ... OK
* checking Rd \usage sections ... OK
* checking Rd contents ... OK
* checking for unstated dependencies in examples ... OK
* checking files in ‘vignettes’ ... OK
* checking examples ... OK
Examples with CPU (user + system) or elapsed time > 5s
user system elapsed
mdsPlot 9.286 0.366 10.575
loopBouquetPlot 6.528 0.208 7.240
* checking for unstated dependencies in ‘tests’ ... OK
* checking tests ...
Running ‘runTests.R’
OK
* checking for unstated dependencies in vignettes ... OK
* checking package vignettes ... OK
* checking running R code from vignettes ... SKIPPED
* checking re-building of vignette outputs ... SKIPPED
* checking PDF version of manual ... OK
* DONE
Status: OK
geomeTriD.Rcheck/00install.out
############################################################################## ############################################################################## ### ### Running command: ### ### /Library/Frameworks/R.framework/Resources/bin/R CMD INSTALL geomeTriD ### ############################################################################## ############################################################################## * installing to library ‘/Library/Frameworks/R.framework/Versions/4.4-x86_64/Resources/library’ * installing *source* package ‘geomeTriD’ ... ** using staged installation ** R ** inst ** byte-compile and prepare package for lazy loading ** help *** installing help indices ** building package indices ** installing vignettes ** testing if installed package can be loaded from temporary location ** testing if installed package can be loaded from final location ** testing if installed package keeps a record of temporary installation path * DONE (geomeTriD)
geomeTriD.Rcheck/tests/runTests.Rout
R version 4.4.3 (2025-02-28) -- "Trophy Case"
Copyright (C) 2025 The R Foundation for Statistical Computing
Platform: x86_64-apple-darwin20
R is free software and comes with ABSOLUTELY NO WARRANTY.
You are welcome to redistribute it under certain conditions.
Type 'license()' or 'licence()' for distribution details.
R is a collaborative project with many contributors.
Type 'contributors()' for more information and
'citation()' on how to cite R or R packages in publications.
Type 'demo()' for some demos, 'help()' for on-line help, or
'help.start()' for an HTML browser interface to help.
Type 'q()' to quit R.
> options(rgl.useNULL=TRUE)
> require("geomeTriD") || stop("unable to load Package:geomeTriD")
Loading required package: geomeTriD
[1] TRUE
> require(rgl) || stop("unable to load rgl")
Loading required package: rgl
[1] TRUE
> require("testthat") || stop("unable to load testthat")
Loading required package: testthat
[1] TRUE
>
> x <- readRDS(system.file("extdata", "4DNFI1UEG1HD.chr21.FLAMINGO.res.rds",
+ package = "geomeTriD"
+ ))
> gi <- readRDS(system.file("extdata", "gi.rds", package = "trackViewer"))
> test_check("geomeTriD")
[ FAIL 0 | WARN 20 | SKIP 3 | PASS 92 ]
══ Skipped tests (3) ═══════════════════════════════════════════════════════════
• empty test (3): 'test_create3dGenomicSignals.R:1:1',
'test_signalCalculation.R:1:1', 'test_signalCalculation.R:23:1'
[ FAIL 0 | WARN 20 | SKIP 3 | PASS 92 ]
>
> proc.time()
user system elapsed
98.928 2.846 108.962
geomeTriD.Rcheck/geomeTriD-Ex.timings
| name | user | system | elapsed | |
| alignCoor | 2.545 | 0.156 | 2.870 | |
| availableGeometries | 0.000 | 0.001 | 0.001 | |
| create3dGenomicSignals | 0.872 | 0.030 | 0.940 | |
| extractBackbonePositions | 1.308 | 0.026 | 1.387 | |
| geomeTriD-package | 0.002 | 0.001 | 0.003 | |
| loopBouquetPlot | 6.528 | 0.208 | 7.240 | |
| mdsPlot | 9.286 | 0.366 | 10.575 | |
| rglViewer | 2.833 | 0.028 | 3.256 | |
| smooth3dPoints | 0.309 | 0.016 | 0.364 | |
| threeJsGeometry-class | 0.000 | 0.000 | 0.001 | |
| threeJsViewer-shiny | 0.003 | 0.001 | 0.004 | |
| threeJsViewer | 0.395 | 0.035 | 0.581 | |
| view3dCells | 0.046 | 0.014 | 0.073 | |
| view3dStructure | 2.324 | 0.015 | 2.650 | |