| Back to Multiple platform build/check report for BioC 3.20: simplified long |
|
This page was generated on 2025-04-02 19:32 -0400 (Wed, 02 Apr 2025).
| Hostname | OS | Arch (*) | R version | Installed pkgs |
|---|---|---|---|---|
| nebbiolo2 | Linux (Ubuntu 24.04.1 LTS) | x86_64 | 4.4.3 (2025-02-28) -- "Trophy Case" | 4764 |
| palomino8 | Windows Server 2022 Datacenter | x64 | 4.4.3 (2025-02-28 ucrt) -- "Trophy Case" | 4495 |
| merida1 | macOS 12.7.5 Monterey | x86_64 | 4.4.3 (2025-02-28) -- "Trophy Case" | 4522 |
| kjohnson1 | macOS 13.6.6 Ventura | arm64 | 4.4.3 (2025-02-28) -- "Trophy Case" | 4449 |
| taishan | Linux (openEuler 24.03 LTS) | aarch64 | 4.4.3 (2025-02-28) -- "Trophy Case" | 4426 |
| Click on any hostname to see more info about the system (e.g. compilers) (*) as reported by 'uname -p', except on Windows and Mac OS X | ||||
| Package 813/2289 | Hostname | OS / Arch | INSTALL | BUILD | CHECK | BUILD BIN | ||||||||
| genoCN 1.58.0 (landing page) Wei Sun
| nebbiolo2 | Linux (Ubuntu 24.04.1 LTS) / x86_64 | OK | OK | WARNINGS | |||||||||
| palomino8 | Windows Server 2022 Datacenter / x64 | OK | OK | OK | OK | |||||||||
| merida1 | macOS 12.7.5 Monterey / x86_64 | OK | OK | OK | OK | |||||||||
| kjohnson1 | macOS 13.6.6 Ventura / arm64 | OK | OK | OK | OK | |||||||||
| taishan | Linux (openEuler 24.03 LTS) / aarch64 | OK | OK | OK | ||||||||||
|
To the developers/maintainers of the genoCN package: - Allow up to 24 hours (and sometimes 48 hours) for your latest push to git@git.bioconductor.org:packages/genoCN.git to reflect on this report. See Troubleshooting Build Report for more information. - Use the following Renviron settings to reproduce errors and warnings. - If 'R CMD check' started to fail recently on the Linux builder(s) over a missing dependency, add the missing dependency to 'Suggests:' in your DESCRIPTION file. See Renviron.bioc for more information. |
| Package: genoCN |
| Version: 1.58.0 |
| Command: /Library/Frameworks/R.framework/Resources/bin/R CMD check --install=check:genoCN.install-out.txt --library=/Library/Frameworks/R.framework/Resources/library --no-vignettes --timings genoCN_1.58.0.tar.gz |
| StartedAt: 2025-04-01 03:26:35 -0400 (Tue, 01 Apr 2025) |
| EndedAt: 2025-04-01 03:27:51 -0400 (Tue, 01 Apr 2025) |
| EllapsedTime: 75.9 seconds |
| RetCode: 0 |
| Status: OK |
| CheckDir: genoCN.Rcheck |
| Warnings: 0 |
##############################################################################
##############################################################################
###
### Running command:
###
### /Library/Frameworks/R.framework/Resources/bin/R CMD check --install=check:genoCN.install-out.txt --library=/Library/Frameworks/R.framework/Resources/library --no-vignettes --timings genoCN_1.58.0.tar.gz
###
##############################################################################
##############################################################################
* using log directory ‘/Users/biocbuild/bbs-3.20-bioc/meat/genoCN.Rcheck’
* using R version 4.4.3 (2025-02-28)
* using platform: x86_64-apple-darwin20
* R was compiled by
Apple clang version 14.0.0 (clang-1400.0.29.202)
GNU Fortran (GCC) 12.2.0
* running under: macOS Monterey 12.7.6
* using session charset: UTF-8
* using option ‘--no-vignettes’
* checking for file ‘genoCN/DESCRIPTION’ ... OK
* checking extension type ... Package
* this is package ‘genoCN’ version ‘1.58.0’
* checking package namespace information ... OK
* checking package dependencies ... OK
* checking if this is a source package ... OK
* checking if there is a namespace ... OK
* checking for hidden files and directories ... OK
* checking for portable file names ... OK
* checking for sufficient/correct file permissions ... OK
* checking whether package ‘genoCN’ can be installed ... OK
* used C compiler: ‘Apple clang version 14.0.0 (clang-1400.0.29.202)’
* used SDK: ‘MacOSX11.3.sdk’
* checking installed package size ... OK
* checking package directory ... OK
* checking ‘build’ directory ... OK
* checking DESCRIPTION meta-information ... NOTE
Malformed Description field: should contain one or more complete sentences.
* checking top-level files ... OK
* checking for left-over files ... OK
* checking index information ... OK
* checking package subdirectories ... OK
* checking code files for non-ASCII characters ... OK
* checking R files for syntax errors ... OK
* checking whether the package can be loaded ... OK
* checking whether the package can be loaded with stated dependencies ... OK
* checking whether the package can be unloaded cleanly ... OK
* checking whether the namespace can be loaded with stated dependencies ... OK
* checking whether the namespace can be unloaded cleanly ... OK
* checking dependencies in R code ... OK
* checking S3 generic/method consistency ... OK
* checking replacement functions ... OK
* checking foreign function calls ... OK
* checking R code for possible problems ... NOTE
genoCNA: no visible binding for global variable ‘init.Para.CNA’
genoCNV: no visible binding for global variable ‘init.Para.CNV’
Undefined global functions or variables:
init.Para.CNA init.Para.CNV
* checking Rd files ... NOTE
checkRd: (-1) genoCNA.Rd:60: Escaped LaTeX specials: \_
checkRd: (-1) genoCNA.Rd:61: Escaped LaTeX specials: \_
checkRd: (-1) genoCNV.Rd:55: Escaped LaTeX specials: \_ \_
checkRd: (-1) init.Para.CNA.Rd:14-16: Lost braces in \itemize; meant \describe ?
checkRd: (-1) init.Para.CNA.Rd:17-19: Lost braces in \itemize; meant \describe ?
checkRd: (-1) init.Para.CNA.Rd:20-22: Lost braces in \itemize; meant \describe ?
checkRd: (-1) init.Para.CNA.Rd:23-24: Lost braces in \itemize; meant \describe ?
checkRd: (-1) init.Para.CNA.Rd:25-26: Lost braces in \itemize; meant \describe ?
checkRd: (-1) init.Para.CNA.Rd:27-29: Lost braces in \itemize; meant \describe ?
checkRd: (-1) init.Para.CNA.Rd:30-33: Lost braces in \itemize; meant \describe ?
checkRd: (-1) init.Para.CNA.Rd:34-35: Lost braces in \itemize; meant \describe ?
checkRd: (-1) init.Para.CNA.Rd:36-37: Lost braces in \itemize; meant \describe ?
checkRd: (-1) init.Para.CNA.Rd:38-39: Lost braces in \itemize; meant \describe ?
checkRd: (-1) init.Para.CNA.Rd:40-41: Lost braces in \itemize; meant \describe ?
checkRd: (-1) init.Para.CNA.Rd:42-46: Lost braces in \itemize; meant \describe ?
checkRd: (-1) init.Para.CNV.Rd:14-16: Lost braces in \itemize; meant \describe ?
checkRd: (-1) init.Para.CNV.Rd:17-19: Lost braces in \itemize; meant \describe ?
checkRd: (-1) init.Para.CNV.Rd:20-22: Lost braces in \itemize; meant \describe ?
checkRd: (-1) init.Para.CNV.Rd:23-24: Lost braces in \itemize; meant \describe ?
checkRd: (-1) init.Para.CNV.Rd:25-26: Lost braces in \itemize; meant \describe ?
checkRd: (-1) init.Para.CNV.Rd:27-29: Lost braces in \itemize; meant \describe ?
checkRd: (-1) init.Para.CNV.Rd:30-33: Lost braces in \itemize; meant \describe ?
checkRd: (-1) init.Para.CNV.Rd:34-35: Lost braces in \itemize; meant \describe ?
checkRd: (-1) init.Para.CNV.Rd:36-37: Lost braces in \itemize; meant \describe ?
checkRd: (-1) init.Para.CNV.Rd:38-39: Lost braces in \itemize; meant \describe ?
checkRd: (-1) init.Para.CNV.Rd:40-41: Lost braces in \itemize; meant \describe ?
checkRd: (-1) init.Para.CNV.Rd:42-46: Lost braces in \itemize; meant \describe ?
* checking Rd metadata ... OK
* checking Rd cross-references ... OK
* checking for missing documentation entries ... OK
* checking for code/documentation mismatches ... OK
* checking Rd \usage sections ... OK
* checking Rd contents ... OK
* checking for unstated dependencies in examples ... OK
* checking contents of ‘data’ directory ... OK
* checking data for non-ASCII characters ... OK
* checking data for ASCII and uncompressed saves ... OK
* checking line endings in C/C++/Fortran sources/headers ... OK
* checking compiled code ... NOTE
Note: information on .o files is not available
* checking sizes of PDF files under ‘inst/doc’ ... OK
* checking files in ‘vignettes’ ... OK
* checking examples ... OK
Examples with CPU (user + system) or elapsed time > 5s
user system elapsed
genoCNA 10.713 0.846 12.07
* checking for unstated dependencies in vignettes ... OK
* checking package vignettes ... OK
* checking running R code from vignettes ... SKIPPED
* checking re-building of vignette outputs ... SKIPPED
* checking PDF version of manual ... OK
* DONE
Status: 4 NOTEs
See
‘/Users/biocbuild/bbs-3.20-bioc/meat/genoCN.Rcheck/00check.log’
for details.
genoCN.Rcheck/00install.out
##############################################################################
##############################################################################
###
### Running command:
###
### /Library/Frameworks/R.framework/Resources/bin/R CMD INSTALL genoCN
###
##############################################################################
##############################################################################
* installing to library ‘/Library/Frameworks/R.framework/Versions/4.4-x86_64/Resources/library’
* installing *source* package ‘genoCN’ ...
** using staged installation
** libs
using C compiler: ‘Apple clang version 14.0.0 (clang-1400.0.29.202)’
using SDK: ‘MacOSX11.3.sdk’
clang -arch x86_64 -I"/Library/Frameworks/R.framework/Resources/include" -DNDEBUG -I/opt/R/x86_64/include -fPIC -falign-functions=64 -Wall -g -O2 -c tnorm_mle.c -o tnorm_mle.o
clang -arch x86_64 -I"/Library/Frameworks/R.framework/Resources/include" -DNDEBUG -I/opt/R/x86_64/include -fPIC -falign-functions=64 -Wall -g -O2 -c utility.c -o utility.o
clang -arch x86_64 -I"/Library/Frameworks/R.framework/Resources/include" -DNDEBUG -I/opt/R/x86_64/include -fPIC -falign-functions=64 -Wall -g -O2 -c xCNV.c -o xCNV.o
xCNV.c:317:16: warning: unused variable 'K' [-Wunused-variable]
int L, N, M, K, i, z, k, nGtp, contam=*contamR, CNA=*CNAR;
^
xCNV.c:317:25: warning: unused variable 'k' [-Wunused-variable]
int L, N, M, K, i, z, k, nGtp, contam=*contamR, CNA=*CNAR;
^
xCNV.c:762:10: warning: variable 'LL' set but not used [-Wunused-but-set-variable]
int L, LL, N, NN, M, MM, S, LS, CNA = *RCNA,
^
xCNV.c:787:20: warning: unused variable 'sd_b_tmp' [-Wunused-variable]
double mu_b_tmp, sd_b_tmp;
^
xCNV.c:787:10: warning: unused variable 'mu_b_tmp' [-Wunused-variable]
double mu_b_tmp, sd_b_tmp;
^
5 warnings generated.
clang -arch x86_64 -dynamiclib -Wl,-headerpad_max_install_names -undefined dynamic_lookup -L/Library/Frameworks/R.framework/Resources/lib -L/opt/R/x86_64/lib -o genoCN.so tnorm_mle.o utility.o xCNV.o -F/Library/Frameworks/R.framework/.. -framework R -Wl,-framework -Wl,CoreFoundation
installing to /Library/Frameworks/R.framework/Versions/4.4-x86_64/Resources/library/00LOCK-genoCN/00new/genoCN/libs
** R
** data
** inst
** byte-compile and prepare package for lazy loading
** help
*** installing help indices
** building package indices
** installing vignettes
** testing if installed package can be loaded from temporary location
** checking absolute paths in shared objects and dynamic libraries
** testing if installed package can be loaded from final location
** testing if installed package keeps a record of temporary installation path
* DONE (genoCN)
genoCN.Rcheck/genoCN-Ex.timings
| name | user | system | elapsed | |
| genoCNA | 10.713 | 0.846 | 12.070 | |
| genoCNV | 4.366 | 0.280 | 4.882 | |
| init.Para.CNA | 0.002 | 0.003 | 0.006 | |
| init.Para.CNV | 0.002 | 0.003 | 0.004 | |
| plotCN | 1.635 | 0.121 | 2.021 | |
| snpData | 1.624 | 0.111 | 1.912 | |
| snpInfo | 1.617 | 0.113 | 1.925 | |