| Back to Multiple platform build/check report for BioC 3.20: simplified long | 
 | 
This page was generated on 2024-11-20 12:06 -0500 (Wed, 20 Nov 2024).
| Hostname | OS | Arch (*) | R version | Installed pkgs | 
|---|---|---|---|---|
| teran2 | Linux (Ubuntu 24.04.1 LTS) | x86_64 | 4.4.2 (2024-10-31) -- "Pile of Leaves" | 4481 | 
| nebbiolo2 | Linux (Ubuntu 24.04.1 LTS) | x86_64 | 4.4.2 (2024-10-31) -- "Pile of Leaves" | 4479 | 
| palomino8 | Windows Server 2022 Datacenter | x64 | 4.4.2 (2024-10-31 ucrt) -- "Pile of Leaves" | 4359 | 
| lconway | macOS 12.7.1 Monterey | x86_64 | 4.4.1 (2024-06-14) -- "Race for Your Life" | 4539 | 
| kunpeng2 | Linux (openEuler 22.03 LTS-SP1) | aarch64 | 4.4.1 (2024-06-14) -- "Race for Your Life" | 4493 | 
| Click on any hostname to see more info about the system (e.g. compilers) (*) as reported by 'uname -p', except on Windows and Mac OS X | ||||
| Package 811/2289 | Hostname | OS / Arch | INSTALL | BUILD | CHECK | BUILD BIN | ||||||||
| geneXtendeR 1.32.0  (landing page) Bohdan Khomtchouk 
 | teran2 | Linux (Ubuntu 24.04.1 LTS) / x86_64 | OK | OK | WARNINGS |  | ||||||||
| nebbiolo2 | Linux (Ubuntu 24.04.1 LTS) / x86_64 | OK | OK | WARNINGS | ||||||||||
| palomino8 | Windows Server 2022 Datacenter / x64 | OK | OK | WARNINGS | OK |  | ||||||||
| lconway | macOS 12.7.1 Monterey / x86_64 | OK | OK | WARNINGS | OK |  | ||||||||
| kunpeng2 | Linux (openEuler 22.03 LTS-SP1) / aarch64 | OK | OK | WARNINGS | ||||||||||
| To the developers/maintainers of the geneXtendeR package: - Allow up to 24 hours (and sometimes 48 hours) for your latest push to git@git.bioconductor.org:packages/geneXtendeR.git to reflect on this report. See Troubleshooting Build Report for more information. - Use the following Renviron settings to reproduce errors and warnings. - If 'R CMD check' started to fail recently on the Linux builder(s) over a missing dependency, add the missing dependency to 'Suggests:' in your DESCRIPTION file. See Renviron.bioc for more information. | 
| Package: geneXtendeR | 
| Version: 1.32.0 | 
| Command: /Library/Frameworks/R.framework/Resources/bin/R CMD INSTALL geneXtendeR | 
| StartedAt: 2024-11-19 15:26:45 -0500 (Tue, 19 Nov 2024) | 
| EndedAt: 2024-11-19 15:27:55 -0500 (Tue, 19 Nov 2024) | 
| EllapsedTime: 70.3 seconds | 
| RetCode: 0 | 
| Status: OK | 
##############################################################################
##############################################################################
###
### Running command:
###
###   /Library/Frameworks/R.framework/Resources/bin/R CMD INSTALL geneXtendeR
###
##############################################################################
##############################################################################
* installing to library ‘/Library/Frameworks/R.framework/Versions/4.4-x86_64/Resources/library’
* installing *source* package ‘geneXtendeR’ ...
** using staged installation
** libs
using C compiler: ‘Apple clang version 14.0.0 (clang-1400.0.29.202)’
using SDK: ‘MacOSX11.3.sdk’
clang -arch x86_64 -I"/Library/Frameworks/R.framework/Resources/include" -DNDEBUG   -I/opt/R/x86_64/include    -fPIC  -falign-functions=64 -Wall -g -O2  -c annotate.c -o annotate.o
annotate.c:159:94: warning: format specifies type 'int' but the argument has type 'unsigned long' [-Wformat]
                Rf_error("annotate() doesn't handle output lines longer than %d characters", sizeof(Buffer));
                                                                             ~~              ^~~~~~~~~~~~~~
                                                                             %lu
annotate.c:191:101: warning: format specifies type 'int' but the argument has type 'unsigned long' [-Wformat]
                        Rf_error("annotate() doesn't handle output lines longer than %d characters",sizeof(Buffer));
                                                                                     ~~             ^~~~~~~~~~~~~~
                                                                                     %lu
annotate.c:199:101: warning: format specifies type 'int' but the argument has type 'unsigned long' [-Wformat]
                        Rf_error("annotate() doesn't handle output lines longer than %d characters",sizeof(Buffer));
                                                                                     ~~             ^~~~~~~~~~~~~~
                                                                                     %lu
annotate.c:208:101: warning: format specifies type 'int' but the argument has type 'unsigned long' [-Wformat]
                        Rf_error("annotate() doesn't handle output lines longer than %d characters",sizeof(Buffer));
                                                                                     ~~             ^~~~~~~~~~~~~~
                                                                                     %lu
annotate.c:228:97: warning: format specifies type 'int' but the argument has type 'unsigned long' [-Wformat]
                    Rf_error("annotate() doesn't handle output lines longer than %d characters",sizeof(Buffer));
                                                                                 ~~             ^~~~~~~~~~~~~~
                                                                                 %lu
5 warnings generated.
clang -arch x86_64 -I"/Library/Frameworks/R.framework/Resources/include" -DNDEBUG   -I/opt/R/x86_64/include    -fPIC  -falign-functions=64 -Wall -g -O2  -c extract_number.c -o extract_number.o
extract_number.c:66:10: warning: variable 'j_1' set but not used [-Wunused-but-set-variable]
    long j_1;
         ^
extract_number.c:51:12: warning: variable 'pvcfcol2_2' set but not used [-Wunused-but-set-variable]
    char * pvcfcol2_2;
           ^
extract_number.c:72:10: warning: variable 'n_1' set but not used [-Wunused-but-set-variable]
    long n_1;
         ^
extract_number.c:50:12: warning: variable 'pvcfcol1_1' set but not used [-Wunused-but-set-variable]
    char * pvcfcol1_1;
           ^
extract_number.c:54:12: warning: variable 'pvcfcol5_5' set but not used [-Wunused-but-set-variable]
    char * pvcfcol5_5;
           ^
extract_number.c:53:12: warning: variable 'pvcfcol4_4' set but not used [-Wunused-but-set-variable]
    char * pvcfcol4_4;
           ^
extract_number.c:52:12: warning: variable 'pvcfcol3_3' set but not used [-Wunused-but-set-variable]
    char * pvcfcol3_3;
           ^
7 warnings generated.
clang -arch x86_64 -I"/Library/Frameworks/R.framework/Resources/include" -DNDEBUG   -I/opt/R/x86_64/include    -fPIC  -falign-functions=64 -Wall -g -O2  -c extract_peaks.c -o extract_peaks.o
extract_peaks.c:202:94: warning: format specifies type 'int' but the argument has type 'unsigned long' [-Wformat]
                Rf_error("annotate() doesn't handle output lines longer than %d characters", sizeof(Buffer));
                                                                             ~~              ^~~~~~~~~~~~~~
                                                                             %lu
1 warning generated.
clang -arch x86_64 -dynamiclib -Wl,-headerpad_max_install_names -undefined dynamic_lookup -L/Library/Frameworks/R.framework/Resources/lib -L/opt/R/x86_64/lib -o geneXtendeR.so annotate.o extract_number.o extract_peaks.o -F/Library/Frameworks/R.framework/.. -framework R -Wl,-framework -Wl,CoreFoundation
installing to /Library/Frameworks/R.framework/Versions/4.4-x86_64/Resources/library/00LOCK-geneXtendeR/00new/geneXtendeR/libs
** R
** data
*** moving datasets to lazyload DB
** inst
** byte-compile and prepare package for lazy loading
** help
*** installing help indices
** building package indices
** installing vignettes
** testing if installed package can be loaded from temporary location
** checking absolute paths in shared objects and dynamic libraries
** testing if installed package can be loaded from final location
** testing if installed package keeps a record of temporary installation path
* DONE (geneXtendeR)