| Back to Multiple platform build/check report for BioC 3.20: simplified long | 
 | 
This page was generated on 2024-07-16 11:40 -0400 (Tue, 16 Jul 2024).
| Hostname | OS | Arch (*) | R version | Installed pkgs | 
|---|---|---|---|---|
| nebbiolo2 | Linux (Ubuntu 22.04.3 LTS) | x86_64 | 4.4.1 (2024-06-14) -- "Race for Your Life" | 4677 | 
| palomino6 | Windows Server 2022 Datacenter | x64 | 4.4.1 (2024-06-14 ucrt) -- "Race for Your Life" | 4416 | 
| lconway | macOS 12.7.1 Monterey | x86_64 | 4.4.1 (2024-06-14) -- "Race for Your Life" | 4444 | 
| kjohnson3 | macOS 13.6.5 Ventura | arm64 | 4.4.1 (2024-06-14) -- "Race for Your Life" | 4393 | 
| palomino8 | Windows Server 2022 Datacenter | x64 | 4.4.1 (2024-06-14 ucrt) -- "Race for Your Life" | 4373 | 
| Click on any hostname to see more info about the system (e.g. compilers) (*) as reported by 'uname -p', except on Windows and Mac OS X | ||||
| Package 793/2243 | Hostname | OS / Arch | INSTALL | BUILD | CHECK | BUILD BIN | ||||||||
| geNetClassifier 1.45.0  (landing page) Sara Aibar 
 | nebbiolo2 | Linux (Ubuntu 22.04.3 LTS) / x86_64 | OK | OK | OK |  | ||||||||
| palomino6 | Windows Server 2022 Datacenter / x64 | OK | OK | OK | OK | |||||||||
| lconway | macOS 12.7.1 Monterey / x86_64 | OK | OK | OK | OK |  | ||||||||
| kjohnson3 | macOS 13.6.5 Ventura / arm64 | OK | OK | OK | OK |  | ||||||||
| palomino8 | Windows Server 2022 Datacenter / x64 | OK | OK | OK | OK | |||||||||
| To the developers/maintainers of the geNetClassifier package: - Allow up to 24 hours (and sometimes 48 hours) for your latest push to git@git.bioconductor.org:packages/geNetClassifier.git to reflect on this report. See Troubleshooting Build Report for more information. - Use the following Renviron settings to reproduce errors and warnings. - If 'R CMD check' started to fail recently on the Linux builder(s) over a missing dependency, add the missing dependency to 'Suggests:' in your DESCRIPTION file. See Renviron.bioc for more information. | 
| Package: geNetClassifier | 
| Version: 1.45.0 | 
| Command: C:\Users\biocbuild\bbs-3.20-bioc\R\bin\R.exe CMD check --no-multiarch --install=check:geNetClassifier.install-out.txt --library=C:\Users\biocbuild\bbs-3.20-bioc\R\library --no-vignettes --timings geNetClassifier_1.45.0.tar.gz | 
| StartedAt: 2024-07-16 00:17:28 -0400 (Tue, 16 Jul 2024) | 
| EndedAt: 2024-07-16 00:18:31 -0400 (Tue, 16 Jul 2024) | 
| EllapsedTime: 63.4 seconds | 
| RetCode: 0 | 
| Status: OK | 
| CheckDir: geNetClassifier.Rcheck | 
| Warnings: 0 | 
##############################################################################
##############################################################################
###
### Running command:
###
###   C:\Users\biocbuild\bbs-3.20-bioc\R\bin\R.exe CMD check --no-multiarch --install=check:geNetClassifier.install-out.txt --library=C:\Users\biocbuild\bbs-3.20-bioc\R\library --no-vignettes --timings geNetClassifier_1.45.0.tar.gz
###
##############################################################################
##############################################################################
* using log directory 'C:/Users/biocbuild/bbs-3.20-bioc/meat/geNetClassifier.Rcheck'
* using R version 4.4.1 (2024-06-14 ucrt)
* using platform: x86_64-w64-mingw32
* R was compiled by
    gcc.exe (GCC) 13.2.0
    GNU Fortran (GCC) 13.2.0
* running under: Windows Server 2022 x64 (build 20348)
* using session charset: UTF-8
* using option '--no-vignettes'
* checking for file 'geNetClassifier/DESCRIPTION' ... OK
* checking extension type ... Package
* this is package 'geNetClassifier' version '1.45.0'
* checking package namespace information ... OK
* checking package dependencies ... OK
* checking if this is a source package ... OK
* checking if there is a namespace ... OK
* checking for hidden files and directories ... OK
* checking for portable file names ... OK
* checking whether package 'geNetClassifier' can be installed ... OK
* checking installed package size ... OK
* checking package directory ... OK
* checking 'build' directory ... OK
* checking DESCRIPTION meta-information ... OK
* checking top-level files ... OK
* checking for left-over files ... OK
* checking index information ... OK
* checking package subdirectories ... OK
* checking code files for non-ASCII characters ... OK
* checking R files for syntax errors ... OK
* checking whether the package can be loaded ... OK
* checking whether the package can be loaded with stated dependencies ... OK
* checking whether the package can be unloaded cleanly ... OK
* checking whether the namespace can be loaded with stated dependencies ... OK
* checking whether the namespace can be unloaded cleanly ... OK
* checking dependencies in R code ... OK
* checking S3 generic/method consistency ... OK
* checking replacement functions ... OK
* checking foreign function calls ... OK
* checking R code for possible problems ... OK
* checking Rd files ... NOTE
checkRd: (-1) calculateGenesRanking.Rd:78: Lost braces in \itemize; meant \describe ?
checkRd: (-1) calculateGenesRanking.Rd:79: Lost braces in \itemize; meant \describe ?
checkRd: (-1) calculateGenesRanking.Rd:91: Lost braces in \itemize; \value handles \item{}{} directly
checkRd: (-1) calculateGenesRanking.Rd:92: Lost braces in \itemize; \value handles \item{}{} directly
checkRd: (-1) externalValidation.stats.Rd:25-27: Lost braces in \itemize; \value handles \item{}{} directly
checkRd: (-1) externalValidation.stats.Rd:28-33: Lost braces in \itemize; \value handles \item{}{} directly
checkRd: (-1) externalValidation.stats.Rd:32: Lost braces
    32 | \item{confMatrix }{Confussion matrix.}
       |      ^
checkRd: (-1) externalValidation.stats.Rd:32: Lost braces
    32 | \item{confMatrix }{Confussion matrix.}
       |                   ^
checkRd: (-1) plot.GenesRanking.Rd:32: Lost braces in \itemize; meant \describe ?
checkRd: (-1) plot.GenesRanking.Rd:33: Lost braces in \itemize; meant \describe ?
checkRd: (-1) plotDiscriminantPower.Rd:49: Lost braces in \itemize; \value handles \item{}{} directly
checkRd: (-1) plotDiscriminantPower.Rd:50: Lost braces in \itemize; \value handles \item{}{} directly
checkRd: (-1) queryGeNetClassifier.Rd:41: Lost braces in \itemize; meant \describe ?
checkRd: (-1) queryGeNetClassifier.Rd:42-43: Lost braces in \itemize; meant \describe ?
checkRd: (-1) queryGeNetClassifier.Rd:53: Lost braces in \itemize; \value handles \item{}{} directly
checkRd: (-1) queryGeNetClassifier.Rd:54: Lost braces in \itemize; \value handles \item{}{} directly
checkRd: (-1) queryGeNetClassifier.Rd:55: Lost braces in \itemize; \value handles \item{}{} directly
checkRd: (-1) querySummary.Rd:32: Lost braces in \itemize; \value handles \item{}{} directly
checkRd: (-1) querySummary.Rd:33: Lost braces in \itemize; \value handles \item{}{} directly
checkRd: (-1) querySummary.Rd:34: Lost braces in \itemize; \value handles \item{}{} directly
* checking Rd metadata ... OK
* checking Rd cross-references ... OK
* checking for missing documentation entries ... OK
* checking for code/documentation mismatches ... OK
* checking Rd \usage sections ... OK
* checking Rd contents ... OK
* checking for unstated dependencies in examples ... OK
* checking contents of 'data' directory ... OK
* checking data for non-ASCII characters ... OK
* checking data for ASCII and uncompressed saves ... OK
* checking sizes of PDF files under 'inst/doc' ... OK
* checking files in 'vignettes' ... OK
* checking examples ... OK
* checking for unstated dependencies in 'tests' ... OK
* checking tests ...
  Running 'runTests.R'
 OK
* checking for unstated dependencies in vignettes ... OK
* checking package vignettes ... OK
* checking running R code from vignettes ... SKIPPED
* checking re-building of vignette outputs ... SKIPPED
* checking PDF version of manual ... OK
* DONE
Status: 1 NOTE
See
  'C:/Users/biocbuild/bbs-3.20-bioc/meat/geNetClassifier.Rcheck/00check.log'
for details.
geNetClassifier.Rcheck/00install.out
############################################################################## ############################################################################## ### ### Running command: ### ### C:\Users\biocbuild\bbs-3.20-bioc\R\bin\R.exe CMD INSTALL geNetClassifier ### ############################################################################## ############################################################################## * installing to library 'C:/Users/biocbuild/bbs-3.20-bioc/R/library' * installing *source* package 'geNetClassifier' ... ** using staged installation ** R ** data ** inst ** byte-compile and prepare package for lazy loading ** help *** installing help indices ** building package indices ** installing vignettes ** testing if installed package can be loaded from temporary location ** testing if installed package can be loaded from final location ** testing if installed package keeps a record of temporary installation path * DONE (geNetClassifier)
geNetClassifier.Rcheck/tests/runTests.Rout
R version 4.4.1 (2024-06-14 ucrt) -- "Race for Your Life"
Copyright (C) 2024 The R Foundation for Statistical Computing
Platform: x86_64-w64-mingw32/x64
R is free software and comes with ABSOLUTELY NO WARRANTY.
You are welcome to redistribute it under certain conditions.
Type 'license()' or 'licence()' for distribution details.
R is a collaborative project with many contributors.
Type 'contributors()' for more information and
'citation()' on how to cite R or R packages in publications.
Type 'demo()' for some demos, 'help()' for on-line help, or
'help.start()' for an HTML browser interface to help.
Type 'q()' to quit R.
> BiocGenerics:::testPackage("geNetClassifier")
Attaching package: 'BiocGenerics'
The following objects are masked from 'package:stats':
    IQR, mad, sd, var, xtabs
The following objects are masked from 'package:base':
    Filter, Find, Map, Position, Reduce, anyDuplicated, aperm, append,
    as.data.frame, basename, cbind, colnames, dirname, do.call,
    duplicated, eval, evalq, get, grep, grepl, intersect, is.unsorted,
    lapply, mapply, match, mget, order, paste, pmax, pmax.int, pmin,
    pmin.int, rank, rbind, rownames, sapply, setdiff, table, tapply,
    union, unique, unsplit, which.max, which.min
Welcome to Bioconductor
    Vignettes contain introductory material; view with
    'browseVignettes()'. To cite Bioconductor, see
    'citation("Biobase")', and for packages 'citation("pkgname")'.
00:18:20 - Filtering data and calculating the genes ranking...
Warning in plotExpressionProfiles(eset = myEset, genes = rownames(myEset),  :
  The argument 'sampleLabels' had to be converted into a factor.
Warning in plotExpressionProfiles(eset = myEset, genes = rownames(myEset),  :
  The data labels vector is not named, it will be assumed the labels are in order: the first label applies to the first sample... 
RUNIT TEST PROTOCOL -- Tue Jul 16 00:18:20 2024 
*********************************************** 
Number of test functions: 3 
Number of errors: 0 
Number of failures: 0 
 
1 Test Suite : 
geNetClassifier RUnit Tests - 3 test functions, 0 errors, 0 failures
Number of test functions: 3 
Number of errors: 0 
Number of failures: 0 
Warning messages:
1: In geNetClassifier(matrix(sample(50000, 5 * 2), 5, 2), c(rep("one",  :
  The argument 'classification sampleLabels' had to be converted into a factor.
2: In geNetClassifier(matrix(sample(50000, 5 * 3), 5, 3), c(rep("one",  :
  The argument 'classification sampleLabels' had to be converted into a factor.
3: In geNetClassifier(matrix(sample(50000, 5 * 3), 5, 3), c(rep("one",  :
  The data labels vector is not named, it is assumed the labels are in order: the first label applies to the first sample... 
4: In geNetClassifier(matrix(sample(50000, 5 * 3), 5, 3), c(rep("one",  :
  It is recommended to have the *same* number of samples in each class in order to obtain balanced external validation stats.
> 
> proc.time()
   user  system elapsed 
   0.73    0.17    0.89 
geNetClassifier.Rcheck/geNetClassifier-Ex.timings
| name | user | system | elapsed | |
| GeNetClassifierReturn-class | 0.42 | 0.09 | 0.55 | |
| GeneralizationError-class | 0.27 | 0.02 | 0.28 | |
| GenesNetwork-class | 2.15 | 1.29 | 3.47 | |
| GenesRanking-class | 0.46 | 0.05 | 0.51 | |
| calculateGenesRanking | 0.32 | 0.05 | 0.38 | |
| externalValidation.probMatrix | 0.44 | 0.03 | 0.47 | |
| externalValidation.stats | 0.41 | 0.03 | 0.43 | |
| gClasses-methods | 0.15 | 0.01 | 0.17 | |
| geNetClassifier | 0.10 | 0.02 | 0.11 | |
| geneSymbols | 0.04 | 0.02 | 0.07 | |
| genesDetails-methods | 0.32 | 0.06 | 0.37 | |
| getEdges-methods | 0.15 | 0.00 | 0.16 | |
| getNodes-methods | 0.14 | 0.02 | 0.16 | |
| getNumEdges-methods | 0.14 | 0.03 | 0.17 | |
| getNumNodes-methods | 0.18 | 0.02 | 0.19 | |
| getRanking-methods | 0.18 | 0.00 | 0.19 | |
| getSubNetwork-methods | 0.16 | 0.01 | 0.17 | |
| getTopRanking-methods | 0.16 | 0.03 | 0.19 | |
| leukemiasClassifier | 0.21 | 0.00 | 0.21 | |
| network2txt | 0.36 | 0.03 | 0.40 | |
| numGenes-methods | 0.11 | 0.07 | 0.17 | |
| numSignificantGenes-methods | 0.18 | 0.00 | 0.17 | |
| overview-methods | 0.18 | 0.00 | 0.22 | |
| plot.GeNetClassifierReturn | 2.02 | 0.29 | 2.44 | |
| plot.GenesRanking | 0.25 | 0.00 | 0.25 | |
| plotAssignments | 0.37 | 0.08 | 0.45 | |
| plotDiscriminantPower | 0.43 | 0.05 | 0.50 | |
| plotExpressionProfiles | 0.59 | 0.08 | 0.67 | |
| plotNetwork | 1.61 | 0.09 | 1.77 | |
| queryGeNetClassifier | 0.56 | 0.17 | 0.73 | |
| querySummary | 0.38 | 0.10 | 0.47 | |