| Back to Multiple platform build/check report for BioC 3.20: simplified long |
|
This page was generated on 2024-11-20 12:06 -0500 (Wed, 20 Nov 2024).
| Hostname | OS | Arch (*) | R version | Installed pkgs |
|---|---|---|---|---|
| teran2 | Linux (Ubuntu 24.04.1 LTS) | x86_64 | 4.4.2 (2024-10-31) -- "Pile of Leaves" | 4481 |
| nebbiolo2 | Linux (Ubuntu 24.04.1 LTS) | x86_64 | 4.4.2 (2024-10-31) -- "Pile of Leaves" | 4479 |
| palomino8 | Windows Server 2022 Datacenter | x64 | 4.4.2 (2024-10-31 ucrt) -- "Pile of Leaves" | 4359 |
| lconway | macOS 12.7.1 Monterey | x86_64 | 4.4.1 (2024-06-14) -- "Race for Your Life" | 4539 |
| kunpeng2 | Linux (openEuler 22.03 LTS-SP1) | aarch64 | 4.4.1 (2024-06-14) -- "Race for Your Life" | 4493 |
| Click on any hostname to see more info about the system (e.g. compilers) (*) as reported by 'uname -p', except on Windows and Mac OS X | ||||
| Package 735/2289 | Hostname | OS / Arch | INSTALL | BUILD | CHECK | BUILD BIN | ||||||||
| flowGraph 1.14.0 (landing page) Alice Yue
| teran2 | Linux (Ubuntu 24.04.1 LTS) / x86_64 | OK | OK | OK | |||||||||
| nebbiolo2 | Linux (Ubuntu 24.04.1 LTS) / x86_64 | OK | OK | OK | ||||||||||
| palomino8 | Windows Server 2022 Datacenter / x64 | OK | OK | OK | OK | |||||||||
| lconway | macOS 12.7.1 Monterey / x86_64 | OK | OK | OK | OK | |||||||||
| kunpeng2 | Linux (openEuler 22.03 LTS-SP1) / aarch64 | OK | OK | OK | ||||||||||
|
To the developers/maintainers of the flowGraph package: - Allow up to 24 hours (and sometimes 48 hours) for your latest push to git@git.bioconductor.org:packages/flowGraph.git to reflect on this report. See Troubleshooting Build Report for more information. - Use the following Renviron settings to reproduce errors and warnings. - If 'R CMD check' started to fail recently on the Linux builder(s) over a missing dependency, add the missing dependency to 'Suggests:' in your DESCRIPTION file. See Renviron.bioc for more information. |
| Package: flowGraph |
| Version: 1.14.0 |
| Command: /Library/Frameworks/R.framework/Resources/bin/R CMD check --install=check:flowGraph.install-out.txt --library=/Library/Frameworks/R.framework/Resources/library --no-vignettes --timings flowGraph_1.14.0.tar.gz |
| StartedAt: 2024-11-19 22:09:05 -0500 (Tue, 19 Nov 2024) |
| EndedAt: 2024-11-19 22:15:43 -0500 (Tue, 19 Nov 2024) |
| EllapsedTime: 398.8 seconds |
| RetCode: 0 |
| Status: OK |
| CheckDir: flowGraph.Rcheck |
| Warnings: 0 |
##############################################################################
##############################################################################
###
### Running command:
###
### /Library/Frameworks/R.framework/Resources/bin/R CMD check --install=check:flowGraph.install-out.txt --library=/Library/Frameworks/R.framework/Resources/library --no-vignettes --timings flowGraph_1.14.0.tar.gz
###
##############################################################################
##############################################################################
* using log directory ‘/Users/biocbuild/bbs-3.20-bioc/meat/flowGraph.Rcheck’
* using R version 4.4.1 (2024-06-14)
* using platform: x86_64-apple-darwin20
* R was compiled by
Apple clang version 14.0.0 (clang-1400.0.29.202)
GNU Fortran (GCC) 12.2.0
* running under: macOS Monterey 12.7.6
* using session charset: UTF-8
* using option ‘--no-vignettes’
* checking for file ‘flowGraph/DESCRIPTION’ ... OK
* checking extension type ... Package
* this is package ‘flowGraph’ version ‘1.14.0’
* checking package namespace information ... OK
* checking package dependencies ...Warning: unable to access index for repository https://CRAN.R-project.org/src/contrib:
cannot open URL 'https://CRAN.R-project.org/src/contrib/PACKAGES'
OK
* checking if this is a source package ... OK
* checking if there is a namespace ... OK
* checking for hidden files and directories ... OK
* checking for portable file names ... OK
* checking for sufficient/correct file permissions ... OK
* checking whether package ‘flowGraph’ can be installed ... OK
* checking installed package size ... OK
* checking package directory ... OK
* checking ‘build’ directory ... OK
* checking DESCRIPTION meta-information ... OK
* checking top-level files ... OK
* checking for left-over files ... OK
* checking index information ... OK
* checking package subdirectories ... OK
* checking code files for non-ASCII characters ... OK
* checking R files for syntax errors ... OK
* checking whether the package can be loaded ... OK
* checking whether the package can be loaded with stated dependencies ... OK
* checking whether the package can be unloaded cleanly ... OK
* checking whether the namespace can be loaded with stated dependencies ... OK
* checking whether the namespace can be unloaded cleanly ... OK
* checking dependencies in R code ... OK
* checking S3 generic/method consistency ... OK
* checking replacement functions ... OK
* checking foreign function calls ... OK
* checking R code for possible problems ... NOTE
get_child: no visible binding for global variable ‘no_cores’
get_paren: no visible binding for global variable ‘no_cores’
ms_psig: no visible binding for global variable ‘meta’
Undefined global functions or variables:
meta no_cores
* checking Rd files ... NOTE
checkRd: (-1) fg_get_graph.Rd:13: Lost braces
13 | A list containing two data frames (\code{v} and ]code{e})
| ^
checkRd: (-1) ggdf.Rd:22: Lost braces
22 | code{ggdf} adds to the data frames \code{v} and \code{e} in slot
| ^
* checking Rd metadata ... OK
* checking Rd cross-references ... OK
* checking for missing documentation entries ... OK
* checking for code/documentation mismatches ... OK
* checking Rd \usage sections ... OK
* checking Rd contents ... OK
* checking for unstated dependencies in examples ... OK
* checking contents of ‘data’ directory ... OK
* checking data for non-ASCII characters ... OK
* checking data for ASCII and uncompressed saves ... OK
* checking files in ‘vignettes’ ... OK
* checking examples ... OK
Examples with CPU (user + system) or elapsed time > 5s
user system elapsed
fg_save_plots 29.717 0.165 29.945
fg_load 29.637 0.239 29.920
fg_save 29.238 0.127 29.413
* checking for unstated dependencies in ‘tests’ ... OK
* checking tests ...
Running ‘testthat.R’
OK
* checking for unstated dependencies in vignettes ... OK
* checking package vignettes ... OK
* checking running R code from vignettes ... SKIPPED
* checking re-building of vignette outputs ... SKIPPED
* checking PDF version of manual ... OK
* DONE
Status: 2 NOTEs
See
‘/Users/biocbuild/bbs-3.20-bioc/meat/flowGraph.Rcheck/00check.log’
for details.
flowGraph.Rcheck/00install.out
############################################################################## ############################################################################## ### ### Running command: ### ### /Library/Frameworks/R.framework/Resources/bin/R CMD INSTALL flowGraph ### ############################################################################## ############################################################################## * installing to library ‘/Library/Frameworks/R.framework/Versions/4.4-x86_64/Resources/library’ * installing *source* package ‘flowGraph’ ... ** using staged installation ** R ** data ** inst ** byte-compile and prepare package for lazy loading ** help Loading required namespace: flowGraph *** installing help indices ** building package indices ** installing vignettes ** testing if installed package can be loaded from temporary location ** testing if installed package can be loaded from final location ** testing if installed package keeps a record of temporary installation path * DONE (flowGraph)
flowGraph.Rcheck/tests/testthat.Rout
R version 4.4.1 (2024-06-14) -- "Race for Your Life"
Copyright (C) 2024 The R Foundation for Statistical Computing
Platform: x86_64-apple-darwin20
R is free software and comes with ABSOLUTELY NO WARRANTY.
You are welcome to redistribute it under certain conditions.
Type 'license()' or 'licence()' for distribution details.
R is a collaborative project with many contributors.
Type 'contributors()' for more information and
'citation()' on how to cite R or R packages in publications.
Type 'demo()' for some demos, 'help()' for on-line help, or
'help.start()' for an HTML browser interface to help.
Type 'q()' to quit R.
> library(testthat)
> library(flowGraph)
>
> test_check("flowGraph")
[ FAIL 0 | WARN 1 | SKIP 0 | PASS 34 ]
[ FAIL 0 | WARN 1 | SKIP 0 | PASS 34 ]
>
> proc.time()
user system elapsed
4.045 0.231 4.289
flowGraph.Rcheck/flowGraph-Ex.timings
| name | user | system | elapsed | |
| cell_type_layers | 0.003 | 0.000 | 0.003 | |
| fg_add_feature | 0.261 | 0.008 | 0.270 | |
| fg_add_summary | 0.679 | 0.009 | 0.690 | |
| fg_clean_phen | 0.000 | 0.001 | 0.000 | |
| fg_clear_features | 0.680 | 0.006 | 0.688 | |
| fg_clear_summary | 0.264 | 0.003 | 0.268 | |
| fg_extract_phenotypes | 0.205 | 0.003 | 0.208 | |
| fg_extract_raw | 0.622 | 0.005 | 0.629 | |
| fg_extract_samples | 0.202 | 0.003 | 0.206 | |
| fg_feat_cumsum | 0.204 | 0.003 | 0.207 | |
| fg_feat_edge_specenr | 0.335 | 0.005 | 0.341 | |
| fg_feat_mean_class | 0.210 | 0.004 | 0.215 | |
| fg_feat_node_prop | 0.196 | 0.003 | 0.199 | |
| fg_feat_node_specenr | 0.332 | 0.005 | 0.339 | |
| fg_feat_prop_edge | 0.221 | 0.003 | 0.224 | |
| fg_get_feature | 0.222 | 0.004 | 0.227 | |
| fg_get_feature_desc | 0.742 | 0.008 | 0.761 | |
| fg_get_feature_means | 0.984 | 0.008 | 0.998 | |
| fg_get_graph | 0.196 | 0.003 | 0.199 | |
| fg_get_markers | 0.192 | 0.002 | 0.194 | |
| fg_get_meta | 0.195 | 0.004 | 0.200 | |
| fg_get_summary | 1.257 | 0.005 | 1.264 | |
| fg_get_summary_desc | 0.618 | 0.004 | 0.624 | |
| fg_get_summary_index | 1.417 | 0.006 | 1.426 | |
| fg_get_summary_tables | 0.907 | 0.008 | 0.920 | |
| fg_gsub_ids | 0.199 | 0.003 | 0.203 | |
| fg_gsub_markers | 0.265 | 0.004 | 0.273 | |
| fg_load | 29.637 | 0.239 | 29.920 | |
| fg_merge | 0.187 | 0.004 | 0.192 | |
| fg_merge_samples | 0.179 | 0.004 | 0.183 | |
| fg_plot | 0.265 | 0.004 | 0.268 | |
| fg_plot_box | 0.407 | 0.003 | 0.410 | |
| fg_plot_pVSdiff | 0.244 | 0.002 | 0.246 | |
| fg_plot_qq | 0.743 | 0.061 | 0.830 | |
| fg_replace_meta | 0.188 | 0.002 | 0.191 | |
| fg_rm_feature | 0.586 | 0.006 | 0.592 | |
| fg_rm_summary | 0.239 | 0.003 | 0.241 | |
| fg_save | 29.238 | 0.127 | 29.413 | |
| fg_save_plots | 29.717 | 0.165 | 29.945 | |
| fg_set_layout | 0.187 | 0.003 | 0.191 | |
| fg_summary | 0.257 | 0.002 | 0.261 | |
| flowGraph-class | 0.000 | 0.000 | 0.002 | |
| flowGraph | 0.880 | 0.006 | 0.889 | |
| flowGraphSubset | 0.000 | 0.000 | 0.001 | |
| flowGraphSubset_summary_adjust | 0.000 | 0.001 | 0.001 | |
| flowGraphSubset_summary_pars | 0 | 0 | 0 | |
| get_phen_list | 0.009 | 0.000 | 0.009 | |
| get_phen_meta | 0.001 | 0.001 | 0.002 | |
| ggdf | 0.189 | 0.004 | 0.193 | |
| loop_ind_f | 0 | 0 | 0 | |
| meandiff | 0.001 | 0.001 | 0.000 | |
| plot_gr | 1.004 | 0.020 | 1.031 | |
| set_layout_graph | 0.199 | 0.028 | 0.227 | |
| summary_table | 0.002 | 0.000 | 0.003 | |
| time_output | 0.000 | 0.000 | 0.001 | |
| tstr | 0.001 | 0.000 | 0.001 | |