| Back to Multiple platform build/check report for BioC 3.20: simplified long | 
 | 
This page was generated on 2025-04-02 19:28 -0400 (Wed, 02 Apr 2025).
| Hostname | OS | Arch (*) | R version | Installed pkgs | 
|---|---|---|---|---|
| nebbiolo2 | Linux (Ubuntu 24.04.1 LTS) | x86_64 | 4.4.3 (2025-02-28) -- "Trophy Case" | 4764 | 
| palomino8 | Windows Server 2022 Datacenter | x64 | 4.4.3 (2025-02-28 ucrt) -- "Trophy Case" | 4495 | 
| merida1 | macOS 12.7.5 Monterey | x86_64 | 4.4.3 (2025-02-28) -- "Trophy Case" | 4522 | 
| kjohnson1 | macOS 13.6.6 Ventura | arm64 | 4.4.3 (2025-02-28) -- "Trophy Case" | 4449 | 
| taishan | Linux (openEuler 24.03 LTS) | aarch64 | 4.4.3 (2025-02-28) -- "Trophy Case" | 4426 | 
| Click on any hostname to see more info about the system (e.g. compilers) (*) as reported by 'uname -p', except on Windows and Mac OS X | ||||
| Package 715/2289 | Hostname | OS / Arch | INSTALL | BUILD | CHECK | BUILD BIN | ||||||||
| findIPs 1.2.0  (landing page) Shuo Wang 
 | nebbiolo2 | Linux (Ubuntu 24.04.1 LTS) / x86_64 | OK | OK | OK |  | ||||||||
| palomino8 | Windows Server 2022 Datacenter / x64 | OK | OK | OK | OK |  | ||||||||
| merida1 | macOS 12.7.5 Monterey / x86_64 | OK | OK | OK | OK |  | ||||||||
| kjohnson1 | macOS 13.6.6 Ventura / arm64 | OK | OK | OK | OK |  | ||||||||
| taishan | Linux (openEuler 24.03 LTS) / aarch64 | OK | OK | OK | ||||||||||
| To the developers/maintainers of the findIPs package: - Allow up to 24 hours (and sometimes 48 hours) for your latest push to git@git.bioconductor.org:packages/findIPs.git to reflect on this report. See Troubleshooting Build Report for more information. - Use the following Renviron settings to reproduce errors and warnings. - If 'R CMD check' started to fail recently on the Linux builder(s) over a missing dependency, add the missing dependency to 'Suggests:' in your DESCRIPTION file. See Renviron.bioc for more information. | 
| Package: findIPs | 
| Version: 1.2.0 | 
| Command: /home/biocbuild/bbs-3.20-bioc/R/bin/R CMD check --install=check:findIPs.install-out.txt --library=/home/biocbuild/bbs-3.20-bioc/R/site-library --timings findIPs_1.2.0.tar.gz | 
| StartedAt: 2025-03-31 22:10:28 -0400 (Mon, 31 Mar 2025) | 
| EndedAt: 2025-03-31 22:21:08 -0400 (Mon, 31 Mar 2025) | 
| EllapsedTime: 639.8 seconds | 
| RetCode: 0 | 
| Status: OK | 
| CheckDir: findIPs.Rcheck | 
| Warnings: 0 | 
##############################################################################
##############################################################################
###
### Running command:
###
###   /home/biocbuild/bbs-3.20-bioc/R/bin/R CMD check --install=check:findIPs.install-out.txt --library=/home/biocbuild/bbs-3.20-bioc/R/site-library --timings findIPs_1.2.0.tar.gz
###
##############################################################################
##############################################################################
* using log directory ‘/home/biocbuild/bbs-3.20-bioc/meat/findIPs.Rcheck’
* using R version 4.4.3 (2025-02-28)
* using platform: x86_64-pc-linux-gnu
* R was compiled by
    gcc (Ubuntu 13.3.0-6ubuntu2~24.04) 13.3.0
    GNU Fortran (Ubuntu 13.3.0-6ubuntu2~24.04) 13.3.0
* running under: Ubuntu 24.04.2 LTS
* using session charset: UTF-8
* checking for file ‘findIPs/DESCRIPTION’ ... OK
* checking extension type ... Package
* this is package ‘findIPs’ version ‘1.2.0’
* package encoding: UTF-8
* checking package namespace information ... OK
* checking package dependencies ... OK
* checking if this is a source package ... OK
* checking if there is a namespace ... OK
* checking for hidden files and directories ... OK
* checking for portable file names ... OK
* checking for sufficient/correct file permissions ... OK
* checking whether package ‘findIPs’ can be installed ... OK
* checking installed package size ... OK
* checking package directory ... OK
* checking ‘build’ directory ... OK
* checking DESCRIPTION meta-information ... OK
* checking top-level files ... OK
* checking for left-over files ... OK
* checking index information ... OK
* checking package subdirectories ... OK
* checking code files for non-ASCII characters ... OK
* checking R files for syntax errors ... OK
* checking whether the package can be loaded ... OK
* checking whether the package can be loaded with stated dependencies ... OK
* checking whether the package can be unloaded cleanly ... OK
* checking whether the namespace can be loaded with stated dependencies ... OK
* checking whether the namespace can be unloaded cleanly ... OK
* checking loading without being on the library search path ... OK
* checking dependencies in R code ... OK
* checking S3 generic/method consistency ... OK
* checking replacement functions ... OK
* checking foreign function calls ... OK
* checking R code for possible problems ... OK
* checking Rd files ... OK
* checking Rd metadata ... OK
* checking Rd cross-references ... OK
* checking for missing documentation entries ... OK
* checking for code/documentation mismatches ... OK
* checking Rd \usage sections ... OK
* checking Rd contents ... OK
* checking for unstated dependencies in examples ... OK
* checking contents of ‘data’ directory ... OK
* checking data for non-ASCII characters ... OK
* checking data for ASCII and uncompressed saves ... OK
* checking files in ‘vignettes’ ... OK
* checking examples ... OK
Examples with CPU (user + system) or elapsed time > 5s
                   user system elapsed
findIPs          28.800  0.165  28.961
plotIPs          21.803  0.006  21.808
sumRanks         21.446  0.027  21.475
plotRankScatters 21.258  0.031  21.292
getdrop1ranks    21.027  0.046  21.072
* checking for unstated dependencies in ‘tests’ ... OK
* checking tests ...
  Running ‘testthat.R’
 OK
* checking for unstated dependencies in vignettes ... OK
* checking package vignettes ... OK
* checking re-building of vignette outputs ... OK
* checking PDF version of manual ... OK
* DONE
Status: OK
findIPs.Rcheck/00install.out
############################################################################## ############################################################################## ### ### Running command: ### ### /home/biocbuild/bbs-3.20-bioc/R/bin/R CMD INSTALL findIPs ### ############################################################################## ############################################################################## * installing to library ‘/home/biocbuild/bbs-3.20-bioc/R/site-library’ * installing *source* package ‘findIPs’ ... ** using staged installation ** R ** data ** inst ** byte-compile and prepare package for lazy loading ** help *** installing help indices ** building package indices ** installing vignettes ** testing if installed package can be loaded from temporary location ** testing if installed package can be loaded from final location ** testing if installed package keeps a record of temporary installation path * DONE (findIPs)
findIPs.Rcheck/tests/testthat.Rout
R version 4.4.3 (2025-02-28) -- "Trophy Case"
Copyright (C) 2025 The R Foundation for Statistical Computing
Platform: x86_64-pc-linux-gnu
R is free software and comes with ABSOLUTELY NO WARRANTY.
You are welcome to redistribute it under certain conditions.
Type 'license()' or 'licence()' for distribution details.
R is a collaborative project with many contributors.
Type 'contributors()' for more information and
'citation()' on how to cite R or R packages in publications.
Type 'demo()' for some demos, 'help()' for on-line help, or
'help.start()' for an HTML browser interface to help.
Type 'q()' to quit R.
> library(testthat)
> library(findIPs)
> 
> # get data
> data(miller05)
> X <- miller05$X
> y <- miller05$y
> surv <- miller05$surv
> 
> # save expected results
> 
> # obj <- getdrop1ranks(X, y,
> #                      fun = "t.test",
> #                      decreasing = FALSE,
> #                      topN = 100)
> #
> # expected.t.adaptive <- sumRanks(origRank = obj$origRank,
> #                                 drop1Rank = obj$drop1Rank,
> #                                 topN = 100,
> #                                 method = "adaptive")
> #
> # expected.t.unweighted <- sumRanks(origRank = obj$origRank,
> #                                   drop1Rank = obj$drop1Rank,
> #                                   topN = 100,
> #                                   method = "unweighted")
> #
> # expected.t.weighted <- sumRanks(origRank = obj$origRank,
> #                                 drop1Rank = obj$drop1Rank,
> #                                 topN = 100,
> #                                 method = "weightedSpearman")
> #
> # expected.t.adaptive.ipsr <- findIPs(X, y,
> #                                     fun = "t.test",
> #                                     decreasing = FALSE,
> #                                     topN = 100,
> #                                     method = "adaptive")
> #
> # expected.cox.adaptive.ipsr <- findIPs(X, surv,
> #                                       fun = "cox",
> #                                       decreasing = FALSE,
> #                                       topN = 100,
> #                                       method = "adaptive")
> #
> # save(list = c("expected.t.adaptive", "expected.t.unweighted",
> #               "expected.t.weighted", "expected.t.adaptive.ipsr",
> #               "expected.cox.adaptive.ipsr"),
> #      file = "./expectedResults/expectedResults.RData")
> 
> # get observed results
> 
> load("./expectedResults/expectedResults.RData")
> 
> obj <- getdrop1ranks(X, y,
+                      fun = "t.test",
+                      decreasing = FALSE,
+                      topN = 100)
> 
> observed.t.adaptive <- sumRanks(origRank = obj$origRank,
+                                 drop1Rank = obj$drop1Rank,
+                                 topN = 100,
+                                 method = "adaptive")
> 
> observed.t.unweighted <- sumRanks(origRank = obj$origRank,
+                                   drop1Rank = obj$drop1Rank,
+                                   topN = 100,
+                                   method = "unweighted")
> 
> observed.t.weighted <- sumRanks(origRank = obj$origRank,
+                                 drop1Rank = obj$drop1Rank,
+                                 topN = 100,
+                                 method = "weightedSpearman")
> 
> observed.t.adaptive.ipsr <- findIPs(X, y,
+                                     fun = "t.test",
+                                     decreasing = FALSE,
+                                     topN = 100,
+                                     method = "adaptive")
> 
> observed.cox.adaptive.ipsr <- findIPs(X, surv,
+                                       fun = "cox",
+                                       decreasing = FALSE,
+                                       topN = 100,
+                                       method = "adaptive")
> 
> test_that("test getdrop1ranks and sumRanks",{
+     expect_equal(expected.t.adaptive, observed.t.adaptive)
+     expect_equal(expected.t.unweighted, observed.t.unweighted)
+     expect_equal(expected.t.weighted, expected.t.weighted)
+ })
Test passed 😸
> 
> test_that("stepwise(getdrop1ranks and sumRanks) and one-step procedure",{
+     expect_equal(observed.t.adaptive.ipsr, observed.t.adaptive)
+ })
Test passed 😸
> 
> test_that("test ipsr",{
+     expect_equal(expected.t.adaptive.ipsr, observed.t.adaptive.ipsr)
+ })
Test passed 🎊
> 
> test_that("test ipsr for survival outcomes (ranked by univariate cox)",{
+     expect_equal(expected.cox.adaptive.ipsr, observed.cox.adaptive.ipsr)
+ })
Test passed 🎊
> 
> 
> 
> 
> 
> proc.time()
   user  system elapsed 
121.191   2.147 123.328 
findIPs.Rcheck/findIPs-Ex.timings
| name | user | system | elapsed | |
| findIPs | 28.800 | 0.165 | 28.961 | |
| getdrop1ranks | 21.027 | 0.046 | 21.072 | |
| miller05 | 0.015 | 0.001 | 0.016 | |
| plotAdaptiveWeights | 0.007 | 0.000 | 0.008 | |
| plotIPs | 21.803 | 0.006 | 21.808 | |
| plotRankScatters | 21.258 | 0.031 | 21.292 | |
| sumRanks | 21.446 | 0.027 | 21.475 | |