| Back to Multiple platform build/check report for BioC 3.20: simplified long |
|
This page was generated on 2025-04-02 19:28 -0400 (Wed, 02 Apr 2025).
| Hostname | OS | Arch (*) | R version | Installed pkgs |
|---|---|---|---|---|
| nebbiolo2 | Linux (Ubuntu 24.04.1 LTS) | x86_64 | 4.4.3 (2025-02-28) -- "Trophy Case" | 4764 |
| palomino8 | Windows Server 2022 Datacenter | x64 | 4.4.3 (2025-02-28 ucrt) -- "Trophy Case" | 4495 |
| merida1 | macOS 12.7.5 Monterey | x86_64 | 4.4.3 (2025-02-28) -- "Trophy Case" | 4522 |
| kjohnson1 | macOS 13.6.6 Ventura | arm64 | 4.4.3 (2025-02-28) -- "Trophy Case" | 4449 |
| taishan | Linux (openEuler 24.03 LTS) | aarch64 | 4.4.3 (2025-02-28) -- "Trophy Case" | 4426 |
| Click on any hostname to see more info about the system (e.g. compilers) (*) as reported by 'uname -p', except on Windows and Mac OS X | ||||
| Package 456/2289 | Hostname | OS / Arch | INSTALL | BUILD | CHECK | BUILD BIN | ||||||||
| crisprBwa 1.10.0 (landing page) Jean-Philippe Fortin
| nebbiolo2 | Linux (Ubuntu 24.04.1 LTS) / x86_64 | OK | OK | OK | |||||||||
| palomino8 | Windows Server 2022 Datacenter / x64 | ... NOT SUPPORTED ... | ||||||||||||
| merida1 | macOS 12.7.5 Monterey / x86_64 | OK | OK | OK | OK | |||||||||
| kjohnson1 | macOS 13.6.6 Ventura / arm64 | OK | OK | OK | OK | |||||||||
| taishan | Linux (openEuler 24.03 LTS) / aarch64 | OK | OK | OK | ||||||||||
|
To the developers/maintainers of the crisprBwa package: - Allow up to 24 hours (and sometimes 48 hours) for your latest push to git@git.bioconductor.org:packages/crisprBwa.git to reflect on this report. See Troubleshooting Build Report for more information. - Use the following Renviron settings to reproduce errors and warnings. - If 'R CMD check' started to fail recently on the Linux builder(s) over a missing dependency, add the missing dependency to 'Suggests:' in your DESCRIPTION file. See Renviron.bioc for more information. |
| Package: crisprBwa |
| Version: 1.10.0 |
| Command: /home/biocbuild/bbs-3.20-bioc/R/bin/R CMD check --install=check:crisprBwa.install-out.txt --library=/home/biocbuild/bbs-3.20-bioc/R/site-library --timings crisprBwa_1.10.0.tar.gz |
| StartedAt: 2025-03-31 21:08:43 -0400 (Mon, 31 Mar 2025) |
| EndedAt: 2025-03-31 21:12:54 -0400 (Mon, 31 Mar 2025) |
| EllapsedTime: 250.2 seconds |
| RetCode: 0 |
| Status: OK |
| CheckDir: crisprBwa.Rcheck |
| Warnings: 0 |
##############################################################################
##############################################################################
###
### Running command:
###
### /home/biocbuild/bbs-3.20-bioc/R/bin/R CMD check --install=check:crisprBwa.install-out.txt --library=/home/biocbuild/bbs-3.20-bioc/R/site-library --timings crisprBwa_1.10.0.tar.gz
###
##############################################################################
##############################################################################
* using log directory ‘/home/biocbuild/bbs-3.20-bioc/meat/crisprBwa.Rcheck’
* using R version 4.4.3 (2025-02-28)
* using platform: x86_64-pc-linux-gnu
* R was compiled by
gcc (Ubuntu 13.3.0-6ubuntu2~24.04) 13.3.0
GNU Fortran (Ubuntu 13.3.0-6ubuntu2~24.04) 13.3.0
* running under: Ubuntu 24.04.2 LTS
* using session charset: UTF-8
* checking for file ‘crisprBwa/DESCRIPTION’ ... OK
* this is package ‘crisprBwa’ version ‘1.10.0’
* package encoding: UTF-8
* checking package namespace information ... OK
* checking package dependencies ... OK
* checking if this is a source package ... OK
* checking if there is a namespace ... OK
* checking for hidden files and directories ... NOTE
Found the following hidden files and directories:
.BBSoptions
These were most likely included in error. See section ‘Package
structure’ in the ‘Writing R Extensions’ manual.
* checking for portable file names ... OK
* checking for sufficient/correct file permissions ... OK
* checking whether package ‘crisprBwa’ can be installed ... OK
* checking installed package size ... OK
* checking package directory ... OK
* checking ‘build’ directory ... OK
* checking DESCRIPTION meta-information ... NOTE
License stub is invalid DCF.
* checking top-level files ... OK
* checking for left-over files ... OK
* checking index information ... OK
* checking package subdirectories ... OK
* checking code files for non-ASCII characters ... OK
* checking R files for syntax errors ... OK
* checking whether the package can be loaded ... OK
* checking whether the package can be loaded with stated dependencies ... OK
* checking whether the package can be unloaded cleanly ... OK
* checking whether the namespace can be loaded with stated dependencies ... OK
* checking whether the namespace can be unloaded cleanly ... OK
* checking loading without being on the library search path ... OK
* checking dependencies in R code ... OK
* checking S3 generic/method consistency ... OK
* checking replacement functions ... OK
* checking foreign function calls ... OK
* checking R code for possible problems ... OK
* checking Rd files ... OK
* checking Rd metadata ... OK
* checking Rd cross-references ... OK
* checking for missing documentation entries ... OK
* checking for code/documentation mismatches ... OK
* checking Rd \usage sections ... OK
* checking Rd contents ... OK
* checking for unstated dependencies in examples ... OK
* checking files in ‘vignettes’ ... OK
* checking examples ... OK
* checking for unstated dependencies in ‘tests’ ... OK
* checking tests ...
Running ‘testthat.R’
OK
* checking for unstated dependencies in vignettes ... OK
* checking package vignettes ... OK
* checking re-building of vignette outputs ... OK
* checking PDF version of manual ... OK
* DONE
Status: 2 NOTEs
See
‘/home/biocbuild/bbs-3.20-bioc/meat/crisprBwa.Rcheck/00check.log’
for details.
crisprBwa.Rcheck/00install.out
############################################################################## ############################################################################## ### ### Running command: ### ### /home/biocbuild/bbs-3.20-bioc/R/bin/R CMD INSTALL crisprBwa ### ############################################################################## ############################################################################## * installing to library ‘/home/biocbuild/bbs-3.20-bioc/R/site-library’ * installing *source* package ‘crisprBwa’ ... ** using staged installation ** R ** inst ** byte-compile and prepare package for lazy loading ** help *** installing help indices ** building package indices ** installing vignettes ** testing if installed package can be loaded from temporary location ** testing if installed package can be loaded from final location ** testing if installed package keeps a record of temporary installation path * DONE (crisprBwa)
crisprBwa.Rcheck/tests/testthat.Rout
R version 4.4.3 (2025-02-28) -- "Trophy Case"
Copyright (C) 2025 The R Foundation for Statistical Computing
Platform: x86_64-pc-linux-gnu
R is free software and comes with ABSOLUTELY NO WARRANTY.
You are welcome to redistribute it under certain conditions.
Type 'license()' or 'licence()' for distribution details.
R is a collaborative project with many contributors.
Type 'contributors()' for more information and
'citation()' on how to cite R or R packages in publications.
Type 'demo()' for some demos, 'help()' for on-line help, or
'help.start()' for an HTML browser interface to help.
Type 'q()' to quit R.
> library(testthat)
> library(crisprBwa)
>
> test_check("crisprBwa")
[bwa_index] Pack FASTA... 0.00 sec
[bwa_index] Construct BWT for the packed sequence...
[bwa_index] 0.04 seconds elapse.
[bwa_index] Update BWT... 0.00 sec
[bwa_index] Pack forward-only FASTA... 0.00 sec
[bwa_index] Construct SA from BWT and Occ... 0.02 sec
[main] Version: 0.7.17-r1198-dirty
[main] CMD: /home/biocbuild/bbs-3.20-bioc/R/site-library/Rbwa/bwa index -p /home/biocbuild/bbs-3.20-bioc/tmpdir/RtmpZ8TKzl/chr12 /home/biocbuild/bbs-3.20-bioc/R/site-library/crisprBwa/example/chr12.fa
[main] Real time: 0.063 sec; CPU: 0.057 sec
[bwa_aln_core] calculate SA coordinate... 0.00 sec
[bwa_aln_core] write to the disk... 0.00 sec
[bwa_aln_core] 3 sequences have been processed.
[main] Version: 0.7.17-r1198-dirty
[main] CMD: /home/biocbuild/bbs-3.20-bioc/R/site-library/Rbwa/bwa aln -N -n 0 -l 36 -o 0 /home/biocbuild/bbs-3.20-bioc/tmpdir/RtmpZ8TKzl/chr12 /home/biocbuild/bbs-3.20-bioc/tmpdir/RtmpZ8TKzl/file24f9e2531408a4
[main] Real time: 0.001 sec; CPU: 0.001 sec
[bwa_aln_core] convert to sequence coordinate... 0.00 sec
[bwa_aln_core] refine gapped alignments... 0.00 sec
[bwa_aln_core] print alignments... 0.00 sec
[bwa_aln_core] 3 sequences have been processed.
[main] Version: 0.7.17-r1198-dirty
[main] CMD: /home/biocbuild/bbs-3.20-bioc/R/site-library/Rbwa/bwa samse -n 1000000000 /home/biocbuild/bbs-3.20-bioc/tmpdir/RtmpZ8TKzl/chr12 /home/biocbuild/bbs-3.20-bioc/tmpdir/RtmpZ8TKzl/file24f9e2531408a4.sai /home/biocbuild/bbs-3.20-bioc/tmpdir/RtmpZ8TKzl/file24f9e2531408a4
[main] Real time: 0.001 sec; CPU: 0.001 sec
[bwa_aln_core] calculate SA coordinate... 0.00 sec
[bwa_aln_core] write to the disk... 0.00 sec
[bwa_aln_core] 3 sequences have been processed.
[main] Version: 0.7.17-r1198-dirty
[main] CMD: /home/biocbuild/bbs-3.20-bioc/R/site-library/Rbwa/bwa aln -N -n 1 -l 36 -o 0 /home/biocbuild/bbs-3.20-bioc/tmpdir/RtmpZ8TKzl/chr12 /home/biocbuild/bbs-3.20-bioc/tmpdir/RtmpZ8TKzl/file24f9e228f0511e
[main] Real time: 0.001 sec; CPU: 0.001 sec
[bwa_aln_core] convert to sequence coordinate... 0.00 sec
[bwa_aln_core] refine gapped alignments... 0.00 sec
[bwa_aln_core] print alignments... 0.00 sec
[bwa_aln_core] 3 sequences have been processed.
[main] Version: 0.7.17-r1198-dirty
[main] CMD: /home/biocbuild/bbs-3.20-bioc/R/site-library/Rbwa/bwa samse -n 1000000000 /home/biocbuild/bbs-3.20-bioc/tmpdir/RtmpZ8TKzl/chr12 /home/biocbuild/bbs-3.20-bioc/tmpdir/RtmpZ8TKzl/file24f9e228f0511e.sai /home/biocbuild/bbs-3.20-bioc/tmpdir/RtmpZ8TKzl/file24f9e228f0511e
[main] Real time: 0.001 sec; CPU: 0.001 sec
[bwa_aln_core] calculate SA coordinate... 0.00 sec
[bwa_aln_core] write to the disk... 0.00 sec
[bwa_aln_core] 3 sequences have been processed.
[main] Version: 0.7.17-r1198-dirty
[main] CMD: /home/biocbuild/bbs-3.20-bioc/R/site-library/Rbwa/bwa aln -N -n 2 -l 36 -o 0 /home/biocbuild/bbs-3.20-bioc/tmpdir/RtmpZ8TKzl/chr12 /home/biocbuild/bbs-3.20-bioc/tmpdir/RtmpZ8TKzl/file24f9e2192d316d
[main] Real time: 0.001 sec; CPU: 0.002 sec
[bwa_aln_core] convert to sequence coordinate... 0.00 sec
[bwa_aln_core] refine gapped alignments... 0.00 sec
[bwa_aln_core] print alignments... 0.00 sec
[bwa_aln_core] 3 sequences have been processed.
[main] Version: 0.7.17-r1198-dirty
[main] CMD: /home/biocbuild/bbs-3.20-bioc/R/site-library/Rbwa/bwa samse -n 1000000000 /home/biocbuild/bbs-3.20-bioc/tmpdir/RtmpZ8TKzl/chr12 /home/biocbuild/bbs-3.20-bioc/tmpdir/RtmpZ8TKzl/file24f9e2192d316d.sai /home/biocbuild/bbs-3.20-bioc/tmpdir/RtmpZ8TKzl/file24f9e2192d316d
[main] Real time: 0.001 sec; CPU: 0.002 sec
[bwa_aln_core] calculate SA coordinate... 0.00 sec
[bwa_aln_core] write to the disk... 0.00 sec
[bwa_aln_core] 3 sequences have been processed.
[main] Version: 0.7.17-r1198-dirty
[main] CMD: /home/biocbuild/bbs-3.20-bioc/R/site-library/Rbwa/bwa aln -N -n 3 -l 36 -o 0 /home/biocbuild/bbs-3.20-bioc/tmpdir/RtmpZ8TKzl/chr12 /home/biocbuild/bbs-3.20-bioc/tmpdir/RtmpZ8TKzl/file24f9e21f385503
[main] Real time: 0.002 sec; CPU: 0.002 sec
[bwa_aln_core] convert to sequence coordinate... 0.00 sec
[bwa_aln_core] refine gapped alignments... 0.00 sec
[bwa_aln_core] print alignments... 0.00 sec
[bwa_aln_core] 3 sequences have been processed.
[main] Version: 0.7.17-r1198-dirty
[main] CMD: /home/biocbuild/bbs-3.20-bioc/R/site-library/Rbwa/bwa samse -n 1000000000 /home/biocbuild/bbs-3.20-bioc/tmpdir/RtmpZ8TKzl/chr12 /home/biocbuild/bbs-3.20-bioc/tmpdir/RtmpZ8TKzl/file24f9e21f385503.sai /home/biocbuild/bbs-3.20-bioc/tmpdir/RtmpZ8TKzl/file24f9e21f385503
[main] Real time: 0.001 sec; CPU: 0.002 sec
[bwa_aln_core] calculate SA coordinate... 0.00 sec
[bwa_aln_core] write to the disk... 0.00 sec
[bwa_aln_core] 1 sequences have been processed.
[main] Version: 0.7.17-r1198-dirty
[main] CMD: /home/biocbuild/bbs-3.20-bioc/R/site-library/Rbwa/bwa aln -N -n 0 -l 144 -o 0 /home/biocbuild/bbs-3.20-bioc/tmpdir/RtmpZ8TKzl/chr12 /home/biocbuild/bbs-3.20-bioc/tmpdir/RtmpZ8TKzl/file24f9e24e31a78d
[main] Real time: 0.001 sec; CPU: 0.001 sec
[bwa_aln_core] convert to sequence coordinate... 0.00 sec
[bwa_aln_core] refine gapped alignments... 0.00 sec
[bwa_aln_core] print alignments... 0.00 sec
[bwa_aln_core] 1 sequences have been processed.
[main] Version: 0.7.17-r1198-dirty
[main] CMD: /home/biocbuild/bbs-3.20-bioc/R/site-library/Rbwa/bwa samse -n 1000000000 /home/biocbuild/bbs-3.20-bioc/tmpdir/RtmpZ8TKzl/chr12 /home/biocbuild/bbs-3.20-bioc/tmpdir/RtmpZ8TKzl/file24f9e24e31a78d.sai /home/biocbuild/bbs-3.20-bioc/tmpdir/RtmpZ8TKzl/file24f9e24e31a78d
[main] Real time: 0.001 sec; CPU: 0.001 sec
[bwa_index] Pack FASTA... 0.00 sec
[bwa_index] Construct BWT for the packed sequence...
[bwa_index] 0.03 seconds elapse.
[bwa_index] Update BWT... 0.00 sec
[bwa_index] Pack forward-only FASTA... 0.00 sec
[bwa_index] Construct SA from BWT and Occ... 0.02 sec
[main] Version: 0.7.17-r1198-dirty
[main] CMD: /home/biocbuild/bbs-3.20-bioc/R/site-library/Rbwa/bwa index -p /home/biocbuild/bbs-3.20-bioc/tmpdir/RtmpZ8TKzl/chr12 /home/biocbuild/bbs-3.20-bioc/R/site-library/crisprBwa/example/chr12.fa
[main] Real time: 0.059 sec; CPU: 0.056 sec
[runCrisprBwa] Using BSgenome.Hsapiens.UCSC.hg38
[runCrisprBwa] Searching for SpCas9 protospacers
[bwa_aln_core] calculate SA coordinate... 0.00 sec
[bwa_aln_core] write to the disk... 0.00 sec
[bwa_aln_core] 5 sequences have been processed.
[main] Version: 0.7.17-r1198-dirty
[main] CMD: /home/biocbuild/bbs-3.20-bioc/R/site-library/Rbwa/bwa aln -N -n 0 -l 60 -o 0 /home/biocbuild/bbs-3.20-bioc/tmpdir/RtmpZ8TKzl/chr12 /home/biocbuild/bbs-3.20-bioc/tmpdir/RtmpZ8TKzl/file24f9e257f62623
[main] Real time: 0.001 sec; CPU: 0.001 sec
[bwa_aln_core] convert to sequence coordinate... 0.00 sec
[bwa_aln_core] refine gapped alignments... 0.00 sec
[bwa_aln_core] print alignments... 0.00 sec
[bwa_aln_core] 5 sequences have been processed.
[main] Version: 0.7.17-r1198-dirty
[main] CMD: /home/biocbuild/bbs-3.20-bioc/R/site-library/Rbwa/bwa samse -n 1000000000 /home/biocbuild/bbs-3.20-bioc/tmpdir/RtmpZ8TKzl/chr12 /home/biocbuild/bbs-3.20-bioc/tmpdir/RtmpZ8TKzl/file24f9e257f62623.sai /home/biocbuild/bbs-3.20-bioc/tmpdir/RtmpZ8TKzl/file24f9e257f62623
[main] Real time: 0.001 sec; CPU: 0.002 sec
[runCrisprBwa] Using BSgenome.Hsapiens.UCSC.hg38
[runCrisprBwa] Searching for SpCas9 protospacers
[bwa_aln_core] calculate SA coordinate... 0.00 sec
[bwa_aln_core] write to the disk... 0.00 sec
[bwa_aln_core] 5 sequences have been processed.
[main] Version: 0.7.17-r1198-dirty
[main] CMD: /home/biocbuild/bbs-3.20-bioc/R/site-library/Rbwa/bwa aln -N -n 1 -l 60 -o 0 /home/biocbuild/bbs-3.20-bioc/tmpdir/RtmpZ8TKzl/chr12 /home/biocbuild/bbs-3.20-bioc/tmpdir/RtmpZ8TKzl/file24f9e22f8e5f89
[main] Real time: 0.002 sec; CPU: 0.001 sec
[bwa_aln_core] convert to sequence coordinate... 0.00 sec
[bwa_aln_core] refine gapped alignments... 0.00 sec
[bwa_aln_core] print alignments... 0.00 sec
[bwa_aln_core] 5 sequences have been processed.
[main] Version: 0.7.17-r1198-dirty
[main] CMD: /home/biocbuild/bbs-3.20-bioc/R/site-library/Rbwa/bwa samse -n 1000000000 /home/biocbuild/bbs-3.20-bioc/tmpdir/RtmpZ8TKzl/chr12 /home/biocbuild/bbs-3.20-bioc/tmpdir/RtmpZ8TKzl/file24f9e22f8e5f89.sai /home/biocbuild/bbs-3.20-bioc/tmpdir/RtmpZ8TKzl/file24f9e22f8e5f89
[main] Real time: 0.001 sec; CPU: 0.001 sec
[runCrisprBwa] Using BSgenome.Hsapiens.UCSC.hg38
[runCrisprBwa] Searching for SpCas9 protospacers
[bwa_aln_core] calculate SA coordinate... 0.00 sec
[bwa_aln_core] write to the disk... 0.00 sec
[bwa_aln_core] 5 sequences have been processed.
[main] Version: 0.7.17-r1198-dirty
[main] CMD: /home/biocbuild/bbs-3.20-bioc/R/site-library/Rbwa/bwa aln -N -n 2 -l 60 -o 0 /home/biocbuild/bbs-3.20-bioc/tmpdir/RtmpZ8TKzl/chr12 /home/biocbuild/bbs-3.20-bioc/tmpdir/RtmpZ8TKzl/file24f9e240d66b9a
[main] Real time: 0.002 sec; CPU: 0.001 sec
[bwa_aln_core] convert to sequence coordinate... 0.00 sec
[bwa_aln_core] refine gapped alignments... 0.00 sec
[bwa_aln_core] print alignments... 0.00 sec
[bwa_aln_core] 5 sequences have been processed.
[main] Version: 0.7.17-r1198-dirty
[main] CMD: /home/biocbuild/bbs-3.20-bioc/R/site-library/Rbwa/bwa samse -n 1000000000 /home/biocbuild/bbs-3.20-bioc/tmpdir/RtmpZ8TKzl/chr12 /home/biocbuild/bbs-3.20-bioc/tmpdir/RtmpZ8TKzl/file24f9e240d66b9a.sai /home/biocbuild/bbs-3.20-bioc/tmpdir/RtmpZ8TKzl/file24f9e240d66b9a
[main] Real time: 0.001 sec; CPU: 0.001 sec
[runCrisprBwa] Using BSgenome.Hsapiens.UCSC.hg38
[runCrisprBwa] Searching for SpCas9 protospacers
[bwa_aln_core] calculate SA coordinate... 0.00 sec
[bwa_aln_core] write to the disk... 0.00 sec
[bwa_aln_core] 5 sequences have been processed.
[main] Version: 0.7.17-r1198-dirty
[main] CMD: /home/biocbuild/bbs-3.20-bioc/R/site-library/Rbwa/bwa aln -N -n 3 -l 60 -o 0 /home/biocbuild/bbs-3.20-bioc/tmpdir/RtmpZ8TKzl/chr12 /home/biocbuild/bbs-3.20-bioc/tmpdir/RtmpZ8TKzl/file24f9e22c38e6cf
[main] Real time: 0.002 sec; CPU: 0.002 sec
[bwa_aln_core] convert to sequence coordinate... 0.00 sec
[bwa_aln_core] refine gapped alignments... 0.00 sec
[bwa_aln_core] print alignments... 0.00 sec
[bwa_aln_core] 5 sequences have been processed.
[main] Version: 0.7.17-r1198-dirty
[main] CMD: /home/biocbuild/bbs-3.20-bioc/R/site-library/Rbwa/bwa samse -n 1000000000 /home/biocbuild/bbs-3.20-bioc/tmpdir/RtmpZ8TKzl/chr12 /home/biocbuild/bbs-3.20-bioc/tmpdir/RtmpZ8TKzl/file24f9e22c38e6cf.sai /home/biocbuild/bbs-3.20-bioc/tmpdir/RtmpZ8TKzl/file24f9e22c38e6cf
[main] Real time: 0.001 sec; CPU: 0.001 sec
[runCrisprBwa] Using BSgenome.Hsapiens.UCSC.hg38
[runCrisprBwa] Searching for SpCas9 protospacers
[bwa_aln_core] calculate SA coordinate... 0.00 sec
[bwa_aln_core] write to the disk... 0.00 sec
[bwa_aln_core] 5 sequences have been processed.
[main] Version: 0.7.17-r1198-dirty
[main] CMD: /home/biocbuild/bbs-3.20-bioc/R/site-library/Rbwa/bwa aln -N -n 0 -l 60 -o 0 /home/biocbuild/bbs-3.20-bioc/tmpdir/RtmpZ8TKzl/chr12 /home/biocbuild/bbs-3.20-bioc/tmpdir/RtmpZ8TKzl/file24f9e21329db9a
[main] Real time: 0.002 sec; CPU: 0.003 sec
[bwa_aln_core] convert to sequence coordinate... 0.00 sec
[bwa_aln_core] refine gapped alignments... 0.00 sec
[bwa_aln_core] print alignments... 0.00 sec
[bwa_aln_core] 5 sequences have been processed.
[main] Version: 0.7.17-r1198-dirty
[main] CMD: /home/biocbuild/bbs-3.20-bioc/R/site-library/Rbwa/bwa samse -n 1000000000 /home/biocbuild/bbs-3.20-bioc/tmpdir/RtmpZ8TKzl/chr12 /home/biocbuild/bbs-3.20-bioc/tmpdir/RtmpZ8TKzl/file24f9e21329db9a.sai /home/biocbuild/bbs-3.20-bioc/tmpdir/RtmpZ8TKzl/file24f9e21329db9a
[main] Real time: 0.001 sec; CPU: 0.001 sec
[runCrisprBwa] Using BSgenome.Hsapiens.UCSC.hg38
[runCrisprBwa] Searching for SpCas9 protospacers
[bwa_aln_core] calculate SA coordinate... 0.00 sec
[bwa_aln_core] write to the disk... 0.00 sec
[bwa_aln_core] 5 sequences have been processed.
[main] Version: 0.7.17-r1198-dirty
[main] CMD: /home/biocbuild/bbs-3.20-bioc/R/site-library/Rbwa/bwa aln -N -n 1 -l 60 -o 0 /home/biocbuild/bbs-3.20-bioc/tmpdir/RtmpZ8TKzl/chr12 /home/biocbuild/bbs-3.20-bioc/tmpdir/RtmpZ8TKzl/file24f9e2efc5ab
[main] Real time: 0.001 sec; CPU: 0.001 sec
[bwa_aln_core] convert to sequence coordinate... 0.00 sec
[bwa_aln_core] refine gapped alignments... 0.00 sec
[bwa_aln_core] print alignments... 0.00 sec
[bwa_aln_core] 5 sequences have been processed.
[main] Version: 0.7.17-r1198-dirty
[main] CMD: /home/biocbuild/bbs-3.20-bioc/R/site-library/Rbwa/bwa samse -n 1000000000 /home/biocbuild/bbs-3.20-bioc/tmpdir/RtmpZ8TKzl/chr12 /home/biocbuild/bbs-3.20-bioc/tmpdir/RtmpZ8TKzl/file24f9e2efc5ab.sai /home/biocbuild/bbs-3.20-bioc/tmpdir/RtmpZ8TKzl/file24f9e2efc5ab
[main] Real time: 0.001 sec; CPU: 0.001 sec
[runCrisprBwa] Using BSgenome.Hsapiens.UCSC.hg38
[runCrisprBwa] Searching for SpCas9 protospacers
[bwa_aln_core] calculate SA coordinate... 0.00 sec
[bwa_aln_core] write to the disk... 0.00 sec
[bwa_aln_core] 5 sequences have been processed.
[main] Version: 0.7.17-r1198-dirty
[main] CMD: /home/biocbuild/bbs-3.20-bioc/R/site-library/Rbwa/bwa aln -N -n 2 -l 60 -o 0 /home/biocbuild/bbs-3.20-bioc/tmpdir/RtmpZ8TKzl/chr12 /home/biocbuild/bbs-3.20-bioc/tmpdir/RtmpZ8TKzl/file24f9e2168aa8b3
[main] Real time: 0.002 sec; CPU: 0.001 sec
[bwa_aln_core] convert to sequence coordinate... 0.00 sec
[bwa_aln_core] refine gapped alignments... 0.00 sec
[bwa_aln_core] print alignments... 0.00 sec
[bwa_aln_core] 5 sequences have been processed.
[main] Version: 0.7.17-r1198-dirty
[main] CMD: /home/biocbuild/bbs-3.20-bioc/R/site-library/Rbwa/bwa samse -n 1000000000 /home/biocbuild/bbs-3.20-bioc/tmpdir/RtmpZ8TKzl/chr12 /home/biocbuild/bbs-3.20-bioc/tmpdir/RtmpZ8TKzl/file24f9e2168aa8b3.sai /home/biocbuild/bbs-3.20-bioc/tmpdir/RtmpZ8TKzl/file24f9e2168aa8b3
[main] Real time: 0.001 sec; CPU: 0.002 sec
[runCrisprBwa] Using BSgenome.Hsapiens.UCSC.hg38
[runCrisprBwa] Searching for SpCas9 protospacers
[bwa_aln_core] calculate SA coordinate... 0.00 sec
[bwa_aln_core] write to the disk... 0.00 sec
[bwa_aln_core] 5 sequences have been processed.
[main] Version: 0.7.17-r1198-dirty
[main] CMD: /home/biocbuild/bbs-3.20-bioc/R/site-library/Rbwa/bwa aln -N -n 3 -l 60 -o 0 /home/biocbuild/bbs-3.20-bioc/tmpdir/RtmpZ8TKzl/chr12 /home/biocbuild/bbs-3.20-bioc/tmpdir/RtmpZ8TKzl/file24f9e23de6b92f
[main] Real time: 0.002 sec; CPU: 0.002 sec
[bwa_aln_core] convert to sequence coordinate... 0.00 sec
[bwa_aln_core] refine gapped alignments... 0.00 sec
[bwa_aln_core] print alignments... 0.00 sec
[bwa_aln_core] 5 sequences have been processed.
[main] Version: 0.7.17-r1198-dirty
[main] CMD: /home/biocbuild/bbs-3.20-bioc/R/site-library/Rbwa/bwa samse -n 1000000000 /home/biocbuild/bbs-3.20-bioc/tmpdir/RtmpZ8TKzl/chr12 /home/biocbuild/bbs-3.20-bioc/tmpdir/RtmpZ8TKzl/file24f9e23de6b92f.sai /home/biocbuild/bbs-3.20-bioc/tmpdir/RtmpZ8TKzl/file24f9e23de6b92f
[main] Real time: 0.002 sec; CPU: 0.003 sec
[runCrisprBwa] Using BSgenome.Hsapiens.UCSC.hg38
[runCrisprBwa] Searching for SpCas9 protospacers
[runCrisprBwa] Using BSgenome.Hsapiens.UCSC.hg38
[runCrisprBwa] Searching for SpCas9 protospacers
[bwa_aln_core] calculate SA coordinate... 0.00 sec
[bwa_aln_core] write to the disk... 0.00 sec
[bwa_aln_core] 5 sequences have been processed.
[main] Version: 0.7.17-r1198-dirty
[main] CMD: /home/biocbuild/bbs-3.20-bioc/R/site-library/Rbwa/bwa aln -N -n 3 -l 51 -o 0 /home/biocbuild/bbs-3.20-bioc/tmpdir/RtmpZ8TKzl/chr12 /home/biocbuild/bbs-3.20-bioc/tmpdir/RtmpZ8TKzl/file24f9e23e43b505
[main] Real time: 0.003 sec; CPU: 0.003 sec
[bwa_aln_core] convert to sequence coordinate... 0.00 sec
[bwa_aln_core] refine gapped alignments... 0.00 sec
[bwa_aln_core] print alignments... 0.00 sec
[bwa_aln_core] 5 sequences have been processed.
[main] Version: 0.7.17-r1198-dirty
[main] CMD: /home/biocbuild/bbs-3.20-bioc/R/site-library/Rbwa/bwa samse -n 1000000000 /home/biocbuild/bbs-3.20-bioc/tmpdir/RtmpZ8TKzl/chr12 /home/biocbuild/bbs-3.20-bioc/tmpdir/RtmpZ8TKzl/file24f9e23e43b505.sai /home/biocbuild/bbs-3.20-bioc/tmpdir/RtmpZ8TKzl/file24f9e23e43b505
[main] Real time: 0.001 sec; CPU: 0.002 sec
[runCrisprBwa] Using BSgenome.Hsapiens.UCSC.hg38
[runCrisprBwa] Searching for AsCas12a protospacers
[bwa_aln_core] calculate SA coordinate... 0.00 sec
[bwa_aln_core] write to the disk... 0.00 sec
[bwa_aln_core] 4 sequences have been processed.
[main] Version: 0.7.17-r1198-dirty
[main] CMD: /home/biocbuild/bbs-3.20-bioc/R/site-library/Rbwa/bwa aln -N -n 0 -l 69 -o 0 /home/biocbuild/bbs-3.20-bioc/tmpdir/RtmpZ8TKzl/chr12 /home/biocbuild/bbs-3.20-bioc/tmpdir/RtmpZ8TKzl/file24f9e2279b0e72
[main] Real time: 0.001 sec; CPU: 0.002 sec
[bwa_aln_core] convert to sequence coordinate... 0.00 sec
[bwa_aln_core] refine gapped alignments... 0.00 sec
[bwa_aln_core] print alignments... 0.00 sec
[bwa_aln_core] 4 sequences have been processed.
[main] Version: 0.7.17-r1198-dirty
[main] CMD: /home/biocbuild/bbs-3.20-bioc/R/site-library/Rbwa/bwa samse -n 1000000000 /home/biocbuild/bbs-3.20-bioc/tmpdir/RtmpZ8TKzl/chr12 /home/biocbuild/bbs-3.20-bioc/tmpdir/RtmpZ8TKzl/file24f9e2279b0e72.sai /home/biocbuild/bbs-3.20-bioc/tmpdir/RtmpZ8TKzl/file24f9e2279b0e72
[main] Real time: 0.001 sec; CPU: 0.002 sec
[runCrisprBwa] Using BSgenome.Hsapiens.UCSC.hg38
[runCrisprBwa] Searching for AsCas12a protospacers
[bwa_aln_core] calculate SA coordinate... 0.00 sec
[bwa_aln_core] write to the disk... 0.00 sec
[bwa_aln_core] 4 sequences have been processed.
[main] Version: 0.7.17-r1198-dirty
[main] CMD: /home/biocbuild/bbs-3.20-bioc/R/site-library/Rbwa/bwa aln -N -n 1 -l 69 -o 0 /home/biocbuild/bbs-3.20-bioc/tmpdir/RtmpZ8TKzl/chr12 /home/biocbuild/bbs-3.20-bioc/tmpdir/RtmpZ8TKzl/file24f9e23cb3d380
[main] Real time: 0.001 sec; CPU: 0.001 sec
[bwa_aln_core] convert to sequence coordinate... 0.00 sec
[bwa_aln_core] refine gapped alignments... 0.00 sec
[bwa_aln_core] print alignments... 0.00 sec
[bwa_aln_core] 4 sequences have been processed.
[main] Version: 0.7.17-r1198-dirty
[main] CMD: /home/biocbuild/bbs-3.20-bioc/R/site-library/Rbwa/bwa samse -n 1000000000 /home/biocbuild/bbs-3.20-bioc/tmpdir/RtmpZ8TKzl/chr12 /home/biocbuild/bbs-3.20-bioc/tmpdir/RtmpZ8TKzl/file24f9e23cb3d380.sai /home/biocbuild/bbs-3.20-bioc/tmpdir/RtmpZ8TKzl/file24f9e23cb3d380
[main] Real time: 0.001 sec; CPU: 0.001 sec
[runCrisprBwa] Using BSgenome.Hsapiens.UCSC.hg38
[runCrisprBwa] Searching for AsCas12a protospacers
[bwa_aln_core] calculate SA coordinate... 0.00 sec
[bwa_aln_core] write to the disk... 0.00 sec
[bwa_aln_core] 4 sequences have been processed.
[main] Version: 0.7.17-r1198-dirty
[main] CMD: /home/biocbuild/bbs-3.20-bioc/R/site-library/Rbwa/bwa aln -N -n 2 -l 69 -o 0 /home/biocbuild/bbs-3.20-bioc/tmpdir/RtmpZ8TKzl/chr12 /home/biocbuild/bbs-3.20-bioc/tmpdir/RtmpZ8TKzl/file24f9e22d9667b1
[main] Real time: 0.001 sec; CPU: 0.001 sec
[bwa_aln_core] convert to sequence coordinate... 0.00 sec
[bwa_aln_core] refine gapped alignments... 0.00 sec
[bwa_aln_core] print alignments... 0.00 sec
[bwa_aln_core] 4 sequences have been processed.
[main] Version: 0.7.17-r1198-dirty
[main] CMD: /home/biocbuild/bbs-3.20-bioc/R/site-library/Rbwa/bwa samse -n 1000000000 /home/biocbuild/bbs-3.20-bioc/tmpdir/RtmpZ8TKzl/chr12 /home/biocbuild/bbs-3.20-bioc/tmpdir/RtmpZ8TKzl/file24f9e22d9667b1.sai /home/biocbuild/bbs-3.20-bioc/tmpdir/RtmpZ8TKzl/file24f9e22d9667b1
[main] Real time: 0.001 sec; CPU: 0.002 sec
[runCrisprBwa] Using BSgenome.Hsapiens.UCSC.hg38
[runCrisprBwa] Searching for AsCas12a protospacers
[bwa_aln_core] calculate SA coordinate... 0.00 sec
[bwa_aln_core] write to the disk... 0.00 sec
[bwa_aln_core] 4 sequences have been processed.
[main] Version: 0.7.17-r1198-dirty
[main] CMD: /home/biocbuild/bbs-3.20-bioc/R/site-library/Rbwa/bwa aln -N -n 3 -l 69 -o 0 /home/biocbuild/bbs-3.20-bioc/tmpdir/RtmpZ8TKzl/chr12 /home/biocbuild/bbs-3.20-bioc/tmpdir/RtmpZ8TKzl/file24f9e274a1794a
[main] Real time: 0.002 sec; CPU: 0.002 sec
[bwa_aln_core] convert to sequence coordinate... 0.00 sec
[bwa_aln_core] refine gapped alignments... 0.00 sec
[bwa_aln_core] print alignments... 0.00 sec
[bwa_aln_core] 4 sequences have been processed.
[main] Version: 0.7.17-r1198-dirty
[main] CMD: /home/biocbuild/bbs-3.20-bioc/R/site-library/Rbwa/bwa samse -n 1000000000 /home/biocbuild/bbs-3.20-bioc/tmpdir/RtmpZ8TKzl/chr12 /home/biocbuild/bbs-3.20-bioc/tmpdir/RtmpZ8TKzl/file24f9e274a1794a.sai /home/biocbuild/bbs-3.20-bioc/tmpdir/RtmpZ8TKzl/file24f9e274a1794a
[main] Real time: 0.002 sec; CPU: 0.003 sec
[ FAIL 0 | WARN 0 | SKIP 0 | PASS 19 ]
>
> proc.time()
user system elapsed
17.029 1.593 18.644
crisprBwa.Rcheck/crisprBwa-Ex.timings
| name | user | system | elapsed | |
| runBwa | 1.423 | 0.056 | 1.487 | |
| runCrisprBwa | 0.829 | 0.084 | 0.919 | |