| Back to Multiple platform build/check report for BioC 3.20: simplified long | 
 | 
This page was generated on 2024-11-20 12:07 -0500 (Wed, 20 Nov 2024).
| Hostname | OS | Arch (*) | R version | Installed pkgs | 
|---|---|---|---|---|
| teran2 | Linux (Ubuntu 24.04.1 LTS) | x86_64 | 4.4.2 (2024-10-31) -- "Pile of Leaves" | 4481 | 
| nebbiolo2 | Linux (Ubuntu 24.04.1 LTS) | x86_64 | 4.4.2 (2024-10-31) -- "Pile of Leaves" | 4479 | 
| palomino8 | Windows Server 2022 Datacenter | x64 | 4.4.2 (2024-10-31 ucrt) -- "Pile of Leaves" | 4359 | 
| lconway | macOS 12.7.1 Monterey | x86_64 | 4.4.1 (2024-06-14) -- "Race for Your Life" | 4539 | 
| kunpeng2 | Linux (openEuler 22.03 LTS-SP1) | aarch64 | 4.4.1 (2024-06-14) -- "Race for Your Life" | 4493 | 
| Click on any hostname to see more info about the system (e.g. compilers) (*) as reported by 'uname -p', except on Windows and Mac OS X | ||||
| Package 429/2289 | Hostname | OS / Arch | INSTALL | BUILD | CHECK | BUILD BIN | ||||||||
| consensusSeekeR 1.34.0  (landing page) Astrid Deschênes 
 | teran2 | Linux (Ubuntu 24.04.1 LTS) / x86_64 | OK | OK | OK |  | ||||||||
| nebbiolo2 | Linux (Ubuntu 24.04.1 LTS) / x86_64 | OK | OK | OK | ||||||||||
| palomino8 | Windows Server 2022 Datacenter / x64 | OK | OK | OK | OK |  | ||||||||
| lconway | macOS 12.7.1 Monterey / x86_64 | OK | OK | OK | OK |  | ||||||||
| kunpeng2 | Linux (openEuler 22.03 LTS-SP1) / aarch64 | OK | OK | OK | ||||||||||
| To the developers/maintainers of the consensusSeekeR package: - Allow up to 24 hours (and sometimes 48 hours) for your latest push to git@git.bioconductor.org:packages/consensusSeekeR.git to reflect on this report. See Troubleshooting Build Report for more information. - Use the following Renviron settings to reproduce errors and warnings. - If 'R CMD check' started to fail recently on the Linux builder(s) over a missing dependency, add the missing dependency to 'Suggests:' in your DESCRIPTION file. See Renviron.bioc for more information. - See Martin Grigorov's blog post for how to debug Linux ARM64 related issues on a x86_64 host. | 
| Package: consensusSeekeR | 
| Version: 1.34.0 | 
| Command: /home/biocbuild/R/R/bin/R CMD check --install=check:consensusSeekeR.install-out.txt --library=/home/biocbuild/R/R/site-library --no-vignettes --timings consensusSeekeR_1.34.0.tar.gz | 
| StartedAt: 2024-11-20 06:32:52 -0000 (Wed, 20 Nov 2024) | 
| EndedAt: 2024-11-20 06:38:04 -0000 (Wed, 20 Nov 2024) | 
| EllapsedTime: 311.5 seconds | 
| RetCode: 0 | 
| Status: OK | 
| CheckDir: consensusSeekeR.Rcheck | 
| Warnings: 0 | 
##############################################################################
##############################################################################
###
### Running command:
###
###   /home/biocbuild/R/R/bin/R CMD check --install=check:consensusSeekeR.install-out.txt --library=/home/biocbuild/R/R/site-library --no-vignettes --timings consensusSeekeR_1.34.0.tar.gz
###
##############################################################################
##############################################################################
* using log directory ‘/home/biocbuild/bbs-3.20-bioc/meat/consensusSeekeR.Rcheck’
* using R version 4.4.1 (2024-06-14)
* using platform: aarch64-unknown-linux-gnu
* R was compiled by
    gcc (GCC) 12.2.1 20220819 (openEuler 12.2.1-14)
    GNU Fortran (GCC) 10.3.1
* running under: openEuler 22.03 (LTS-SP1)
* using session charset: UTF-8
* using option ‘--no-vignettes’
* checking for file ‘consensusSeekeR/DESCRIPTION’ ... OK
* this is package ‘consensusSeekeR’ version ‘1.34.0’
* package encoding: UTF-8
* checking package namespace information ... OK
* checking package dependencies ... OK
* checking if this is a source package ... OK
* checking if there is a namespace ... OK
* checking for hidden files and directories ... OK
* checking for portable file names ... OK
* checking for sufficient/correct file permissions ... OK
* checking whether package ‘consensusSeekeR’ can be installed ... OK
* checking installed package size ... OK
* checking package directory ... OK
* checking ‘build’ directory ... OK
* checking DESCRIPTION meta-information ... OK
* checking top-level files ... OK
* checking for left-over files ... OK
* checking index information ... OK
* checking package subdirectories ... OK
* checking code files for non-ASCII characters ... OK
* checking R files for syntax errors ... OK
* checking whether the package can be loaded ... OK
* checking whether the package can be loaded with stated dependencies ... OK
* checking whether the package can be unloaded cleanly ... OK
* checking whether the namespace can be loaded with stated dependencies ... OK
* checking whether the namespace can be unloaded cleanly ... OK
* checking loading without being on the library search path ... OK
* checking dependencies in R code ... OK
* checking S3 generic/method consistency ... OK
* checking replacement functions ... OK
* checking foreign function calls ... OK
* checking R code for possible problems ... OK
* checking Rd files ... NOTE
checkRd: (-1) A549_CTCF_MYJ_NarrowPeaks_partial.Rd:74-75: Lost braces
    74 | \item \code{\link{A549_CTCF_MYJ_Peaks_partial}} { the associate
       |                                                 ^
checkRd: (-1) A549_CTCF_MYJ_NarrowPeaks_partial.Rd:76-77: Lost braces
    76 | \item \code{\link{findConsensusPeakRegions}} {for extracting regions
       |                                              ^
checkRd: (-1) A549_CTCF_MYJ_Peaks_partial.Rd:74-75: Lost braces
    74 | \item \code{\link{A549_CTCF_MYJ_NarrowPeaks_partial}} { the associate
       |                                                       ^
checkRd: (-1) A549_CTCF_MYJ_Peaks_partial.Rd:76-77: Lost braces
    76 | \item \code{\link{findConsensusPeakRegions}} {for extracting regions
       |                                              ^
checkRd: (-1) A549_CTCF_MYN_NarrowPeaks_partial.Rd:74-75: Lost braces
    74 | \item \code{\link{A549_CTCF_MYN_Peaks_partial}} { the associate
       |                                                 ^
checkRd: (-1) A549_CTCF_MYN_NarrowPeaks_partial.Rd:76-77: Lost braces
    76 | \item \code{\link{findConsensusPeakRegions}} {for extracting regions
       |                                              ^
checkRd: (-1) A549_CTCF_MYN_Peaks_partial.Rd:74-75: Lost braces
    74 | \item \code{\link{A549_CTCF_MYN_NarrowPeaks_partial}} { the associate
       |                                                       ^
checkRd: (-1) A549_CTCF_MYN_Peaks_partial.Rd:76-77: Lost braces
    76 | \item \code{\link{findConsensusPeakRegions}} {for extracting regions
       |                                              ^
checkRd: (-1) A549_FOSL2_01_NarrowPeaks_partial.Rd:73-74: Lost braces
    73 | \item \code{\link{A549_FOSL2_01_Peaks_partial}} { the associate
       |                                                 ^
checkRd: (-1) A549_FOSL2_01_NarrowPeaks_partial.Rd:75-76: Lost braces
    75 | \item \code{\link{findConsensusPeakRegions}} {for extracting regions
       |                                              ^
checkRd: (-1) A549_FOSL2_01_Peaks_partial.Rd:74-75: Lost braces
    74 | \item \code{\link{A549_FOSL2_01_NarrowPeaks_partial}} { the associate
       |                                                       ^
checkRd: (-1) A549_FOSL2_01_Peaks_partial.Rd:76-77: Lost braces
    76 | \item \code{\link{findConsensusPeakRegions}} {for extracting regions
       |                                              ^
checkRd: (-1) A549_FOXA1_01_NarrowPeaks_partial.Rd:71-72: Lost braces
    71 | \item \code{\link{A549_FOXA1_01_Peaks_partial}} { the associate
       |                                                 ^
checkRd: (-1) A549_FOXA1_01_NarrowPeaks_partial.Rd:73-74: Lost braces
    73 | \item \code{\link{findConsensusPeakRegions}} {for extracting regions
       |                                              ^
checkRd: (-1) A549_FOXA1_01_Peaks_partial.Rd:75-76: Lost braces
    75 | \item \code{\link{A549_FOXA1_01_NarrowPeaks_partial}} { the associate
       |                                                       ^
checkRd: (-1) A549_FOXA1_01_Peaks_partial.Rd:77-78: Lost braces
    77 | \item \code{\link{findConsensusPeakRegions}} {for extracting regions
       |                                              ^
checkRd: (-1) A549_NR3C1_CFQ_NarrowPeaks_partial.Rd:81-82: Lost braces
    81 | \item \code{\link{A549_NR3C1_CFQ_Peaks_partial}} { the associate
       |                                                  ^
checkRd: (-1) A549_NR3C1_CFQ_NarrowPeaks_partial.Rd:83-84: Lost braces
    83 | \item \code{\link{findConsensusPeakRegions}} {for extracting regions
       |                                              ^
checkRd: (-1) A549_NR3C1_CFQ_Peaks_partial.Rd:89-90: Lost braces
    89 | \item \code{\link{A549_NR3C1_CFQ_NarrowPeaks_partial}} { the associate
       |                                                        ^
checkRd: (-1) A549_NR3C1_CFQ_Peaks_partial.Rd:91-92: Lost braces
    91 | \item \code{\link{findConsensusPeakRegions}} {for extracting regions
       |                                              ^
checkRd: (-1) A549_NR3C1_CFR_NarrowPeaks_partial.Rd:81-82: Lost braces
    81 | \item \code{\link{A549_NR3C1_CFR_Peaks_partial}} { the associate
       |                                                  ^
checkRd: (-1) A549_NR3C1_CFR_NarrowPeaks_partial.Rd:83-84: Lost braces
    83 | \item \code{\link{findConsensusPeakRegions}} {for extracting regions
       |                                              ^
checkRd: (-1) A549_NR3C1_CFR_Peaks_partial.Rd:81-82: Lost braces
    81 | \item \code{\link{A549_NR3C1_CFR_NarrowPeaks_partial}} { the associate
       |                                                        ^
checkRd: (-1) A549_NR3C1_CFR_Peaks_partial.Rd:83-84: Lost braces
    83 | \item \code{\link{findConsensusPeakRegions}} {for extracting regions
       |                                              ^
checkRd: (-1) A549_NR3C1_CFS_NarrowPeaks_partial.Rd:75-76: Lost braces
    75 | \item \code{\link{A549_NR3C1_CFS_Peaks_partial}} { the associate
       |                                                  ^
checkRd: (-1) A549_NR3C1_CFS_NarrowPeaks_partial.Rd:77-78: Lost braces
    77 | \item \code{\link{findConsensusPeakRegions}} {for extracting regions
       |                                              ^
checkRd: (-1) A549_NR3C1_CFS_Peaks_partial.Rd:79-80: Lost braces
    79 | \item \code{\link{A549_NR3C1_CFS_NarrowPeaks_partial}} { the associate
       |                                                        ^
checkRd: (-1) A549_NR3C1_CFS_Peaks_partial.Rd:81-82: Lost braces
    81 | \item \code{\link{findConsensusPeakRegions}} {for extracting regions
       |                                              ^
checkRd: (-1) NOrMAL_nucleosome_positions.Rd:81-82: Lost braces
    81 | \item \code{\link{NOrMAL_nucleosome_ranges}} { the associate
       |                                              ^
checkRd: (-1) NOrMAL_nucleosome_positions.Rd:83-84: Lost braces
    83 | \item \code{\link{findConsensusPeakRegions}} {for extracting regions
       |                                              ^
checkRd: (-1) NOrMAL_nucleosome_ranges.Rd:80-81: Lost braces
    80 | \item \code{\link{NOrMAL_nucleosome_positions}} { the associate
       |                                                 ^
checkRd: (-1) NOrMAL_nucleosome_ranges.Rd:82-83: Lost braces
    82 | \item \code{\link{findConsensusPeakRegions}} {for extracting regions
       |                                              ^
checkRd: (-1) NucPosSimulator_nucleosome_positions.Rd:81-82: Lost braces
    81 | \item \code{\link{NucPosSimulator_nucleosome_ranges}} { the associate
       |                                                       ^
checkRd: (-1) NucPosSimulator_nucleosome_positions.Rd:83-84: Lost braces
    83 | \item \code{\link{findConsensusPeakRegions}} {for extracting regions
       |                                              ^
checkRd: (-1) NucPosSimulator_nucleosome_ranges.Rd:80-81: Lost braces
    80 | \item \code{\link{NucPosSimulator_nucleosome_positions}} { the associate
       |                                                          ^
checkRd: (-1) NucPosSimulator_nucleosome_ranges.Rd:82-83: Lost braces
    82 | \item \code{\link{findConsensusPeakRegions}} {for extracting regions
       |                                              ^
checkRd: (-1) PING_nucleosome_positions.Rd:79-80: Lost braces
    79 | \item \code{\link{PING_nucleosome_ranges}} { the associate
       |                                            ^
checkRd: (-1) PING_nucleosome_positions.Rd:81-82: Lost braces
    81 | \item \code{\link{findConsensusPeakRegions}} {for extracting regions
       |                                              ^
checkRd: (-1) PING_nucleosome_ranges.Rd:81-82: Lost braces
    81 | \item \code{\link{PING_nucleosome_positions}} { the associate
       |                                               ^
checkRd: (-1) PING_nucleosome_ranges.Rd:83-84: Lost braces
    83 | \item \code{\link{findConsensusPeakRegions}} {for extracting regions
       |                                              ^
checkRd: (-1) consensusSeekeR-package.Rd:18-19: Lost braces
    18 | \item \code{\link{readNarrowPeakFile}} {for extracting regions and peaks
       |                                        ^
checkRd: (-1) consensusSeekeR-package.Rd:20-21: Lost braces
    20 | \item \code{\link{findConsensusPeakRegions}} { for extracting regions
       |                                              ^
* checking Rd metadata ... OK
* checking Rd cross-references ... OK
* checking for missing documentation entries ... OK
* checking for code/documentation mismatches ... OK
* checking Rd \usage sections ... OK
* checking Rd contents ... OK
* checking for unstated dependencies in examples ... OK
* checking contents of ‘data’ directory ... OK
* checking data for non-ASCII characters ... OK
* checking data for ASCII and uncompressed saves ... OK
* checking files in ‘vignettes’ ... OK
* checking examples ... OK
* checking for unstated dependencies in ‘tests’ ... OK
* checking tests ...
  Running ‘runTests.R’
 OK
* checking for unstated dependencies in vignettes ... OK
* checking package vignettes ... OK
* checking running R code from vignettes ... SKIPPED
* checking re-building of vignette outputs ... SKIPPED
* checking PDF version of manual ... OK
* DONE
Status: 1 NOTE
See
  ‘/home/biocbuild/bbs-3.20-bioc/meat/consensusSeekeR.Rcheck/00check.log’
for details.
consensusSeekeR.Rcheck/00install.out
############################################################################## ############################################################################## ### ### Running command: ### ### /home/biocbuild/R/R/bin/R CMD INSTALL consensusSeekeR ### ############################################################################## ############################################################################## * installing to library ‘/home/biocbuild/R/R-4.4.1/site-library’ * installing *source* package ‘consensusSeekeR’ ... ** using staged installation ** R ** data ** inst ** byte-compile and prepare package for lazy loading ** help *** installing help indices ** building package indices ** installing vignettes ** testing if installed package can be loaded from temporary location ** testing if installed package can be loaded from final location ** testing if installed package keeps a record of temporary installation path * DONE (consensusSeekeR)
consensusSeekeR.Rcheck/tests/runTests.Rout
R version 4.4.1 (2024-06-14) -- "Race for Your Life"
Copyright (C) 2024 The R Foundation for Statistical Computing
Platform: aarch64-unknown-linux-gnu
R is free software and comes with ABSOLUTELY NO WARRANTY.
You are welcome to redistribute it under certain conditions.
Type 'license()' or 'licence()' for distribution details.
R is a collaborative project with many contributors.
Type 'contributors()' for more information and
'citation()' on how to cite R or R packages in publications.
Type 'demo()' for some demos, 'help()' for on-line help, or
'help.start()' for an HTML browser interface to help.
Type 'q()' to quit R.
> ## Run all tests present in the package
> BiocGenerics:::testPackage("consensusSeekeR")
Attaching package: 'BiocGenerics'
The following objects are masked from 'package:stats':
    IQR, mad, sd, var, xtabs
The following objects are masked from 'package:base':
    Filter, Find, Map, Position, Reduce, anyDuplicated, aperm, append,
    as.data.frame, basename, cbind, colnames, dirname, do.call,
    duplicated, eval, evalq, get, grep, grepl, intersect, is.unsorted,
    lapply, mapply, match, mget, order, paste, pmax, pmax.int, pmin,
    pmin.int, rank, rbind, rownames, sapply, saveRDS, setdiff, table,
    tapply, union, unique, unsplit, which.max, which.min
Attaching package: 'S4Vectors'
The following object is masked from 'package:utils':
    findMatches
The following objects are masked from 'package:base':
    I, expand.grid, unname
RUNIT TEST PROTOCOL -- Wed Nov 20 06:38:01 2024 
*********************************************** 
Number of test functions: 56 
Number of errors: 0 
Number of failures: 0 
 
1 Test Suite : 
consensusSeekeR RUnit Tests - 56 test functions, 0 errors, 0 failures
Number of test functions: 56 
Number of errors: 0 
Number of failures: 0 
> 
> proc.time()
   user  system elapsed 
 19.247   0.529  19.718 
consensusSeekeR.Rcheck/consensusSeekeR-Ex.timings
| name | user | system | elapsed | |
| A549_CTCF_MYJ_NarrowPeaks_partial | 1.002 | 0.075 | 1.081 | |
| A549_CTCF_MYJ_Peaks_partial | 0.447 | 0.004 | 0.452 | |
| A549_CTCF_MYN_NarrowPeaks_partial | 0.425 | 0.012 | 0.437 | |
| A549_CTCF_MYN_Peaks_partial | 0.542 | 0.000 | 0.543 | |
| A549_FOSL2_01_NarrowPeaks_partial | 0.375 | 0.024 | 0.400 | |
| A549_FOSL2_01_Peaks_partial | 0.498 | 0.000 | 0.500 | |
| A549_FOXA1_01_NarrowPeaks_partial | 0.498 | 0.000 | 0.499 | |
| A549_FOXA1_01_Peaks_partial | 0.688 | 0.004 | 0.694 | |
| A549_NR3C1_CFQ_NarrowPeaks_partial | 0.419 | 0.000 | 0.420 | |
| A549_NR3C1_CFQ_Peaks_partial | 0.526 | 0.016 | 0.543 | |
| A549_NR3C1_CFR_NarrowPeaks_partial | 0.404 | 0.004 | 0.409 | |
| A549_NR3C1_CFR_Peaks_partial | 0.419 | 0.000 | 0.420 | |
| A549_NR3C1_CFS_NarrowPeaks_partial | 1.044 | 0.004 | 1.050 | |
| A549_NR3C1_CFS_Peaks_partial | 1.068 | 0.000 | 1.071 | |
| NOrMAL_nucleosome_positions | 0.814 | 0.012 | 0.828 | |
| NOrMAL_nucleosome_ranges | 0.831 | 0.036 | 0.869 | |
| NucPosSimulator_nucleosome_positions | 0.760 | 0.012 | 0.774 | |
| NucPosSimulator_nucleosome_ranges | 0.863 | 0.012 | 0.877 | |
| PING_nucleosome_positions | 0.497 | 0.004 | 0.502 | |
| PING_nucleosome_ranges | 0.451 | 0.012 | 0.464 | |
| findConsensusPeakRegions | 0.942 | 0.012 | 0.955 | |
| findConsensusPeakRegionsValidation | 0.103 | 0.008 | 0.111 | |
| readNarrowPeakFile | 0.111 | 0.000 | 0.111 | |