| Back to Multiple platform build/check report for BioC 3.20: simplified long | 
 | 
This page was generated on 2025-04-02 19:31 -0400 (Wed, 02 Apr 2025).
| Hostname | OS | Arch (*) | R version | Installed pkgs | 
|---|---|---|---|---|
| nebbiolo2 | Linux (Ubuntu 24.04.1 LTS) | x86_64 | 4.4.3 (2025-02-28) -- "Trophy Case" | 4764 | 
| palomino8 | Windows Server 2022 Datacenter | x64 | 4.4.3 (2025-02-28 ucrt) -- "Trophy Case" | 4495 | 
| merida1 | macOS 12.7.5 Monterey | x86_64 | 4.4.3 (2025-02-28) -- "Trophy Case" | 4522 | 
| kjohnson1 | macOS 13.6.6 Ventura | arm64 | 4.4.3 (2025-02-28) -- "Trophy Case" | 4449 | 
| taishan | Linux (openEuler 24.03 LTS) | aarch64 | 4.4.3 (2025-02-28) -- "Trophy Case" | 4426 | 
| Click on any hostname to see more info about the system (e.g. compilers) (*) as reported by 'uname -p', except on Windows and Mac OS X | ||||
| Package 417/2289 | Hostname | OS / Arch | INSTALL | BUILD | CHECK | BUILD BIN | ||||||||
| compEpiTools 1.40.0  (landing page) Mattia Furlan 
 | nebbiolo2 | Linux (Ubuntu 24.04.1 LTS) / x86_64 | OK | OK | OK |  | ||||||||
| palomino8 | Windows Server 2022 Datacenter / x64 | OK | OK | OK | OK |  | ||||||||
| merida1 | macOS 12.7.5 Monterey / x86_64 | OK | OK | OK | OK |  | ||||||||
| kjohnson1 | macOS 13.6.6 Ventura / arm64 | OK | OK | OK | OK |  | ||||||||
| taishan | Linux (openEuler 24.03 LTS) / aarch64 | OK | OK | OK | ||||||||||
| To the developers/maintainers of the compEpiTools package: - Allow up to 24 hours (and sometimes 48 hours) for your latest push to git@git.bioconductor.org:packages/compEpiTools.git to reflect on this report. See Troubleshooting Build Report for more information. - Use the following Renviron settings to reproduce errors and warnings. - If 'R CMD check' started to fail recently on the Linux builder(s) over a missing dependency, add the missing dependency to 'Suggests:' in your DESCRIPTION file. See Renviron.bioc for more information. | 
| Package: compEpiTools | 
| Version: 1.40.0 | 
| Command: /Library/Frameworks/R.framework/Resources/bin/R CMD check --install=check:compEpiTools.install-out.txt --library=/Library/Frameworks/R.framework/Resources/library --no-vignettes --timings compEpiTools_1.40.0.tar.gz | 
| StartedAt: 2025-04-01 01:06:44 -0400 (Tue, 01 Apr 2025) | 
| EndedAt: 2025-04-01 01:21:53 -0400 (Tue, 01 Apr 2025) | 
| EllapsedTime: 908.8 seconds | 
| RetCode: 0 | 
| Status: OK | 
| CheckDir: compEpiTools.Rcheck | 
| Warnings: 0 | 
##############################################################################
##############################################################################
###
### Running command:
###
###   /Library/Frameworks/R.framework/Resources/bin/R CMD check --install=check:compEpiTools.install-out.txt --library=/Library/Frameworks/R.framework/Resources/library --no-vignettes --timings compEpiTools_1.40.0.tar.gz
###
##############################################################################
##############################################################################
* using log directory ‘/Users/biocbuild/bbs-3.20-bioc/meat/compEpiTools.Rcheck’
* using R version 4.4.3 (2025-02-28)
* using platform: x86_64-apple-darwin20
* R was compiled by
    Apple clang version 14.0.0 (clang-1400.0.29.202)
    GNU Fortran (GCC) 12.2.0
* running under: macOS Monterey 12.7.6
* using session charset: UTF-8
* using option ‘--no-vignettes’
* checking for file ‘compEpiTools/DESCRIPTION’ ... OK
* checking extension type ... Package
* this is package ‘compEpiTools’ version ‘1.40.0’
* checking package namespace information ... OK
* checking package dependencies ... OK
* checking if this is a source package ... OK
* checking if there is a namespace ... OK
* checking for hidden files and directories ... OK
* checking for portable file names ... OK
* checking for sufficient/correct file permissions ... OK
* checking whether package ‘compEpiTools’ can be installed ... OK
* checking installed package size ... OK
* checking package directory ... OK
* checking ‘build’ directory ... OK
* checking DESCRIPTION meta-information ... OK
* checking top-level files ... OK
* checking for left-over files ... OK
* checking index information ... OK
* checking package subdirectories ... OK
* checking code files for non-ASCII characters ... OK
* checking R files for syntax errors ... OK
* checking whether the package can be loaded ... OK
* checking whether the package can be loaded with stated dependencies ... OK
* checking whether the package can be unloaded cleanly ... OK
* checking whether the namespace can be loaded with stated dependencies ... OK
* checking whether the namespace can be unloaded cleanly ... OK
* checking dependencies in R code ... OK
* checking S3 generic/method consistency ... OK
* checking replacement functions ... OK
* checking foreign function calls ... OK
* checking R code for possible problems ... NOTE
TSS: no visible global function definition for 'end<-'
TSS: no visible global function definition for 'start<-'
findLncRNA: no visible global function definition for 'start<-'
findLncRNA: no visible global function definition for 'end<-'
findLncRNA: no visible global function definition for 'IRanges'
stallingIndex : getBound: no visible global function definition for
  'start<-'
stallingIndex : getBound: no visible global function definition for
  'end<-'
stallingIndex: no visible global function definition for 'IRanges'
topGOres : <anonymous>: no visible global function definition for
  'ggplot'
topGOres : <anonymous>: no visible global function definition for 'aes'
topGOres : <anonymous>: no visible binding for global variable
  'Significant'
topGOres : <anonymous>: no visible binding for global variable 'P_val'
topGOres : <anonymous>: no visible global function definition for
  'geom_bar'
topGOres : <anonymous>: no visible global function definition for
  'coord_flip'
topGOres : <anonymous>: no visible global function definition for
  'ylab'
ucsc2GRanges: no visible global function definition for 'IRanges'
GR2fasta,GRanges: no visible global function definition for
  'seqlengths'
GR2fasta,GRanges: no visible global function definition for
  'seqlengths<-'
GR2fasta,GRanges: no visible global function definition for 'trim'
GRangesInPromoters,GRanges: no visible global function definition for
  'start<-'
GRannotate,GRanges: no visible global function definition for 'start<-'
GRannotate,GRanges: no visible global function definition for 'end<-'
GRcoverageSummit,GRanges: no visible global function definition for
  'start<-'
GRcoverageSummit,GRanges: no visible global function definition for
  'end<-'
GRmidpoint,GRanges: no visible global function definition for 'start<-'
GRmidpoint,GRanges: no visible global function definition for 'end<-'
GRsetwidth,GRanges: no visible global function definition for 'start<-'
GRsetwidth,GRanges: no visible global function definition for 'end<-'
countOverlapsInBins,GRanges: no visible global function definition for
  'IRanges'
featuresLength,TxDb: no visible global function definition for 'reduce'
getPromoterClass,TxDb: no visible binding for global variable 'txdb'
getPromoterClass,TxDb: no visible global function definition for
  'start<-'
makeGtfFromDb,TxDb: no visible global function definition for 'reduce'
matchEnhancers,GRanges: no visible global function definition for
  'distanceToNearest'
matchEnhancers,GRanges: no visible global function definition for
  'IRanges'
Undefined global functions or variables:
  IRanges P_val Significant aes coord_flip distanceToNearest end<-
  geom_bar ggplot reduce seqlengths seqlengths<- start<- trim txdb ylab
* checking Rd files ... NOTE
checkRd: (-1) getPromoterClass-methods.Rd:21: Lost braces in \itemize; meant \describe ?
checkRd: (-1) getPromoterClass-methods.Rd:22: Lost braces in \itemize; meant \describe ?
checkRd: (-1) getPromoterClass-methods.Rd:23: Lost braces in \itemize; meant \describe ?
checkRd: (-1) getPromoterClass-methods.Rd:24: Lost braces in \itemize; meant \describe ?
checkRd: (-1) getPromoterClass-methods.Rd:25: Lost braces; missing escapes or markup?
    25 |       \item{downstream}:{numeric; number of bp downstream transcription start sites defining downstream limit of promoters}
       |                         ^
* checking Rd metadata ... OK
* checking Rd cross-references ... OK
* checking for missing documentation entries ... OK
* checking for code/documentation mismatches ... OK
* checking Rd \usage sections ... OK
* checking Rd contents ... OK
* checking for unstated dependencies in examples ... OK
* checking sizes of PDF files under ‘inst/doc’ ... OK
* checking files in ‘vignettes’ ... OK
* checking examples ... OK
Examples with CPU (user + system) or elapsed time > 5s
                             user system elapsed
topGOres                   52.575  1.590  56.838
GRannotate-methods          8.103  0.143   8.606
makeGtfFromDb               6.191  0.491   7.922
plotStallingIndex           6.490  0.080   6.825
heatmapPlot                 6.093  0.347   6.961
GRangesInPromoters-methods  5.367  0.100   5.792
stallingIndex               4.958  0.076   5.248
getPromoterClass-methods    1.562  0.049  40.698
* checking for unstated dependencies in vignettes ... OK
* checking package vignettes ... OK
* checking running R code from vignettes ... SKIPPED
* checking re-building of vignette outputs ... SKIPPED
* checking PDF version of manual ... OK
* DONE
Status: 2 NOTEs
See
  ‘/Users/biocbuild/bbs-3.20-bioc/meat/compEpiTools.Rcheck/00check.log’
for details.
compEpiTools.Rcheck/00install.out
############################################################################## ############################################################################## ### ### Running command: ### ### /Library/Frameworks/R.framework/Resources/bin/R CMD INSTALL compEpiTools ### ############################################################################## ############################################################################## * installing to library ‘/Library/Frameworks/R.framework/Versions/4.4-x86_64/Resources/library’ * installing *source* package ‘compEpiTools’ ... ** using staged installation ** R ** inst ** byte-compile and prepare package for lazy loading groupGOTerms: GOBPTerm, GOMFTerm, GOCCTerm environments built. ** help *** installing help indices ** building package indices ** installing vignettes ** testing if installed package can be loaded from temporary location groupGOTerms: GOBPTerm, GOMFTerm, GOCCTerm environments built. ** testing if installed package can be loaded from final location groupGOTerms: GOBPTerm, GOMFTerm, GOCCTerm environments built. ** testing if installed package keeps a record of temporary installation path * DONE (compEpiTools)
compEpiTools.Rcheck/compEpiTools-Ex.timings
| name | user | system | elapsed | |
| GR2fasta-methods | 1.142 | 0.034 | 1.217 | |
| GRanges2ucsc-methods | 0.021 | 0.001 | 0.022 | |
| GRangesInPromoters-methods | 5.367 | 0.100 | 5.792 | |
| GRannotate-methods | 8.103 | 0.143 | 8.606 | |
| GRannotateSimple | 1.372 | 0.062 | 1.489 | |
| GRbaseCoverage-methods | 0.143 | 0.004 | 0.149 | |
| GRcoverage-methods | 0.274 | 0.005 | 0.287 | |
| GRcoverageSummit-methods | 0.146 | 0.004 | 0.152 | |
| GRenrichment-methods | 0.160 | 0.005 | 0.170 | |
| GRmidpoint-methods | 0.063 | 0.001 | 0.067 | |
| GRsetwidth | 0.094 | 0.001 | 0.103 | |
| TSS | 2.710 | 0.068 | 2.886 | |
| countOverlapsInBins-methods | 0.301 | 0.002 | 0.314 | |
| distanceFromTSS-methods | 4.329 | 0.057 | 4.568 | |
| enhancers | 0.718 | 0.013 | 0.769 | |
| findLncRNA | 2.929 | 0.046 | 3.108 | |
| getPromoterClass-methods | 1.562 | 0.049 | 40.698 | |
| heatmapData | 2.449 | 0.101 | 2.704 | |
| heatmapPlot | 6.093 | 0.347 | 6.961 | |
| makeGtfFromDb | 6.191 | 0.491 | 7.922 | |
| matchEnhancers | 3.795 | 0.066 | 3.966 | |
| overlapOfGRanges-methods | 0.131 | 0.002 | 0.141 | |
| palette2d | 0.099 | 0.004 | 0.111 | |
| plotStallingIndex | 6.490 | 0.080 | 6.825 | |
| simplifyGOterms | 0.908 | 0.286 | 1.414 | |
| stallingIndex | 4.958 | 0.076 | 5.248 | |
| topGOres | 52.575 | 1.590 | 56.838 | |
| ucsc2GRanges | 0.026 | 0.001 | 0.027 | |
| unionMaxScore-methods | 0.275 | 0.002 | 0.279 | |