| Back to Multiple platform build/check report for BioC 3.20: simplified long |
|
This page was generated on 2025-04-02 19:31 -0400 (Wed, 02 Apr 2025).
| Hostname | OS | Arch (*) | R version | Installed pkgs |
|---|---|---|---|---|
| nebbiolo2 | Linux (Ubuntu 24.04.1 LTS) | x86_64 | 4.4.3 (2025-02-28) -- "Trophy Case" | 4764 |
| palomino8 | Windows Server 2022 Datacenter | x64 | 4.4.3 (2025-02-28 ucrt) -- "Trophy Case" | 4495 |
| merida1 | macOS 12.7.5 Monterey | x86_64 | 4.4.3 (2025-02-28) -- "Trophy Case" | 4522 |
| kjohnson1 | macOS 13.6.6 Ventura | arm64 | 4.4.3 (2025-02-28) -- "Trophy Case" | 4449 |
| taishan | Linux (openEuler 24.03 LTS) | aarch64 | 4.4.3 (2025-02-28) -- "Trophy Case" | 4426 |
| Click on any hostname to see more info about the system (e.g. compilers) (*) as reported by 'uname -p', except on Windows and Mac OS X | ||||
| Package 410/2289 | Hostname | OS / Arch | INSTALL | BUILD | CHECK | BUILD BIN | ||||||||
| cola 2.12.0 (landing page) Zuguang Gu
| nebbiolo2 | Linux (Ubuntu 24.04.1 LTS) / x86_64 | OK | OK | OK | |||||||||
| palomino8 | Windows Server 2022 Datacenter / x64 | OK | OK | OK | OK | |||||||||
| merida1 | macOS 12.7.5 Monterey / x86_64 | OK | OK | OK | OK | |||||||||
| kjohnson1 | macOS 13.6.6 Ventura / arm64 | OK | OK | OK | OK | |||||||||
| taishan | Linux (openEuler 24.03 LTS) / aarch64 | OK | OK | OK | ||||||||||
|
To the developers/maintainers of the cola package: - Allow up to 24 hours (and sometimes 48 hours) for your latest push to git@git.bioconductor.org:packages/cola.git to reflect on this report. See Troubleshooting Build Report for more information. - Use the following Renviron settings to reproduce errors and warnings. - If 'R CMD check' started to fail recently on the Linux builder(s) over a missing dependency, add the missing dependency to 'Suggests:' in your DESCRIPTION file. See Renviron.bioc for more information. |
| Package: cola |
| Version: 2.12.0 |
| Command: /Library/Frameworks/R.framework/Resources/bin/R CMD check --install=check:cola.install-out.txt --library=/Library/Frameworks/R.framework/Resources/library --no-vignettes --timings cola_2.12.0.tar.gz |
| StartedAt: 2025-04-01 01:04:01 -0400 (Tue, 01 Apr 2025) |
| EndedAt: 2025-04-01 01:11:22 -0400 (Tue, 01 Apr 2025) |
| EllapsedTime: 440.8 seconds |
| RetCode: 0 |
| Status: OK |
| CheckDir: cola.Rcheck |
| Warnings: 0 |
##############################################################################
##############################################################################
###
### Running command:
###
### /Library/Frameworks/R.framework/Resources/bin/R CMD check --install=check:cola.install-out.txt --library=/Library/Frameworks/R.framework/Resources/library --no-vignettes --timings cola_2.12.0.tar.gz
###
##############################################################################
##############################################################################
* using log directory ‘/Users/biocbuild/bbs-3.20-bioc/meat/cola.Rcheck’
* using R version 4.4.3 (2025-02-28)
* using platform: x86_64-apple-darwin20
* R was compiled by
Apple clang version 14.0.0 (clang-1400.0.29.202)
GNU Fortran (GCC) 12.2.0
* running under: macOS Monterey 12.7.6
* using session charset: UTF-8
* using option ‘--no-vignettes’
* checking for file ‘cola/DESCRIPTION’ ... OK
* checking extension type ... Package
* this is package ‘cola’ version ‘2.12.0’
* checking package namespace information ... OK
* checking package dependencies ... OK
* checking if this is a source package ... OK
* checking if there is a namespace ... OK
* checking for hidden files and directories ... OK
* checking for portable file names ... OK
* checking for sufficient/correct file permissions ... OK
* checking whether package ‘cola’ can be installed ... OK
* used C++ compiler: ‘Apple clang version 14.0.0 (clang-1400.0.29.202)’
* used SDK: ‘MacOSX11.3.sdk’
* checking installed package size ... NOTE
installed size is 5.8Mb
sub-directories of 1Mb or more:
data 3.2Mb
extdata 1.0Mb
* checking package directory ... OK
* checking ‘build’ directory ... OK
* checking DESCRIPTION meta-information ... OK
* checking top-level files ... OK
* checking for left-over files ... OK
* checking index information ... OK
* checking package subdirectories ... OK
* checking code files for non-ASCII characters ... OK
* checking R files for syntax errors ... OK
* checking whether the package can be loaded ... OK
* checking whether the package can be loaded with stated dependencies ... OK
* checking whether the package can be unloaded cleanly ... OK
* checking whether the namespace can be loaded with stated dependencies ... OK
* checking whether the namespace can be unloaded cleanly ... OK
* checking whether startup messages can be suppressed ... OK
* checking dependencies in R code ... OK
* checking S3 generic/method consistency ... OK
* checking replacement functions ... OK
* checking foreign function calls ... OK
* checking R code for possible problems ... OK
* checking Rd files ... OK
* checking Rd metadata ... OK
* checking Rd cross-references ... OK
* checking for missing documentation entries ... OK
* checking for code/documentation mismatches ... OK
* checking Rd \usage sections ... OK
* checking Rd contents ... OK
* checking for unstated dependencies in examples ... OK
* checking contents of ‘data’ directory ... OK
* checking data for non-ASCII characters ... OK
* checking data for ASCII and uncompressed saves ... OK
* checking line endings in C/C++/Fortran sources/headers ... OK
* checking compiled code ... NOTE
Note: information on .o files is not available
* checking files in ‘vignettes’ ... OK
* checking examples ... OK
Examples with CPU (user + system) or elapsed time > 5s
user system elapsed
consensus_partition 50.211 0.481 56.242
get_signatures-ConsensusPartition-method 10.987 0.269 12.840
compare_signatures-HierarchicalPartition-method 8.393 0.308 9.856
collect_classes-ConsensusPartitionList-method 7.694 0.060 8.853
top_rows_heatmap-matrix-method 5.661 0.297 6.528
collect_classes-ConsensusPartition-method 4.509 0.154 5.307
* checking for unstated dependencies in ‘tests’ ... OK
* checking tests ...
Running ‘test-all.R’
OK
* checking for unstated dependencies in vignettes ... OK
* checking package vignettes ... OK
* checking running R code from vignettes ... SKIPPED
* checking re-building of vignette outputs ... SKIPPED
* checking PDF version of manual ... OK
* DONE
Status: 2 NOTEs
See
‘/Users/biocbuild/bbs-3.20-bioc/meat/cola.Rcheck/00check.log’
for details.
cola.Rcheck/00install.out
############################################################################## ############################################################################## ### ### Running command: ### ### /Library/Frameworks/R.framework/Resources/bin/R CMD INSTALL cola ### ############################################################################## ############################################################################## * installing to library ‘/Library/Frameworks/R.framework/Versions/4.4-x86_64/Resources/library’ * installing *source* package ‘cola’ ... ** using staged installation ** libs using C++ compiler: ‘Apple clang version 14.0.0 (clang-1400.0.29.202)’ using SDK: ‘MacOSX11.3.sdk’ clang++ -arch x86_64 -std=gnu++17 -I"/Library/Frameworks/R.framework/Resources/include" -DNDEBUG -I'/Library/Frameworks/R.framework/Versions/4.4-x86_64/Resources/library/Rcpp/include' -I/opt/R/x86_64/include -fPIC -falign-functions=64 -Wall -g -O2 -c RcppExports.cpp -o RcppExports.o clang++ -arch x86_64 -std=gnu++17 -I"/Library/Frameworks/R.framework/Resources/include" -DNDEBUG -I'/Library/Frameworks/R.framework/Versions/4.4-x86_64/Resources/library/Rcpp/include' -I/opt/R/x86_64/include -fPIC -falign-functions=64 -Wall -g -O2 -c atc.cpp -o atc.o clang++ -arch x86_64 -std=gnu++17 -I"/Library/Frameworks/R.framework/Resources/include" -DNDEBUG -I'/Library/Frameworks/R.framework/Versions/4.4-x86_64/Resources/library/Rcpp/include' -I/opt/R/x86_64/include -fPIC -falign-functions=64 -Wall -g -O2 -c cal_consensus_mat.cpp -o cal_consensus_mat.o clang++ -arch x86_64 -std=gnu++17 -I"/Library/Frameworks/R.framework/Resources/include" -DNDEBUG -I'/Library/Frameworks/R.framework/Versions/4.4-x86_64/Resources/library/Rcpp/include' -I/opt/R/x86_64/include -fPIC -falign-functions=64 -Wall -g -O2 -c pdist.cpp -o pdist.o clang++ -arch x86_64 -std=gnu++17 -dynamiclib -Wl,-headerpad_max_install_names -undefined dynamic_lookup -L/Library/Frameworks/R.framework/Resources/lib -L/opt/R/x86_64/lib -o cola.so RcppExports.o atc.o cal_consensus_mat.o pdist.o -F/Library/Frameworks/R.framework/.. -framework R -Wl,-framework -Wl,CoreFoundation installing to /Library/Frameworks/R.framework/Versions/4.4-x86_64/Resources/library/00LOCK-cola/00new/cola/libs ** R ** data ** inst ** byte-compile and prepare package for lazy loading ** help *** installing help indices ** building package indices ** installing vignettes ** testing if installed package can be loaded from temporary location ** checking absolute paths in shared objects and dynamic libraries ** testing if installed package can be loaded from final location ** testing if installed package keeps a record of temporary installation path * DONE (cola)
cola.Rcheck/tests/test-all.Rout
R version 4.4.3 (2025-02-28) -- "Trophy Case"
Copyright (C) 2025 The R Foundation for Statistical Computing
Platform: x86_64-apple-darwin20
R is free software and comes with ABSOLUTELY NO WARRANTY.
You are welcome to redistribute it under certain conditions.
Type 'license()' or 'licence()' for distribution details.
R is a collaborative project with many contributors.
Type 'contributors()' for more information and
'citation()' on how to cite R or R packages in publications.
Type 'demo()' for some demos, 'help()' for on-line help, or
'help.start()' for an HTML browser interface to help.
Type 'q()' to quit R.
> library(testthat)
> suppressWarnings(suppressPackageStartupMessages(library(cola)))
>
> test_check("cola")
[ FAIL 0 | WARN 0 | SKIP 0 | PASS 18 ]
>
>
> proc.time()
user system elapsed
9.060 0.630 10.702
cola.Rcheck/cola-Ex.timings
| name | user | system | elapsed | |
| ATC | 0.052 | 0.007 | 0.063 | |
| ATC_approx | 0.001 | 0.001 | 0.000 | |
| ConsensusPartition-class | 0.000 | 0.000 | 0.001 | |
| ConsensusPartitionList-class | 0.000 | 0.000 | 0.001 | |
| DownSamplingConsensusPartition-class | 0.000 | 0.001 | 0.003 | |
| Extract.ConsensusPartitionList | 0.949 | 0.038 | 1.102 | |
| Extract.HierarchicalPartition | 0.229 | 0.012 | 0.284 | |
| ExtractExtract.ConsensusPartitionList | 0.399 | 0.015 | 0.474 | |
| ExtractExtract.HierarchicalPartition | 0.001 | 0.001 | 0.000 | |
| FCC | 0.266 | 0.013 | 0.322 | |
| HierarchicalPartition-class | 0 | 0 | 0 | |
| PAC | 0.605 | 0.016 | 0.699 | |
| aPAC | 0.227 | 0.012 | 0.273 | |
| adjust_matrix | 0.013 | 0.005 | 0.018 | |
| adjust_outlier | 0.002 | 0.002 | 0.003 | |
| all_leaves-HierarchicalPartition-method | 0.178 | 0.010 | 0.217 | |
| all_nodes-HierarchicalPartition-method | 0.181 | 0.010 | 0.214 | |
| all_partition_methods | 0.002 | 0.001 | 0.003 | |
| all_top_value_methods | 0.000 | 0.000 | 0.001 | |
| cola | 0.142 | 0.003 | 0.168 | |
| cola_opt | 0.047 | 0.004 | 0.054 | |
| cola_report-ConsensusPartition-method | 0.000 | 0.001 | 0.001 | |
| cola_report-ConsensusPartitionList-method | 0.000 | 0.000 | 0.002 | |
| cola_report-HierarchicalPartition-method | 0.001 | 0.000 | 0.001 | |
| cola_report-dispatch | 0 | 0 | 0 | |
| cola_rl | 0.128 | 0.010 | 0.158 | |
| collect_classes-ConsensusPartition-method | 4.509 | 0.154 | 5.307 | |
| collect_classes-ConsensusPartitionList-method | 7.694 | 0.060 | 8.853 | |
| collect_classes-HierarchicalPartition-method | 2.983 | 0.068 | 3.481 | |
| collect_classes-dispatch | 0.000 | 0.000 | 0.001 | |
| collect_plots-ConsensusPartition-method | 0.000 | 0.001 | 0.000 | |
| collect_plots-ConsensusPartitionList-method | 0.000 | 0.000 | 0.001 | |
| collect_plots-dispatch | 0.001 | 0.000 | 0.001 | |
| collect_stats-ConsensusPartition-method | 0.001 | 0.000 | 0.000 | |
| collect_stats-ConsensusPartitionList-method | 0.892 | 0.021 | 1.030 | |
| collect_stats-dispatch | 0 | 0 | 0 | |
| colnames-ConsensusPartition-method | 0.000 | 0.000 | 0.001 | |
| colnames-ConsensusPartitionList-method | 0.001 | 0.000 | 0.001 | |
| colnames-DownSamplingConsensusPartition-method | 0.000 | 0.001 | 0.001 | |
| colnames-HierarchicalPartition-method | 0.000 | 0.001 | 0.001 | |
| colnames-dispatch | 0.000 | 0.001 | 0.001 | |
| compare_partitions-ConsensusPartition-method | 0.001 | 0.000 | 0.001 | |
| compare_signatures-ConsensusPartition-method | 0.000 | 0.000 | 0.001 | |
| compare_signatures-HierarchicalPartition-method | 8.393 | 0.308 | 9.856 | |
| compare_signatures-dispatch | 0.000 | 0.001 | 0.001 | |
| concordance | 0.225 | 0.015 | 0.271 | |
| config_ATC | 0.001 | 0.001 | 0.002 | |
| consensus_heatmap-ConsensusPartition-method | 1.170 | 0.024 | 1.357 | |
| consensus_partition | 50.211 | 0.481 | 56.242 | |
| consensus_partition_by_down_sampling | 0.000 | 0.001 | 0.002 | |
| correspond_between_rankings | 0.123 | 0.005 | 0.168 | |
| correspond_between_two_rankings | 0.054 | 0.002 | 0.062 | |
| david_enrichment | 0.000 | 0.001 | 0.000 | |
| dim.ConsensusPartition | 0 | 0 | 0 | |
| dim.ConsensusPartitionList | 0.000 | 0.000 | 0.001 | |
| dim.DownSamplingConsensusPartition | 0.000 | 0.000 | 0.001 | |
| dim.HierarchicalPartition | 0.001 | 0.001 | 0.000 | |
| dimension_reduction-ConsensusPartition-method | 1.373 | 0.058 | 1.563 | |
| dimension_reduction-DownSamplingConsensusPartition-method | 3.156 | 0.119 | 3.581 | |
| dimension_reduction-HierarchicalPartition-method | 1.160 | 0.048 | 1.286 | |
| dimension_reduction-dispatch | 0 | 0 | 0 | |
| dimension_reduction-matrix-method | 0.001 | 0.001 | 0.001 | |
| find_best_km | 0.000 | 0.000 | 0.001 | |
| functional_enrichment-ANY-method | 0.000 | 0.000 | 0.001 | |
| functional_enrichment-ConsensusPartition-method | 0.000 | 0.001 | 0.001 | |
| functional_enrichment-ConsensusPartitionList-method | 0.000 | 0.001 | 0.001 | |
| functional_enrichment-HierarchicalPartition-method | 0.001 | 0.000 | 0.000 | |
| functional_enrichment-dispatch | 0.000 | 0.000 | 0.001 | |
| get_anno-ConsensusPartition-method | 0.000 | 0.000 | 0.001 | |
| get_anno-ConsensusPartitionList-method | 0.000 | 0.001 | 0.000 | |
| get_anno-DownSamplingConsensusPartition-method | 0.107 | 0.009 | 0.128 | |
| get_anno-HierarchicalPartition-method | 0 | 0 | 0 | |
| get_anno-dispatch | 0.000 | 0.001 | 0.001 | |
| get_anno_col-ConsensusPartition-method | 0.000 | 0.001 | 0.001 | |
| get_anno_col-ConsensusPartitionList-method | 0.000 | 0.001 | 0.000 | |
| get_anno_col-HierarchicalPartition-method | 0.000 | 0.001 | 0.001 | |
| get_anno_col-dispatch | 0.000 | 0.001 | 0.001 | |
| get_children_nodes-HierarchicalPartition-method | 0.000 | 0.001 | 0.001 | |
| get_classes-ConsensusPartition-method | 0.226 | 0.022 | 0.270 | |
| get_classes-ConsensusPartitionList-method | 0.220 | 0.015 | 0.277 | |
| get_classes-DownSamplingConsensusPartition-method | 0.109 | 0.015 | 0.133 | |
| get_classes-HierarchicalPartition-method | 0.196 | 0.012 | 0.222 | |
| get_classes-dispatch | 0.001 | 0.000 | 0.002 | |
| get_consensus-ConsensusPartition-method | 0.245 | 0.082 | 0.356 | |
| get_matrix-ConsensusPartition-method | 0.824 | 1.549 | 2.575 | |
| get_matrix-ConsensusPartitionList-method | 0.832 | 1.551 | 2.704 | |
| get_matrix-DownSamplingConsensusPartition-method | 0.000 | 0.000 | 0.001 | |
| get_matrix-HierarchicalPartition-method | 0.000 | 0.001 | 0.000 | |
| get_matrix-dispatch | 0.001 | 0.000 | 0.001 | |
| get_membership-ConsensusPartition-method | 0.240 | 0.098 | 0.389 | |
| get_membership-ConsensusPartitionList-method | 0.219 | 0.015 | 0.270 | |
| get_membership-dispatch | 0.001 | 0.001 | 0.001 | |
| get_param-ConsensusPartition-method | 0.233 | 0.035 | 0.304 | |
| get_signatures-ConsensusPartition-method | 10.987 | 0.269 | 12.840 | |
| get_signatures-DownSamplingConsensusPartition-method | 0.000 | 0.000 | 0.001 | |
| get_signatures-HierarchicalPartition-method | 0.000 | 0.000 | 0.001 | |
| get_signatures-dispatch | 0.001 | 0.001 | 0.001 | |
| get_stats-ConsensusPartition-method | 0.220 | 0.010 | 0.264 | |
| get_stats-ConsensusPartitionList-method | 0.221 | 0.012 | 0.264 | |
| get_stats-dispatch | 0.001 | 0.000 | 0.001 | |
| golub_cola | 0.300 | 0.014 | 0.350 | |
| golub_cola_ds | 0.163 | 0.010 | 0.195 | |
| golub_cola_rh | 0.269 | 0.012 | 0.323 | |
| hierarchical_partition | 0.000 | 0.001 | 0.001 | |
| is_best_k-ConsensusPartition-method | 0.220 | 0.009 | 0.264 | |
| is_best_k-ConsensusPartitionList-method | 0.247 | 0.011 | 0.301 | |
| is_best_k-dispatch | 0.000 | 0.001 | 0.001 | |
| is_leaf_node-HierarchicalPartition-method | 0.173 | 0.009 | 0.202 | |
| is_stable_k-ConsensusPartition-method | 0.280 | 0.013 | 0.332 | |
| is_stable_k-ConsensusPartitionList-method | 0.246 | 0.011 | 0.295 | |
| is_stable_k-dispatch | 0.000 | 0.001 | 0.001 | |
| knee_finder2 | 0.036 | 0.007 | 0.052 | |
| knitr_add_tab_item | 0.001 | 0.001 | 0.001 | |
| knitr_insert_tabs | 0.000 | 0.000 | 0.001 | |
| map_to_entrez_id | 0.000 | 0.000 | 0.002 | |
| max_depth-HierarchicalPartition-method | 0.172 | 0.010 | 0.211 | |
| membership_heatmap-ConsensusPartition-method | 0.998 | 0.016 | 1.097 | |
| merge_node-HierarchicalPartition-method | 0.000 | 0.001 | 0.000 | |
| merge_node_param | 0.001 | 0.000 | 0.001 | |
| ncol-ConsensusPartition-method | 0.000 | 0.000 | 0.001 | |
| ncol-ConsensusPartitionList-method | 0.000 | 0.001 | 0.001 | |
| ncol-DownSamplingConsensusPartition-method | 0.000 | 0.000 | 0.001 | |
| ncol-HierarchicalPartition-method | 0.001 | 0.001 | 0.001 | |
| ncol-dispatch | 0.000 | 0.000 | 0.001 | |
| node_info-HierarchicalPartition-method | 0.000 | 0.001 | 0.001 | |
| node_level-HierarchicalPartition-method | 0.001 | 0.000 | 0.001 | |
| nrow-ConsensusPartition-method | 0.000 | 0.001 | 0.001 | |
| nrow-ConsensusPartitionList-method | 0.000 | 0.000 | 0.001 | |
| nrow-HierarchicalPartition-method | 0.000 | 0.001 | 0.001 | |
| nrow-dispatch | 0.000 | 0.000 | 0.001 | |
| plot_ecdf-ConsensusPartition-method | 0.256 | 0.014 | 0.279 | |
| predict_classes-ConsensusPartition-method | 0.001 | 0.001 | 0.001 | |
| predict_classes-dispatch | 0.000 | 0.000 | 0.002 | |
| predict_classes-matrix-method | 0.001 | 0.001 | 0.001 | |
| print.hc_table_suggest_best_k | 0.000 | 0.000 | 0.001 | |
| recalc_stats | 0.000 | 0.001 | 0.001 | |
| register_NMF | 0.000 | 0.000 | 0.001 | |
| register_SOM | 0.000 | 0.001 | 0.000 | |
| register_partition_methods | 0.738 | 0.048 | 0.843 | |
| register_top_value_methods | 0.003 | 0.001 | 0.005 | |
| relabel_class | 0.019 | 0.005 | 0.027 | |
| remove_partition_methods | 0.000 | 0.001 | 0.001 | |
| remove_top_value_methods | 0.000 | 0.000 | 0.001 | |
| rownames-ConsensusPartition-method | 0.001 | 0.001 | 0.001 | |
| rownames-ConsensusPartitionList-method | 0.000 | 0.000 | 0.001 | |
| rownames-HierarchicalPartition-method | 0.000 | 0.001 | 0.001 | |
| rownames-dispatch | 0.001 | 0.001 | 0.002 | |
| run_all_consensus_partition_methods | 0.000 | 0.001 | 0.001 | |
| select_partition_number-ConsensusPartition-method | 0.245 | 0.011 | 0.271 | |
| show-ConsensusPartition-method | 0.000 | 0.000 | 0.001 | |
| show-ConsensusPartitionList-method | 0.000 | 0.001 | 0.000 | |
| show-DownSamplingConsensusPartition-method | 0.164 | 0.010 | 0.176 | |
| show-HierarchicalPartition-method | 0.266 | 0.012 | 0.288 | |
| show-dispatch | 0.000 | 0.000 | 0.001 | |
| split_node-HierarchicalPartition-method | 0.001 | 0.001 | 0.001 | |
| suggest_best_k-ConsensusPartition-method | 0.222 | 0.009 | 0.244 | |
| suggest_best_k-ConsensusPartitionList-method | 0.242 | 0.013 | 0.268 | |
| suggest_best_k-HierarchicalPartition-method | 0.187 | 0.011 | 0.204 | |
| suggest_best_k-dispatch | 0.001 | 0.000 | 0.001 | |
| test_between_factors | 0.019 | 0.002 | 0.021 | |
| test_to_known_factors-ConsensusPartition-method | 0.273 | 0.015 | 0.318 | |
| test_to_known_factors-ConsensusPartitionList-method | 0.543 | 0.018 | 0.604 | |
| test_to_known_factors-DownSamplingConsensusPartition-method | 0.166 | 0.009 | 0.194 | |
| test_to_known_factors-HierarchicalPartition-method | 0.200 | 0.011 | 0.236 | |
| test_to_known_factors-dispatch | 0.000 | 0.001 | 0.001 | |
| top_elements_overlap | 0.466 | 0.026 | 0.546 | |
| top_rows_heatmap-ConsensusPartition-method | 0.000 | 0.001 | 0.001 | |
| top_rows_heatmap-ConsensusPartitionList-method | 0 | 0 | 0 | |
| top_rows_heatmap-HierarchicalPartition-method | 0.001 | 0.000 | 0.001 | |
| top_rows_heatmap-dispatch | 0.000 | 0.001 | 0.001 | |
| top_rows_heatmap-matrix-method | 5.661 | 0.297 | 6.528 | |
| top_rows_overlap-ConsensusPartitionList-method | 1.483 | 0.070 | 1.676 | |
| top_rows_overlap-HierarchicalPartition-method | 0.965 | 0.045 | 1.155 | |
| top_rows_overlap-dispatch | 0.000 | 0.001 | 0.001 | |
| top_rows_overlap-matrix-method | 0.303 | 0.003 | 0.320 | |