| Back to Multiple platform build/check report for BioC 3.20: simplified long | 
 | 
This page was generated on 2024-11-20 12:07 -0500 (Wed, 20 Nov 2024).
| Hostname | OS | Arch (*) | R version | Installed pkgs | 
|---|---|---|---|---|
| teran2 | Linux (Ubuntu 24.04.1 LTS) | x86_64 | 4.4.2 (2024-10-31) -- "Pile of Leaves" | 4481 | 
| nebbiolo2 | Linux (Ubuntu 24.04.1 LTS) | x86_64 | 4.4.2 (2024-10-31) -- "Pile of Leaves" | 4479 | 
| palomino8 | Windows Server 2022 Datacenter | x64 | 4.4.2 (2024-10-31 ucrt) -- "Pile of Leaves" | 4359 | 
| lconway | macOS 12.7.1 Monterey | x86_64 | 4.4.1 (2024-06-14) -- "Race for Your Life" | 4539 | 
| kunpeng2 | Linux (openEuler 22.03 LTS-SP1) | aarch64 | 4.4.1 (2024-06-14) -- "Race for Your Life" | 4493 | 
| Click on any hostname to see more info about the system (e.g. compilers) (*) as reported by 'uname -p', except on Windows and Mac OS X | ||||
| Package 410/2289 | Hostname | OS / Arch | INSTALL | BUILD | CHECK | BUILD BIN | ||||||||
| cola 2.12.0  (landing page) Zuguang Gu 
 | teran2 | Linux (Ubuntu 24.04.1 LTS) / x86_64 | OK | OK | OK |  | ||||||||
| nebbiolo2 | Linux (Ubuntu 24.04.1 LTS) / x86_64 | OK | OK | OK | ||||||||||
| palomino8 | Windows Server 2022 Datacenter / x64 | OK | OK | OK | OK |  | ||||||||
| lconway | macOS 12.7.1 Monterey / x86_64 | OK | OK | OK | OK |  | ||||||||
| kunpeng2 | Linux (openEuler 22.03 LTS-SP1) / aarch64 | OK | OK | OK | ||||||||||
| To the developers/maintainers of the cola package: - Allow up to 24 hours (and sometimes 48 hours) for your latest push to git@git.bioconductor.org:packages/cola.git to reflect on this report. See Troubleshooting Build Report for more information. - Use the following Renviron settings to reproduce errors and warnings. - If 'R CMD check' started to fail recently on the Linux builder(s) over a missing dependency, add the missing dependency to 'Suggests:' in your DESCRIPTION file. See Renviron.bioc for more information. - See Martin Grigorov's blog post for how to debug Linux ARM64 related issues on a x86_64 host. | 
| Package: cola | 
| Version: 2.12.0 | 
| Command: /home/biocbuild/R/R/bin/R CMD check --install=check:cola.install-out.txt --library=/home/biocbuild/R/R/site-library --no-vignettes --timings cola_2.12.0.tar.gz | 
| StartedAt: 2024-11-20 06:28:20 -0000 (Wed, 20 Nov 2024) | 
| EndedAt: 2024-11-20 06:32:19 -0000 (Wed, 20 Nov 2024) | 
| EllapsedTime: 239.4 seconds | 
| RetCode: 0 | 
| Status: OK | 
| CheckDir: cola.Rcheck | 
| Warnings: 0 | 
##############################################################################
##############################################################################
###
### Running command:
###
###   /home/biocbuild/R/R/bin/R CMD check --install=check:cola.install-out.txt --library=/home/biocbuild/R/R/site-library --no-vignettes --timings cola_2.12.0.tar.gz
###
##############################################################################
##############################################################################
* using log directory ‘/home/biocbuild/bbs-3.20-bioc/meat/cola.Rcheck’
* using R version 4.4.1 (2024-06-14)
* using platform: aarch64-unknown-linux-gnu
* R was compiled by
    gcc (GCC) 12.2.1 20220819 (openEuler 12.2.1-14)
    GNU Fortran (GCC) 10.3.1
* running under: openEuler 22.03 (LTS-SP1)
* using session charset: UTF-8
* using option ‘--no-vignettes’
* checking for file ‘cola/DESCRIPTION’ ... OK
* checking extension type ... Package
* this is package ‘cola’ version ‘2.12.0’
* checking package namespace information ... OK
* checking package dependencies ... OK
* checking if this is a source package ... OK
* checking if there is a namespace ... OK
* checking for hidden files and directories ... OK
* checking for portable file names ... OK
* checking for sufficient/correct file permissions ... OK
* checking whether package ‘cola’ can be installed ... OK
* used C++ compiler: ‘g++ (conda-forge gcc 14.2.0-1) 14.2.0’
* checking installed package size ... NOTE
  installed size is  7.7Mb
  sub-directories of 1Mb or more:
    data      3.2Mb
    extdata   1.0Mb
    libs      2.1Mb
* checking package directory ... OK
* checking ‘build’ directory ... OK
* checking DESCRIPTION meta-information ... OK
* checking top-level files ... OK
* checking for left-over files ... OK
* checking index information ... OK
* checking package subdirectories ... OK
* checking code files for non-ASCII characters ... OK
* checking R files for syntax errors ... OK
* checking whether the package can be loaded ... OK
* checking whether the package can be loaded with stated dependencies ... OK
* checking whether the package can be unloaded cleanly ... OK
* checking whether the namespace can be loaded with stated dependencies ... OK
* checking whether the namespace can be unloaded cleanly ... OK
* checking loading without being on the library search path ... OK
* checking whether startup messages can be suppressed ... OK
* checking dependencies in R code ... OK
* checking S3 generic/method consistency ... OK
* checking replacement functions ... OK
* checking foreign function calls ... OK
* checking R code for possible problems ... OK
* checking Rd files ... OK
* checking Rd metadata ... OK
* checking Rd cross-references ... OK
* checking for missing documentation entries ... OK
* checking for code/documentation mismatches ... OK
* checking Rd \usage sections ... OK
* checking Rd contents ... OK
* checking for unstated dependencies in examples ... OK
* checking contents of ‘data’ directory ... OK
* checking data for non-ASCII characters ... OK
* checking data for ASCII and uncompressed saves ... OK
* checking line endings in C/C++/Fortran sources/headers ... OK
* checking compiled code ... NOTE
Note: information on .o files is not available
* checking files in ‘vignettes’ ... OK
* checking examples ... OK
Examples with CPU (user + system) or elapsed time > 5s
                                                  user system elapsed
consensus_partition                             30.506  0.423  31.019
get_signatures-ConsensusPartition-method         6.719  0.028   6.756
compare_signatures-HierarchicalPartition-method  5.961  0.172   6.152
* checking for unstated dependencies in ‘tests’ ... OK
* checking tests ...
  Running ‘test-all.R’
 OK
* checking for unstated dependencies in vignettes ... OK
* checking package vignettes ... OK
* checking running R code from vignettes ... SKIPPED
* checking re-building of vignette outputs ... SKIPPED
* checking PDF version of manual ... OK
* DONE
Status: 2 NOTEs
See
  ‘/home/biocbuild/bbs-3.20-bioc/meat/cola.Rcheck/00check.log’
for details.
cola.Rcheck/00install.out
############################################################################## ############################################################################## ### ### Running command: ### ### /home/biocbuild/R/R/bin/R CMD INSTALL cola ### ############################################################################## ############################################################################## * installing to library ‘/home/biocbuild/R/R-4.4.1/site-library’ * installing *source* package ‘cola’ ... ** using staged installation ** libs using C++ compiler: ‘g++ (conda-forge gcc 14.2.0-1) 14.2.0’ g++ -std=gnu++17 -I"/home/biocbuild/R/R-4.4.1/include" -DNDEBUG -I'/home/biocbuild/R/R-4.4.1/site-library/Rcpp/include' -I/usr/local/include -fPIC -g -O2 -Wall -c RcppExports.cpp -o RcppExports.o g++ -std=gnu++17 -I"/home/biocbuild/R/R-4.4.1/include" -DNDEBUG -I'/home/biocbuild/R/R-4.4.1/site-library/Rcpp/include' -I/usr/local/include -fPIC -g -O2 -Wall -c atc.cpp -o atc.o g++ -std=gnu++17 -I"/home/biocbuild/R/R-4.4.1/include" -DNDEBUG -I'/home/biocbuild/R/R-4.4.1/site-library/Rcpp/include' -I/usr/local/include -fPIC -g -O2 -Wall -c cal_consensus_mat.cpp -o cal_consensus_mat.o g++ -std=gnu++17 -I"/home/biocbuild/R/R-4.4.1/include" -DNDEBUG -I'/home/biocbuild/R/R-4.4.1/site-library/Rcpp/include' -I/usr/local/include -fPIC -g -O2 -Wall -c pdist.cpp -o pdist.o g++ -std=gnu++17 -shared -L/home/biocbuild/R/R-4.4.1/lib -L/usr/local/lib -o cola.so RcppExports.o atc.o cal_consensus_mat.o pdist.o -L/home/biocbuild/R/R-4.4.1/lib -lR installing to /home/biocbuild/R/R-4.4.1/site-library/00LOCK-cola/00new/cola/libs ** R ** data ** inst ** byte-compile and prepare package for lazy loading ** help *** installing help indices ** building package indices ** installing vignettes ** testing if installed package can be loaded from temporary location ** checking absolute paths in shared objects and dynamic libraries ** testing if installed package can be loaded from final location ** testing if installed package keeps a record of temporary installation path * DONE (cola)
cola.Rcheck/tests/test-all.Rout
R version 4.4.1 (2024-06-14) -- "Race for Your Life"
Copyright (C) 2024 The R Foundation for Statistical Computing
Platform: aarch64-unknown-linux-gnu
R is free software and comes with ABSOLUTELY NO WARRANTY.
You are welcome to redistribute it under certain conditions.
Type 'license()' or 'licence()' for distribution details.
R is a collaborative project with many contributors.
Type 'contributors()' for more information and
'citation()' on how to cite R or R packages in publications.
Type 'demo()' for some demos, 'help()' for on-line help, or
'help.start()' for an HTML browser interface to help.
Type 'q()' to quit R.
> library(testthat)
> suppressWarnings(suppressPackageStartupMessages(library(cola)))
> 
> test_check("cola")
[ FAIL 0 | WARN 0 | SKIP 0 | PASS 18 ]
> 
> 
> proc.time()
   user  system elapsed 
  6.631   0.404   6.953 
cola.Rcheck/cola-Ex.timings
| name | user | system | elapsed | |
| ATC | 0.17 | 0.00 | 0.17 | |
| ATC_approx | 0 | 0 | 0 | |
| ConsensusPartition-class | 0 | 0 | 0 | |
| ConsensusPartitionList-class | 0 | 0 | 0 | |
| DownSamplingConsensusPartition-class | 0.000 | 0.000 | 0.001 | |
| Extract.ConsensusPartitionList | 0.551 | 0.004 | 0.558 | |
| Extract.HierarchicalPartition | 0.256 | 0.044 | 0.301 | |
| ExtractExtract.ConsensusPartitionList | 0.172 | 0.008 | 0.181 | |
| ExtractExtract.HierarchicalPartition | 0 | 0 | 0 | |
| FCC | 0.177 | 0.004 | 0.181 | |
| HierarchicalPartition-class | 0 | 0 | 0 | |
| PAC | 0.552 | 0.015 | 0.569 | |
| aPAC | 0.152 | 0.001 | 0.152 | |
| adjust_matrix | 0.008 | 0.000 | 0.008 | |
| adjust_outlier | 0.000 | 0.000 | 0.001 | |
| all_leaves-HierarchicalPartition-method | 0.117 | 0.008 | 0.125 | |
| all_nodes-HierarchicalPartition-method | 0.129 | 0.000 | 0.129 | |
| all_partition_methods | 0.001 | 0.000 | 0.001 | |
| all_top_value_methods | 0 | 0 | 0 | |
| cola | 0.077 | 0.000 | 0.077 | |
| cola_opt | 0.031 | 0.000 | 0.031 | |
| cola_report-ConsensusPartition-method | 0 | 0 | 0 | |
| cola_report-ConsensusPartitionList-method | 0.000 | 0.000 | 0.001 | |
| cola_report-HierarchicalPartition-method | 0 | 0 | 0 | |
| cola_report-dispatch | 0 | 0 | 0 | |
| cola_rl | 0.081 | 0.000 | 0.081 | |
| collect_classes-ConsensusPartition-method | 2.652 | 0.071 | 2.730 | |
| collect_classes-ConsensusPartitionList-method | 4.403 | 0.016 | 4.427 | |
| collect_classes-HierarchicalPartition-method | 1.825 | 0.032 | 1.861 | |
| collect_classes-dispatch | 0 | 0 | 0 | |
| collect_plots-ConsensusPartition-method | 0 | 0 | 0 | |
| collect_plots-ConsensusPartitionList-method | 0.000 | 0.000 | 0.001 | |
| collect_plots-dispatch | 0.001 | 0.000 | 0.000 | |
| collect_stats-ConsensusPartition-method | 0 | 0 | 0 | |
| collect_stats-ConsensusPartitionList-method | 0.552 | 0.004 | 0.557 | |
| collect_stats-dispatch | 0 | 0 | 0 | |
| colnames-ConsensusPartition-method | 0 | 0 | 0 | |
| colnames-ConsensusPartitionList-method | 0 | 0 | 0 | |
| colnames-DownSamplingConsensusPartition-method | 0 | 0 | 0 | |
| colnames-HierarchicalPartition-method | 0 | 0 | 0 | |
| colnames-dispatch | 0 | 0 | 0 | |
| compare_partitions-ConsensusPartition-method | 0 | 0 | 0 | |
| compare_signatures-ConsensusPartition-method | 0 | 0 | 0 | |
| compare_signatures-HierarchicalPartition-method | 5.961 | 0.172 | 6.152 | |
| compare_signatures-dispatch | 0 | 0 | 0 | |
| concordance | 0.134 | 0.016 | 0.150 | |
| config_ATC | 0.001 | 0.000 | 0.001 | |
| consensus_heatmap-ConsensusPartition-method | 0.699 | 0.032 | 0.733 | |
| consensus_partition | 30.506 | 0.423 | 31.019 | |
| consensus_partition_by_down_sampling | 0 | 0 | 0 | |
| correspond_between_rankings | 0.074 | 0.000 | 0.075 | |
| correspond_between_two_rankings | 0.034 | 0.000 | 0.033 | |
| david_enrichment | 0 | 0 | 0 | |
| dim.ConsensusPartition | 0 | 0 | 0 | |
| dim.ConsensusPartitionList | 0 | 0 | 0 | |
| dim.DownSamplingConsensusPartition | 0 | 0 | 0 | |
| dim.HierarchicalPartition | 0 | 0 | 0 | |
| dimension_reduction-ConsensusPartition-method | 0.942 | 0.016 | 0.865 | |
| dimension_reduction-DownSamplingConsensusPartition-method | 1.760 | 0.008 | 1.584 | |
| dimension_reduction-HierarchicalPartition-method | 0.838 | 0.000 | 0.746 | |
| dimension_reduction-dispatch | 0.000 | 0.000 | 0.001 | |
| dimension_reduction-matrix-method | 0.001 | 0.000 | 0.000 | |
| find_best_km | 0 | 0 | 0 | |
| functional_enrichment-ANY-method | 0 | 0 | 0 | |
| functional_enrichment-ConsensusPartition-method | 0 | 0 | 0 | |
| functional_enrichment-ConsensusPartitionList-method | 0.000 | 0.000 | 0.001 | |
| functional_enrichment-HierarchicalPartition-method | 0.001 | 0.000 | 0.000 | |
| functional_enrichment-dispatch | 0 | 0 | 0 | |
| get_anno-ConsensusPartition-method | 0 | 0 | 0 | |
| get_anno-ConsensusPartitionList-method | 0 | 0 | 0 | |
| get_anno-DownSamplingConsensusPartition-method | 0.070 | 0.002 | 0.073 | |
| get_anno-HierarchicalPartition-method | 0 | 0 | 0 | |
| get_anno-dispatch | 0.000 | 0.000 | 0.001 | |
| get_anno_col-ConsensusPartition-method | 0 | 0 | 0 | |
| get_anno_col-ConsensusPartitionList-method | 0 | 0 | 0 | |
| get_anno_col-HierarchicalPartition-method | 0 | 0 | 0 | |
| get_anno_col-dispatch | 0 | 0 | 0 | |
| get_children_nodes-HierarchicalPartition-method | 0.000 | 0.000 | 0.001 | |
| get_classes-ConsensusPartition-method | 0.141 | 0.000 | 0.141 | |
| get_classes-ConsensusPartitionList-method | 0.146 | 0.004 | 0.150 | |
| get_classes-DownSamplingConsensusPartition-method | 0.075 | 0.000 | 0.075 | |
| get_classes-HierarchicalPartition-method | 0.130 | 0.004 | 0.134 | |
| get_classes-dispatch | 0.000 | 0.000 | 0.001 | |
| get_consensus-ConsensusPartition-method | 0.141 | 0.011 | 0.151 | |
| get_matrix-ConsensusPartition-method | 0.312 | 0.105 | 0.418 | |
| get_matrix-ConsensusPartitionList-method | 0.308 | 0.092 | 0.400 | |
| get_matrix-DownSamplingConsensusPartition-method | 0 | 0 | 0 | |
| get_matrix-HierarchicalPartition-method | 0 | 0 | 0 | |
| get_matrix-dispatch | 0 | 0 | 0 | |
| get_membership-ConsensusPartition-method | 0.142 | 0.004 | 0.146 | |
| get_membership-ConsensusPartitionList-method | 0.149 | 0.004 | 0.154 | |
| get_membership-dispatch | 0 | 0 | 0 | |
| get_param-ConsensusPartition-method | 0.147 | 0.000 | 0.146 | |
| get_signatures-ConsensusPartition-method | 6.719 | 0.028 | 6.756 | |
| get_signatures-DownSamplingConsensusPartition-method | 0 | 0 | 0 | |
| get_signatures-HierarchicalPartition-method | 0 | 0 | 0 | |
| get_signatures-dispatch | 0 | 0 | 0 | |
| get_stats-ConsensusPartition-method | 0.138 | 0.000 | 0.139 | |
| get_stats-ConsensusPartitionList-method | 0.155 | 0.004 | 0.159 | |
| get_stats-dispatch | 0 | 0 | 0 | |
| golub_cola | 0.176 | 0.004 | 0.181 | |
| golub_cola_ds | 0.103 | 0.008 | 0.111 | |
| golub_cola_rh | 0.172 | 0.004 | 0.177 | |
| hierarchical_partition | 0.000 | 0.000 | 0.001 | |
| is_best_k-ConsensusPartition-method | 0.154 | 0.008 | 0.163 | |
| is_best_k-ConsensusPartitionList-method | 0.147 | 0.000 | 0.147 | |
| is_best_k-dispatch | 0 | 0 | 0 | |
| is_leaf_node-HierarchicalPartition-method | 0.118 | 0.000 | 0.118 | |
| is_stable_k-ConsensusPartition-method | 0.864 | 0.044 | 0.909 | |
| is_stable_k-ConsensusPartitionList-method | 0.153 | 0.000 | 0.154 | |
| is_stable_k-dispatch | 0 | 0 | 0 | |
| knee_finder2 | 0.030 | 0.000 | 0.031 | |
| knitr_add_tab_item | 0 | 0 | 0 | |
| knitr_insert_tabs | 0 | 0 | 0 | |
| map_to_entrez_id | 0 | 0 | 0 | |
| max_depth-HierarchicalPartition-method | 0.121 | 0.000 | 0.122 | |
| membership_heatmap-ConsensusPartition-method | 0.618 | 0.000 | 0.620 | |
| merge_node-HierarchicalPartition-method | 0 | 0 | 0 | |
| merge_node_param | 0.000 | 0.000 | 0.001 | |
| ncol-ConsensusPartition-method | 0.000 | 0.000 | 0.001 | |
| ncol-ConsensusPartitionList-method | 0 | 0 | 0 | |
| ncol-DownSamplingConsensusPartition-method | 0 | 0 | 0 | |
| ncol-HierarchicalPartition-method | 0 | 0 | 0 | |
| ncol-dispatch | 0.000 | 0.000 | 0.001 | |
| node_info-HierarchicalPartition-method | 0 | 0 | 0 | |
| node_level-HierarchicalPartition-method | 0 | 0 | 0 | |
| nrow-ConsensusPartition-method | 0 | 0 | 0 | |
| nrow-ConsensusPartitionList-method | 0 | 0 | 0 | |
| nrow-HierarchicalPartition-method | 0 | 0 | 0 | |
| nrow-dispatch | 0.000 | 0.000 | 0.001 | |
| plot_ecdf-ConsensusPartition-method | 0.156 | 0.000 | 0.156 | |
| predict_classes-ConsensusPartition-method | 0 | 0 | 0 | |
| predict_classes-dispatch | 0.001 | 0.000 | 0.000 | |
| predict_classes-matrix-method | 0 | 0 | 0 | |
| print.hc_table_suggest_best_k | 0 | 0 | 0 | |
| recalc_stats | 0 | 0 | 0 | |
| register_NMF | 0 | 0 | 0 | |
| register_SOM | 0 | 0 | 0 | |
| register_partition_methods | 0.732 | 0.004 | 0.737 | |
| register_top_value_methods | 0.001 | 0.000 | 0.002 | |
| relabel_class | 0.01 | 0.00 | 0.01 | |
| remove_partition_methods | 0 | 0 | 0 | |
| remove_top_value_methods | 0.001 | 0.000 | 0.000 | |
| rownames-ConsensusPartition-method | 0 | 0 | 0 | |
| rownames-ConsensusPartitionList-method | 0 | 0 | 0 | |
| rownames-HierarchicalPartition-method | 0.001 | 0.000 | 0.001 | |
| rownames-dispatch | 0 | 0 | 0 | |
| run_all_consensus_partition_methods | 0 | 0 | 0 | |
| select_partition_number-ConsensusPartition-method | 0.159 | 0.000 | 0.159 | |
| show-ConsensusPartition-method | 0.000 | 0.000 | 0.001 | |
| show-ConsensusPartitionList-method | 0 | 0 | 0 | |
| show-DownSamplingConsensusPartition-method | 0.105 | 0.004 | 0.108 | |
| show-HierarchicalPartition-method | 0.170 | 0.008 | 0.178 | |
| show-dispatch | 0 | 0 | 0 | |
| split_node-HierarchicalPartition-method | 0.000 | 0.000 | 0.001 | |
| suggest_best_k-ConsensusPartition-method | 0.138 | 0.004 | 0.142 | |
| suggest_best_k-ConsensusPartitionList-method | 0.152 | 0.000 | 0.153 | |
| suggest_best_k-HierarchicalPartition-method | 0.127 | 0.004 | 0.131 | |
| suggest_best_k-dispatch | 0 | 0 | 0 | |
| test_between_factors | 0.012 | 0.000 | 0.012 | |
| test_to_known_factors-ConsensusPartition-method | 0.158 | 0.012 | 0.171 | |
| test_to_known_factors-ConsensusPartitionList-method | 0.325 | 0.000 | 0.325 | |
| test_to_known_factors-DownSamplingConsensusPartition-method | 0.099 | 0.008 | 0.107 | |
| test_to_known_factors-HierarchicalPartition-method | 0.133 | 0.004 | 0.137 | |
| test_to_known_factors-dispatch | 0 | 0 | 0 | |
| top_elements_overlap | 0.279 | 0.008 | 0.288 | |
| top_rows_heatmap-ConsensusPartition-method | 0 | 0 | 0 | |
| top_rows_heatmap-ConsensusPartitionList-method | 0 | 0 | 0 | |
| top_rows_heatmap-HierarchicalPartition-method | 0 | 0 | 0 | |
| top_rows_heatmap-dispatch | 0 | 0 | 0 | |
| top_rows_heatmap-matrix-method | 4.277 | 0.079 | 4.351 | |
| top_rows_overlap-ConsensusPartitionList-method | 0.926 | 0.008 | 0.935 | |
| top_rows_overlap-HierarchicalPartition-method | 0.572 | 0.008 | 0.581 | |
| top_rows_overlap-dispatch | 0.000 | 0.000 | 0.001 | |
| top_rows_overlap-matrix-method | 0.175 | 0.000 | 0.175 | |