| Back to Multiple platform build/check report for BioC 3.20: simplified long | 
 | 
This page was generated on 2024-07-16 11:40 -0400 (Tue, 16 Jul 2024).
| Hostname | OS | Arch (*) | R version | Installed pkgs | 
|---|---|---|---|---|
| nebbiolo2 | Linux (Ubuntu 22.04.3 LTS) | x86_64 | 4.4.1 (2024-06-14) -- "Race for Your Life" | 4677 | 
| palomino6 | Windows Server 2022 Datacenter | x64 | 4.4.1 (2024-06-14 ucrt) -- "Race for Your Life" | 4416 | 
| lconway | macOS 12.7.1 Monterey | x86_64 | 4.4.1 (2024-06-14) -- "Race for Your Life" | 4444 | 
| kjohnson3 | macOS 13.6.5 Ventura | arm64 | 4.4.1 (2024-06-14) -- "Race for Your Life" | 4393 | 
| palomino8 | Windows Server 2022 Datacenter | x64 | 4.4.1 (2024-06-14 ucrt) -- "Race for Your Life" | 4373 | 
| Click on any hostname to see more info about the system (e.g. compilers) (*) as reported by 'uname -p', except on Windows and Mac OS X | ||||
| Package 378/2243 | Hostname | OS / Arch | INSTALL | BUILD | CHECK | BUILD BIN | ||||||||
| cn.mops 1.51.0  (landing page) Gundula Povysil 
 | nebbiolo2 | Linux (Ubuntu 22.04.3 LTS) / x86_64 | OK | OK | OK |  | ||||||||
| palomino6 | Windows Server 2022 Datacenter / x64 | OK | OK | OK | OK | |||||||||
| lconway | macOS 12.7.1 Monterey / x86_64 | OK | OK | OK | OK |  | ||||||||
| kjohnson3 | macOS 13.6.5 Ventura / arm64 | OK | OK | OK | OK |  | ||||||||
| palomino8 | Windows Server 2022 Datacenter / x64 | OK | OK | OK | OK | |||||||||
| To the developers/maintainers of the cn.mops package: - Allow up to 24 hours (and sometimes 48 hours) for your latest push to git@git.bioconductor.org:packages/cn.mops.git to reflect on this report. See Troubleshooting Build Report for more information. - Use the following Renviron settings to reproduce errors and warnings. - If 'R CMD check' started to fail recently on the Linux builder(s) over a missing dependency, add the missing dependency to 'Suggests:' in your DESCRIPTION file. See Renviron.bioc for more information. | 
| Package: cn.mops | 
| Version: 1.51.0 | 
| Command: C:\Users\biocbuild\bbs-3.20-bioc\R\bin\R.exe CMD check --no-multiarch --install=check:cn.mops.install-out.txt --library=C:\Users\biocbuild\bbs-3.20-bioc\R\library --no-vignettes --timings cn.mops_1.51.0.tar.gz | 
| StartedAt: 2024-07-15 22:47:40 -0400 (Mon, 15 Jul 2024) | 
| EndedAt: 2024-07-15 22:51:02 -0400 (Mon, 15 Jul 2024) | 
| EllapsedTime: 202.2 seconds | 
| RetCode: 0 | 
| Status: OK | 
| CheckDir: cn.mops.Rcheck | 
| Warnings: 0 | 
##############################################################################
##############################################################################
###
### Running command:
###
###   C:\Users\biocbuild\bbs-3.20-bioc\R\bin\R.exe CMD check --no-multiarch --install=check:cn.mops.install-out.txt --library=C:\Users\biocbuild\bbs-3.20-bioc\R\library --no-vignettes --timings cn.mops_1.51.0.tar.gz
###
##############################################################################
##############################################################################
* using log directory 'C:/Users/biocbuild/bbs-3.20-bioc/meat/cn.mops.Rcheck'
* using R version 4.4.1 (2024-06-14 ucrt)
* using platform: x86_64-w64-mingw32
* R was compiled by
    gcc.exe (GCC) 13.2.0
    GNU Fortran (GCC) 13.2.0
* running under: Windows Server 2022 x64 (build 20348)
* using session charset: UTF-8
* using option '--no-vignettes'
* checking for file 'cn.mops/DESCRIPTION' ... OK
* checking extension type ... Package
* this is package 'cn.mops' version '1.51.0'
* checking package namespace information ... OK
* checking package dependencies ... OK
* checking if this is a source package ... OK
* checking if there is a namespace ... OK
* checking for hidden files and directories ... OK
* checking for portable file names ... OK
* checking whether package 'cn.mops' can be installed ... OK
* used C compiler: 'gcc.exe (GCC) 13.2.0'
* used C++ compiler: 'G__~1.EXE (GCC) 13.2.0'
* checking installed package size ... OK
* checking package directory ... OK
* checking 'build' directory ... OK
* checking DESCRIPTION meta-information ... OK
* checking top-level files ... OK
* checking for left-over files ... OK
* checking index information ... OK
* checking package subdirectories ... OK
* checking code files for non-ASCII characters ... OK
* checking R files for syntax errors ... OK
* checking whether the package can be loaded ... OK
* checking whether the package can be loaded with stated dependencies ... OK
* checking whether the package can be unloaded cleanly ... OK
* checking whether the namespace can be loaded with stated dependencies ... OK
* checking whether the namespace can be unloaded cleanly ... OK
* checking whether startup messages can be suppressed ... OK
* checking dependencies in R code ... OK
* checking S3 generic/method consistency ... OK
* checking replacement functions ... OK
* checking foreign function calls ... OK
* checking R code for possible problems ... OK
* checking Rd files ... OK
* checking Rd metadata ... OK
* checking Rd cross-references ... OK
* checking for missing documentation entries ... OK
* checking for code/documentation mismatches ... OK
* checking Rd \usage sections ... OK
* checking Rd contents ... OK
* checking for unstated dependencies in examples ... OK
* checking contents of 'data' directory ... OK
* checking data for non-ASCII characters ... OK
* checking data for ASCII and uncompressed saves ... OK
* checking line endings in C/C++/Fortran sources/headers ... OK
* checking compiled code ... NOTE
Note: information on .o files for x64 is not available
File 'C:/Users/biocbuild/bbs-3.20-bioc/R/library/cn.mops/libs/x64/cn.mops.dll':
  Found '_exit', possibly from '_exit' (C)
  Found 'abort', possibly from 'abort' (C), 'runtime' (Fortran)
Compiled code should not call entry points which might terminate R nor
write to stdout/stderr instead of to the console, nor use Fortran I/O
nor system RNGs nor [v]sprintf. The detected symbols are linked into
the code but might come from libraries and not actually be called.
See 'Writing portable packages' in the 'Writing R Extensions' manual.
* checking sizes of PDF files under 'inst/doc' ... OK
* checking files in 'vignettes' ... OK
* checking examples ... OK
Examples with CPU (user + system) or elapsed time > 5s
                                                     user system elapsed
referencecn.mops                                    16.53   0.07   26.11
calcFractionalCopyNumbers-CNVDetectionResult-method 10.73   0.06   10.86
calcFractionalCopyNumbers                           10.26   0.05   10.34
cn.mops                                              7.67   0.18   21.50
haplocn.mops                                         0.87   0.00    8.95
getReadCountsFromBAM                                 0.39   0.00    5.11
getSegmentReadCountsFromBAM                          0.22   0.01    5.11
* checking for unstated dependencies in vignettes ... OK
* checking package vignettes ... OK
* checking running R code from vignettes ... SKIPPED
* checking re-building of vignette outputs ... SKIPPED
* checking PDF version of manual ... OK
* DONE
Status: 1 NOTE
See
  'C:/Users/biocbuild/bbs-3.20-bioc/meat/cn.mops.Rcheck/00check.log'
for details.
cn.mops.Rcheck/00install.out
##############################################################################
##############################################################################
###
### Running command:
###
###   C:\Users\biocbuild\bbs-3.20-bioc\R\bin\R.exe CMD INSTALL cn.mops
###
##############################################################################
##############################################################################
* installing to library 'C:/Users/biocbuild/bbs-3.20-bioc/R/library'
* installing *source* package 'cn.mops' ...
** using staged installation
** libs
using C compiler: 'gcc.exe (GCC) 13.2.0'
using C++ compiler: 'G__~1.EXE (GCC) 13.2.0'
gcc  -I"C:/Users/biocbuild/bbs-3.20-bioc/R/include" -DNDEBUG     -I"C:/rtools44/x86_64-w64-mingw32.static.posix/include"     -O2 -Wall  -mfpmath=sse -msse2 -mstackrealign  -c R_init_cnmops.c -o R_init_cnmops.o
g++ -std=gnu++17  -I"C:/Users/biocbuild/bbs-3.20-bioc/R/include" -DNDEBUG     -I"C:/rtools44/x86_64-w64-mingw32.static.posix/include"     -O2 -Wall  -mfpmath=sse -msse2 -mstackrealign  -c cnmops.cpp -o cnmops.o
g++ -std=gnu++17  -I"C:/Users/biocbuild/bbs-3.20-bioc/R/include" -DNDEBUG     -I"C:/rtools44/x86_64-w64-mingw32.static.posix/include"     -O2 -Wall  -mfpmath=sse -msse2 -mstackrealign  -c segment.cpp -o segment.o
segment.cpp: In function 'SEXPREC* segment(SEXP, SEXP, SEXP, SEXP, SEXP, SEXP)':
segment.cpp:59:27: warning: variable 'globalSd' set but not used [-Wunused-but-set-variable]
   59 |         double globalMean,globalSd,diff,M2,globalVariance;
      |                           ^~~~~~~~
segment.cpp:60:16: warning: variable 'oldStatistic' set but not used [-Wunused-but-set-variable]
   60 |         double oldStatistic, meanLeft,meanRight,varLeft,varRight;
      |                ^~~~~~~~~~~~
segment.cpp:61:38: warning: variable 'maxStatistic' set but not used [-Wunused-but-set-variable]
   61 |         double newStatistic,meanDiff,maxStatistic,DOF,a,b,eps1;
      |                                      ^~~~~~~~~~~~
segment.cpp:62:47: warning: variable 'maxIdx' set but not used [-Wunused-but-set-variable]
   62 |         double newPValue, maxPValue,oldPValue,maxIdx;
      |                                               ^~~~~~
In file included from segment.cpp:10:
C:/Users/biocbuild/bbs-3.20-bioc/R/include/Rmath.h:210:25: warning: unused variable 'Rf_beta' [-Wunused-variable]
  210 | #define beta            Rf_beta
      |                         ^~~~~~~
segment.cpp:64:16: note: in expansion of macro 'beta'
   64 |         double beta,nn;
      |                ^~~~
g++ -std=gnu++17 -shared -s -static-libgcc -o cn.mops.dll tmp.def R_init_cnmops.o cnmops.o segment.o -LC:/rtools44/x86_64-w64-mingw32.static.posix/lib/x64 -LC:/rtools44/x86_64-w64-mingw32.static.posix/lib -LC:/Users/biocbuild/bbs-3.20-bioc/R/bin/x64 -lR
installing to C:/Users/biocbuild/bbs-3.20-bioc/R/library/00LOCK-cn.mops/00new/cn.mops/libs/x64
** R
** data
** inst
** byte-compile and prepare package for lazy loading
** help
*** installing help indices
** building package indices
** installing vignettes
** testing if installed package can be loaded from temporary location
** testing if installed package can be loaded from final location
** testing if installed package keeps a record of temporary installation path
* DONE (cn.mops)
cn.mops.Rcheck/cn.mops-Ex.timings
| name | user | system | elapsed | |
| CNVDetectionResult | 0 | 0 | 0 | |
| calcFractionalCopyNumbers-CNVDetectionResult-method | 10.73 | 0.06 | 10.86 | |
| calcFractionalCopyNumbers | 10.26 | 0.05 | 10.34 | |
| calcIntegerCopyNumbers-CNVDetectionResult-method | 0.33 | 0.02 | 0.34 | |
| calcIntegerCopyNumbers | 0.31 | 0.00 | 0.32 | |
| cn.mops | 7.67 | 0.18 | 21.50 | |
| cnvr-CNVDetectionResult-method | 0.19 | 0.00 | 0.18 | |
| cnvr | 0.16 | 0.04 | 0.19 | |
| cnvs-CNVDetectionResult-method | 0.19 | 0.00 | 0.19 | |
| cnvs | 0.18 | 0.00 | 0.19 | |
| exomecn.mops | 2.78 | 0.03 | 2.81 | |
| getReadCountsFromBAM | 0.39 | 0.00 | 5.11 | |
| getSegmentReadCountsFromBAM | 0.22 | 0.01 | 5.11 | |
| gr-CNVDetectionResult-method | 0.16 | 0.02 | 0.17 | |
| gr | 0.16 | 0.04 | 0.20 | |
| haplocn.mops | 0.87 | 0.00 | 8.95 | |
| individualCall-CNVDetectionResult-method | 0.19 | 0.02 | 0.21 | |
| individualCall | 0.19 | 0.02 | 0.20 | |
| iniCall-CNVDetectionResult-method | 0.18 | 0.00 | 0.18 | |
| iniCall | 0.21 | 0.00 | 0.21 | |
| integerCopyNumber-CNVDetectionResult-method | 4.39 | 0.08 | 4.43 | |
| integerCopyNumber | 0.18 | 0.02 | 0.21 | |
| localAssessments-CNVDetectionResult-method | 0.18 | 0.01 | 0.19 | |
| localAssessments | 0.17 | 0.02 | 0.18 | |
| makeRobustCNVR | 0.28 | 0.00 | 0.30 | |
| normalizeChromosomes | 0.10 | 0.01 | 0.12 | |
| normalizeGenome | 0.52 | 0.02 | 0.53 | |
| normalizedData-CNVDetectionResult-method | 0.17 | 0.01 | 0.19 | |
| normalizedData | 0.13 | 0.05 | 0.17 | |
| params-CNVDetectionResult-method | 0.94 | 0.00 | 0.94 | |
| params | 0.17 | 0.03 | 0.20 | |
| posteriorProbs-CNVDetectionResult-method | 0.17 | 0.02 | 0.19 | |
| posteriorProbs | 0.14 | 0.04 | 0.19 | |
| referencecn.mops | 16.53 | 0.07 | 26.11 | |
| sampleNames-CNVDetectionResult-method | 0.13 | 0.04 | 0.17 | |
| sampleNames | 0.15 | 0.03 | 0.19 | |
| segment | 0.02 | 0.00 | 0.01 | |
| segmentation-CNVDetectionResult-method | 0.22 | 0.00 | 0.22 | |
| segmentation | 0.17 | 0.00 | 0.17 | |
| segplot-CNVDetectionResult-method | 0.80 | 0.02 | 0.83 | |
| segplot | 0.78 | 0.02 | 0.80 | |
| singlecn.mops | 0.54 | 0.50 | 1.04 | |