| Back to Multiple platform build/check report for BioC 3.20: simplified long | 
 | 
This page was generated on 2025-04-02 19:31 -0400 (Wed, 02 Apr 2025).
| Hostname | OS | Arch (*) | R version | Installed pkgs | 
|---|---|---|---|---|
| nebbiolo2 | Linux (Ubuntu 24.04.1 LTS) | x86_64 | 4.4.3 (2025-02-28) -- "Trophy Case" | 4764 | 
| palomino8 | Windows Server 2022 Datacenter | x64 | 4.4.3 (2025-02-28 ucrt) -- "Trophy Case" | 4495 | 
| merida1 | macOS 12.7.5 Monterey | x86_64 | 4.4.3 (2025-02-28) -- "Trophy Case" | 4522 | 
| kjohnson1 | macOS 13.6.6 Ventura | arm64 | 4.4.3 (2025-02-28) -- "Trophy Case" | 4449 | 
| taishan | Linux (openEuler 24.03 LTS) | aarch64 | 4.4.3 (2025-02-28) -- "Trophy Case" | 4426 | 
| Click on any hostname to see more info about the system (e.g. compilers) (*) as reported by 'uname -p', except on Windows and Mac OS X | ||||
| Package 386/2289 | Hostname | OS / Arch | INSTALL | BUILD | CHECK | BUILD BIN | ||||||||
| cn.mops 1.52.0  (landing page) Gundula Povysil 
 | nebbiolo2 | Linux (Ubuntu 24.04.1 LTS) / x86_64 | OK | OK | OK |  | ||||||||
| palomino8 | Windows Server 2022 Datacenter / x64 | OK | OK | OK | OK |  | ||||||||
| merida1 | macOS 12.7.5 Monterey / x86_64 | OK | OK | OK | OK |  | ||||||||
| kjohnson1 | macOS 13.6.6 Ventura / arm64 | OK | OK | OK | OK |  | ||||||||
| taishan | Linux (openEuler 24.03 LTS) / aarch64 | OK | OK | OK | ||||||||||
| To the developers/maintainers of the cn.mops package: - Allow up to 24 hours (and sometimes 48 hours) for your latest push to git@git.bioconductor.org:packages/cn.mops.git to reflect on this report. See Troubleshooting Build Report for more information. - Use the following Renviron settings to reproduce errors and warnings. - If 'R CMD check' started to fail recently on the Linux builder(s) over a missing dependency, add the missing dependency to 'Suggests:' in your DESCRIPTION file. See Renviron.bioc for more information. | 
| Package: cn.mops | 
| Version: 1.52.0 | 
| Command: /Library/Frameworks/R.framework/Resources/bin/R CMD check --install=check:cn.mops.install-out.txt --library=/Library/Frameworks/R.framework/Resources/library --no-vignettes --timings cn.mops_1.52.0.tar.gz | 
| StartedAt: 2025-04-01 00:57:06 -0400 (Tue, 01 Apr 2025) | 
| EndedAt: 2025-04-01 01:04:34 -0400 (Tue, 01 Apr 2025) | 
| EllapsedTime: 447.7 seconds | 
| RetCode: 0 | 
| Status: OK | 
| CheckDir: cn.mops.Rcheck | 
| Warnings: 0 | 
##############################################################################
##############################################################################
###
### Running command:
###
###   /Library/Frameworks/R.framework/Resources/bin/R CMD check --install=check:cn.mops.install-out.txt --library=/Library/Frameworks/R.framework/Resources/library --no-vignettes --timings cn.mops_1.52.0.tar.gz
###
##############################################################################
##############################################################################
* using log directory ‘/Users/biocbuild/bbs-3.20-bioc/meat/cn.mops.Rcheck’
* using R version 4.4.3 (2025-02-28)
* using platform: x86_64-apple-darwin20
* R was compiled by
    Apple clang version 14.0.0 (clang-1400.0.29.202)
    GNU Fortran (GCC) 12.2.0
* running under: macOS Monterey 12.7.6
* using session charset: UTF-8
* using option ‘--no-vignettes’
* checking for file ‘cn.mops/DESCRIPTION’ ... OK
* checking extension type ... Package
* this is package ‘cn.mops’ version ‘1.52.0’
* checking package namespace information ... OK
* checking package dependencies ... OK
* checking if this is a source package ... OK
* checking if there is a namespace ... OK
* checking for hidden files and directories ... OK
* checking for portable file names ... OK
* checking for sufficient/correct file permissions ... OK
* checking whether package ‘cn.mops’ can be installed ... OK
* used C compiler: ‘Apple clang version 14.0.0 (clang-1400.0.29.202)’
* used C++ compiler: ‘Apple clang version 14.0.0 (clang-1400.0.29.202)’
* used SDK: ‘MacOSX11.3.sdk’
* checking installed package size ... OK
* checking package directory ... OK
* checking ‘build’ directory ... OK
* checking DESCRIPTION meta-information ... OK
* checking top-level files ... OK
* checking for left-over files ... OK
* checking index information ... OK
* checking package subdirectories ... OK
* checking code files for non-ASCII characters ... OK
* checking R files for syntax errors ... OK
* checking whether the package can be loaded ... OK
* checking whether the package can be loaded with stated dependencies ... OK
* checking whether the package can be unloaded cleanly ... OK
* checking whether the namespace can be loaded with stated dependencies ... OK
* checking whether the namespace can be unloaded cleanly ... OK
* checking whether startup messages can be suppressed ... OK
* checking dependencies in R code ... OK
* checking S3 generic/method consistency ... OK
* checking replacement functions ... OK
* checking foreign function calls ... OK
* checking R code for possible problems ... OK
* checking Rd files ... OK
* checking Rd metadata ... OK
* checking Rd cross-references ... OK
* checking for missing documentation entries ... OK
* checking for code/documentation mismatches ... OK
* checking Rd \usage sections ... OK
* checking Rd contents ... OK
* checking for unstated dependencies in examples ... OK
* checking contents of ‘data’ directory ... OK
* checking data for non-ASCII characters ... OK
* checking data for ASCII and uncompressed saves ... OK
* checking line endings in C/C++/Fortran sources/headers ... OK
* checking compiled code ... NOTE
Note: information on .o files is not available
* checking sizes of PDF files under ‘inst/doc’ ... OK
* checking files in ‘vignettes’ ... OK
* checking examples ... OK
Examples with CPU (user + system) or elapsed time > 5s
                                                      user system elapsed
referencecn.mops                                    15.172  0.095  40.783
cn.mops                                             12.918  0.290  44.782
calcFractionalCopyNumbers-CNVDetectionResult-method 12.683  0.120  15.436
calcFractionalCopyNumbers                           12.350  0.082  15.448
exomecn.mops                                         5.815  0.059   7.179
haplocn.mops                                         2.420  0.055  25.815
getReadCountsFromBAM                                 1.009  0.026  12.881
getSegmentReadCountsFromBAM                          0.622  0.019  12.286
* checking for unstated dependencies in vignettes ... OK
* checking package vignettes ... OK
* checking running R code from vignettes ... SKIPPED
* checking re-building of vignette outputs ... SKIPPED
* checking PDF version of manual ... OK
* DONE
Status: 1 NOTE
See
  ‘/Users/biocbuild/bbs-3.20-bioc/meat/cn.mops.Rcheck/00check.log’
for details.
cn.mops.Rcheck/00install.out
##############################################################################
##############################################################################
###
### Running command:
###
###   /Library/Frameworks/R.framework/Resources/bin/R CMD INSTALL cn.mops
###
##############################################################################
##############################################################################
* installing to library ‘/Library/Frameworks/R.framework/Versions/4.4-x86_64/Resources/library’
* installing *source* package ‘cn.mops’ ...
** using staged installation
** libs
using C compiler: ‘Apple clang version 14.0.0 (clang-1400.0.29.202)’
using C++ compiler: ‘Apple clang version 14.0.0 (clang-1400.0.29.202)’
using SDK: ‘MacOSX11.3.sdk’
clang -arch x86_64 -I"/Library/Frameworks/R.framework/Resources/include" -DNDEBUG   -I/opt/R/x86_64/include    -fPIC  -falign-functions=64 -Wall -g -O2  -c R_init_cnmops.c -o R_init_cnmops.o
clang++ -arch x86_64 -std=gnu++17 -I"/Library/Frameworks/R.framework/Resources/include" -DNDEBUG   -I/opt/R/x86_64/include    -fPIC  -falign-functions=64 -Wall -g -O2   -c cnmops.cpp -o cnmops.o
clang++ -arch x86_64 -std=gnu++17 -I"/Library/Frameworks/R.framework/Resources/include" -DNDEBUG   -I/opt/R/x86_64/include    -fPIC  -falign-functions=64 -Wall -g -O2   -c segment.cpp -o segment.o
segment.cpp:61:31: warning: variable 'maxStatistic' set but not used [-Wunused-but-set-variable]
        double newStatistic,meanDiff,maxStatistic,DOF,a,b,eps1;
                                     ^
segment.cpp:59:20: warning: variable 'globalSd' set but not used [-Wunused-but-set-variable]
        double globalMean,globalSd,diff,M2,globalVariance;
                          ^
segment.cpp:62:40: warning: variable 'maxIdx' set but not used [-Wunused-but-set-variable]
        double newPValue, maxPValue,oldPValue,maxIdx;
                                              ^
segment.cpp:60:9: warning: variable 'oldStatistic' set but not used [-Wunused-but-set-variable]
        double oldStatistic, meanLeft,meanRight,varLeft,varRight;
               ^
segment.cpp:64:9: warning: unused variable 'Rf_beta' [-Wunused-variable]
        double beta,nn;
               ^
/Library/Frameworks/R.framework/Resources/include/Rmath.h:210:15: note: expanded from macro 'beta'
#define beta            Rf_beta
                        ^
5 warnings generated.
clang++ -arch x86_64 -std=gnu++17 -dynamiclib -Wl,-headerpad_max_install_names -undefined dynamic_lookup -L/Library/Frameworks/R.framework/Resources/lib -L/opt/R/x86_64/lib -o cn.mops.so R_init_cnmops.o cnmops.o segment.o -F/Library/Frameworks/R.framework/.. -framework R -Wl,-framework -Wl,CoreFoundation
installing to /Library/Frameworks/R.framework/Versions/4.4-x86_64/Resources/library/00LOCK-cn.mops/00new/cn.mops/libs
** R
** data
** inst
** byte-compile and prepare package for lazy loading
** help
*** installing help indices
** building package indices
** installing vignettes
** testing if installed package can be loaded from temporary location
** checking absolute paths in shared objects and dynamic libraries
** testing if installed package can be loaded from final location
** testing if installed package keeps a record of temporary installation path
* DONE (cn.mops)
cn.mops.Rcheck/cn.mops-Ex.timings
| name | user | system | elapsed | |
| CNVDetectionResult | 0.002 | 0.002 | 0.007 | |
| calcFractionalCopyNumbers-CNVDetectionResult-method | 12.683 | 0.120 | 15.436 | |
| calcFractionalCopyNumbers | 12.350 | 0.082 | 15.448 | |
| calcIntegerCopyNumbers-CNVDetectionResult-method | 0.935 | 0.014 | 1.135 | |
| calcIntegerCopyNumbers | 0.835 | 0.013 | 1.018 | |
| cn.mops | 12.918 | 0.290 | 44.782 | |
| cnvr-CNVDetectionResult-method | 0.479 | 0.014 | 0.573 | |
| cnvr | 0.858 | 0.024 | 1.139 | |
| cnvs-CNVDetectionResult-method | 0.488 | 0.012 | 0.640 | |
| cnvs | 0.460 | 0.011 | 0.553 | |
| exomecn.mops | 5.815 | 0.059 | 7.179 | |
| getReadCountsFromBAM | 1.009 | 0.026 | 12.881 | |
| getSegmentReadCountsFromBAM | 0.622 | 0.019 | 12.286 | |
| gr-CNVDetectionResult-method | 0.469 | 0.012 | 0.519 | |
| gr | 0.483 | 0.012 | 0.611 | |
| haplocn.mops | 2.420 | 0.055 | 25.815 | |
| individualCall-CNVDetectionResult-method | 0.480 | 0.011 | 0.574 | |
| individualCall | 0.492 | 0.012 | 0.621 | |
| iniCall-CNVDetectionResult-method | 0.501 | 0.011 | 0.637 | |
| iniCall | 0.497 | 0.012 | 0.634 | |
| integerCopyNumber-CNVDetectionResult-method | 0.526 | 0.017 | 0.678 | |
| integerCopyNumber | 0.486 | 0.012 | 0.607 | |
| localAssessments-CNVDetectionResult-method | 0.498 | 0.014 | 0.633 | |
| localAssessments | 0.497 | 0.013 | 0.632 | |
| makeRobustCNVR | 0.875 | 0.011 | 1.083 | |
| normalizeChromosomes | 0.340 | 0.013 | 0.430 | |
| normalizeGenome | 0.356 | 0.020 | 0.486 | |
| normalizedData-CNVDetectionResult-method | 0.476 | 0.012 | 0.597 | |
| normalizedData | 0.498 | 0.014 | 0.623 | |
| params-CNVDetectionResult-method | 0.479 | 0.041 | 0.631 | |
| params | 0.473 | 0.040 | 0.634 | |
| posteriorProbs-CNVDetectionResult-method | 0.466 | 0.009 | 0.581 | |
| posteriorProbs | 0.454 | 0.010 | 0.576 | |
| referencecn.mops | 15.172 | 0.095 | 40.783 | |
| sampleNames-CNVDetectionResult-method | 0.456 | 0.009 | 0.515 | |
| sampleNames | 0.462 | 0.010 | 0.573 | |
| segment | 0.043 | 0.002 | 0.056 | |
| segmentation-CNVDetectionResult-method | 0.483 | 0.012 | 0.604 | |
| segmentation | 0.490 | 0.014 | 0.595 | |
| segplot-CNVDetectionResult-method | 2.515 | 0.020 | 2.987 | |
| segplot | 2.173 | 0.017 | 2.611 | |
| singlecn.mops | 1.847 | 0.017 | 2.242 | |