| Back to Multiple platform build/check report for BioC 3.20: simplified long | 
 | 
This page was generated on 2024-10-16 11:40 -0400 (Wed, 16 Oct 2024).
| Hostname | OS | Arch (*) | R version | Installed pkgs | 
|---|---|---|---|---|
| teran2 | Linux (Ubuntu 24.04.1 LTS) | x86_64 | 4.4.1 (2024-06-14) -- "Race for Your Life" | 4473 | 
| nebbiolo2 | Linux (Ubuntu 24.04.1 LTS) | x86_64 | 4.4.1 (2024-06-14) -- "Race for Your Life" | 4730 | 
| palomino8 | Windows Server 2022 Datacenter | x64 | 4.4.1 (2024-06-14 ucrt) -- "Race for Your Life" | 4478 | 
| lconway | macOS 12.7.1 Monterey | x86_64 | 4.4.1 (2024-06-14) -- "Race for Your Life" | 4509 | 
| kjohnson3 | macOS 13.6.5 Ventura | arm64 | 4.4.1 (2024-06-14) -- "Race for Your Life" | 4457 | 
| kunpeng2 | Linux (openEuler 22.03 LTS-SP1) | aarch64 | 4.4.1 (2024-06-14) -- "Race for Your Life" | 4457 | 
| Click on any hostname to see more info about the system (e.g. compilers) (*) as reported by 'uname -p', except on Windows and Mac OS X | ||||
| Package 349/2273 | Hostname | OS / Arch | INSTALL | BUILD | CHECK | BUILD BIN | ||||||||
| chromstaR 1.31.0  (landing page) Aaron Taudt 
 | teran2 | Linux (Ubuntu 24.04.1 LTS) / x86_64 | OK | OK | OK |  | ||||||||
| nebbiolo2 | Linux (Ubuntu 24.04.1 LTS) / x86_64 | OK | OK | OK | ||||||||||
| palomino8 | Windows Server 2022 Datacenter / x64 | OK | OK | OK | OK |  | ||||||||
| lconway | macOS 12.7.1 Monterey / x86_64 | OK | OK | OK | OK |  | ||||||||
| kjohnson3 | macOS 13.6.5 Ventura / arm64 | OK | OK | OK | OK |  | ||||||||
| kunpeng2 | Linux (openEuler 22.03 LTS-SP1) / aarch64 | OK | ERROR | skipped | ||||||||||
| To the developers/maintainers of the chromstaR package: - Allow up to 24 hours (and sometimes 48 hours) for your latest push to git@git.bioconductor.org:packages/chromstaR.git to reflect on this report. See Troubleshooting Build Report for more information. - Use the following Renviron settings to reproduce errors and warnings. - If 'R CMD check' started to fail recently on the Linux builder(s) over a missing dependency, add the missing dependency to 'Suggests:' in your DESCRIPTION file. See Renviron.bioc for more information. | 
| Package: chromstaR | 
| Version: 1.31.0 | 
| Command: /home/biocbuild/bbs-3.20-bioc/R/bin/R CMD check --install=check:chromstaR.install-out.txt --library=/home/biocbuild/bbs-3.20-bioc/R/site-library --timings chromstaR_1.31.0.tar.gz | 
| StartedAt: 2024-10-15 22:30:33 -0400 (Tue, 15 Oct 2024) | 
| EndedAt: 2024-10-15 22:39:16 -0400 (Tue, 15 Oct 2024) | 
| EllapsedTime: 523.2 seconds | 
| RetCode: 0 | 
| Status: OK | 
| CheckDir: chromstaR.Rcheck | 
| Warnings: 0 | 
##############################################################################
##############################################################################
###
### Running command:
###
###   /home/biocbuild/bbs-3.20-bioc/R/bin/R CMD check --install=check:chromstaR.install-out.txt --library=/home/biocbuild/bbs-3.20-bioc/R/site-library --timings chromstaR_1.31.0.tar.gz
###
##############################################################################
##############################################################################
* using log directory ‘/media/volume/teran2_disk/biocbuild/bbs-3.20-bioc/meat/chromstaR.Rcheck’
* using R version 4.4.1 (2024-06-14)
* using platform: x86_64-pc-linux-gnu
* R was compiled by
    gcc (Ubuntu 13.2.0-23ubuntu4) 13.2.0
    GNU Fortran (Ubuntu 13.2.0-23ubuntu4) 13.2.0
* running under: Ubuntu 24.04.1 LTS
* using session charset: UTF-8
* checking for file ‘chromstaR/DESCRIPTION’ ... OK
* checking extension type ... Package
* this is package ‘chromstaR’ version ‘1.31.0’
* checking package namespace information ... OK
* checking package dependencies ... OK
* checking if this is a source package ... OK
* checking if there is a namespace ... OK
* checking for hidden files and directories ... OK
* checking for portable file names ... OK
* checking for sufficient/correct file permissions ... OK
* checking whether package ‘chromstaR’ can be installed ... OK
* used C++ compiler: ‘g++ (Ubuntu 13.2.0-23ubuntu4) 13.2.0’
* checking installed package size ... NOTE
  installed size is  5.8Mb
  sub-directories of 1Mb or more:
    data   4.5Mb
* checking package directory ... OK
* checking ‘build’ directory ... OK
* checking DESCRIPTION meta-information ... OK
* checking top-level files ... OK
* checking for left-over files ... OK
* checking index information ... OK
* checking package subdirectories ... OK
* checking code files for non-ASCII characters ... OK
* checking R files for syntax errors ... OK
* checking whether the package can be loaded ... OK
* checking whether the package can be loaded with stated dependencies ... OK
* checking whether the package can be unloaded cleanly ... OK
* checking whether the namespace can be loaded with stated dependencies ... OK
* checking whether the namespace can be unloaded cleanly ... OK
* checking loading without being on the library search path ... OK
* checking whether startup messages can be suppressed ... OK
* checking dependencies in R code ... OK
* checking S3 generic/method consistency ... OK
* checking replacement functions ... OK
* checking foreign function calls ... OK
* checking R code for possible problems ... NOTE
Chromstar: multiple local function definitions for ‘parallel.helper’
  with different formal arguments
* checking Rd files ... NOTE
checkRd: (-1) callPeaksUnivariate.Rd:66: Lost braces
    66 | \item{post.cutoff}{False discovery rate. code{NULL} means that the state with maximum posterior probability will be chosen, irrespective of its absolute probability (default=code{NULL}).}
       |                                              ^
checkRd: (-1) callPeaksUnivariate.Rd:66: Lost braces
    66 | \item{post.cutoff}{False discovery rate. code{NULL} means that the state with maximum posterior probability will be chosen, irrespective of its absolute probability (default=code{NULL}).}
       |                                                                                                                                                                                   ^
checkRd: (-1) callPeaksUnivariateAllChr.Rd:60: Lost braces
    60 | \item{post.cutoff}{False discovery rate. code{NULL} means that the state with maximum posterior probability will be chosen, irrespective of its absolute probability (default=code{NULL}).}
       |                                              ^
checkRd: (-1) callPeaksUnivariateAllChr.Rd:60: Lost braces
    60 | \item{post.cutoff}{False discovery rate. code{NULL} means that the state with maximum posterior probability will be chosen, irrespective of its absolute probability (default=code{NULL}).}
       |                                                                                                                                                                                   ^
checkRd: (-1) plotGenomeBrowser.Rd:28-68: Lost braces
    28 | plotGenomeBrowser2 <- function(counts, peaklist=NULL, chr, start, end, countcol='black', peakcols=NULL, style='peaks', peakTrackHeight=5) {
       |                                                                                                                                           ^
checkRd: (-1) plotGenomeBrowser.Rd:36-41: Lost braces
    36 |     if (style == 'peaks') {
       |                           ^
checkRd: (-1) plotGenomeBrowser.Rd:41-45: Lost braces
    41 |     } else if (style == 'density') {
       |                                    ^
checkRd: (-1) plotGenomeBrowser.Rd:45-47: Lost braces
    45 |     } else {
       |            ^
checkRd: (-1) plotGenomeBrowser.Rd:50-65: Lost braces
    50 |     if (!is.null(peaklist)) {
       |                             ^
checkRd: (-1) plotGenomeBrowser.Rd:51-53: Lost braces
    51 |         if (is.null(peakcols)) {
       |                                ^
checkRd: (-1) plotGenomeBrowser.Rd:54-64: Lost braces
    54 |         for (i1 in 1:length(peaklist)) {
       |                                        ^
checkRd: (-1) plotGenomeBrowser.Rd:57-60: Lost braces
    57 |             if (length(peaks) > 0) {
       |                                    ^
* checking Rd metadata ... OK
* checking Rd cross-references ... OK
* checking for missing documentation entries ... OK
* checking for code/documentation mismatches ... OK
* checking Rd \usage sections ... OK
* checking Rd contents ... OK
* checking for unstated dependencies in examples ... OK
* checking contents of ‘data’ directory ... OK
* checking data for non-ASCII characters ... OK
* checking data for ASCII and uncompressed saves ... OK
* checking line endings in C/C++/Fortran sources/headers ... OK
* checking line endings in Makefiles ... OK
* checking compilation flags in Makevars ... OK
* checking for GNU extensions in Makefiles ... OK
* checking for portable use of $(BLAS_LIBS) and $(LAPACK_LIBS) ... OK
* checking use of PKG_*FLAGS in Makefiles ... OK
* checking compiled code ... NOTE
Note: information on .o files is not available
* checking files in ‘vignettes’ ... OK
* checking examples ... OK
Examples with CPU (user + system) or elapsed time > 5s
                        user system elapsed
combineMultivariates  16.710  0.072  16.805
enrichment_analysis    9.151  0.180  12.655
callPeaksMultivariate  8.098  0.053   8.324
callPeaksReplicates    7.294  0.061   7.362
unis2pseudomulti       6.301  0.019   6.940
plotGenomeBrowser      5.788  0.167   5.956
Chromstar              5.221  0.190  31.864
plotExpression         1.891  0.039   8.813
* checking for unstated dependencies in ‘tests’ ... OK
* checking tests ...
  Running ‘testthat.R’
 OK
* checking for unstated dependencies in vignettes ... OK
* checking package vignettes ... OK
* checking re-building of vignette outputs ... OK
* checking PDF version of manual ... OK
* DONE
Status: 4 NOTEs
See
  ‘/media/volume/teran2_disk/biocbuild/bbs-3.20-bioc/meat/chromstaR.Rcheck/00check.log’
for details.
chromstaR.Rcheck/00install.out
############################################################################## ############################################################################## ### ### Running command: ### ### /home/biocbuild/bbs-3.20-bioc/R/bin/R CMD INSTALL chromstaR ### ############################################################################## ############################################################################## * installing to library ‘/media/volume/teran2_disk/biocbuild/bbs-3.20-bioc/R/site-library’ * installing *source* package ‘chromstaR’ ... ** using staged installation ** libs using C++ compiler: ‘g++ (Ubuntu 13.2.0-23ubuntu4) 13.2.0’ g++ -std=gnu++17 -I"/home/biocbuild/bbs-3.20-bioc/R/include" -DNDEBUG -I/usr/local/include -fopenmp -fpic -g -O2 -Wall -c R_interface.cpp -o R_interface.o g++ -std=gnu++17 -I"/home/biocbuild/bbs-3.20-bioc/R/include" -DNDEBUG -I/usr/local/include -fopenmp -fpic -g -O2 -Wall -c densities.cpp -o densities.o g++ -std=gnu++17 -I"/home/biocbuild/bbs-3.20-bioc/R/include" -DNDEBUG -I/usr/local/include -fopenmp -fpic -g -O2 -Wall -c init.cpp -o init.o g++ -std=gnu++17 -I"/home/biocbuild/bbs-3.20-bioc/R/include" -DNDEBUG -I/usr/local/include -fopenmp -fpic -g -O2 -Wall -c scalehmm.cpp -o scalehmm.o g++ -std=gnu++17 -I"/home/biocbuild/bbs-3.20-bioc/R/include" -DNDEBUG -I/usr/local/include -fopenmp -fpic -g -O2 -Wall -c utility.cpp -o utility.o g++ -std=gnu++17 -shared -L/home/biocbuild/bbs-3.20-bioc/R/lib -L/usr/local/lib -o chromstaR.so R_interface.o densities.o init.o scalehmm.o utility.o -fopenmp -L/home/biocbuild/bbs-3.20-bioc/R/lib -lR installing to /media/volume/teran2_disk/biocbuild/bbs-3.20-bioc/R/site-library/00LOCK-chromstaR/00new/chromstaR/libs ** R ** data ** inst ** byte-compile and prepare package for lazy loading ** help *** installing help indices ** building package indices ** installing vignettes ** testing if installed package can be loaded from temporary location ** checking absolute paths in shared objects and dynamic libraries ** testing if installed package can be loaded from final location ** testing if installed package keeps a record of temporary installation path * DONE (chromstaR)
chromstaR.Rcheck/tests/testthat.Rout
R version 4.4.1 (2024-06-14) -- "Race for Your Life"
Copyright (C) 2024 The R Foundation for Statistical Computing
Platform: x86_64-pc-linux-gnu
R is free software and comes with ABSOLUTELY NO WARRANTY.
You are welcome to redistribute it under certain conditions.
Type 'license()' or 'licence()' for distribution details.
R is a collaborative project with many contributors.
Type 'contributors()' for more information and
'citation()' on how to cite R or R packages in publications.
Type 'demo()' for some demos, 'help()' for on-line help, or
'help.start()' for an HTML browser interface to help.
Type 'q()' to quit R.
> library(testthat)
> library(chromstaR)
Loading required package: GenomicRanges
Loading required package: stats4
Loading required package: BiocGenerics
Attaching package: 'BiocGenerics'
The following objects are masked from 'package:stats':
    IQR, mad, sd, var, xtabs
The following objects are masked from 'package:base':
    Filter, Find, Map, Position, Reduce, anyDuplicated, aperm, append,
    as.data.frame, basename, cbind, colnames, dirname, do.call,
    duplicated, eval, evalq, get, grep, grepl, intersect, is.unsorted,
    lapply, mapply, match, mget, order, paste, pmax, pmax.int, pmin,
    pmin.int, rank, rbind, rownames, sapply, saveRDS, setdiff, table,
    tapply, union, unique, unsplit, which.max, which.min
Loading required package: S4Vectors
Attaching package: 'S4Vectors'
The following object is masked from 'package:utils':
    findMatches
The following objects are masked from 'package:base':
    I, expand.grid, unname
Loading required package: IRanges
Loading required package: GenomeInfoDb
Loading required package: ggplot2
Loading required package: chromstaRData
Please visit https://github.com/ataudt/chromstaR for the latest bugfixes and features.
> 
> test_check("chromstaR")
[ FAIL 0 | WARN 0 | SKIP 0 | PASS 44 ]
> 
> proc.time()
   user  system elapsed 
 13.688   1.019  14.695 
chromstaR.Rcheck/chromstaR-Ex.timings
| name | user | system | elapsed | |
| Chromstar | 5.221 | 0.190 | 31.864 | |
| binReads | 0.334 | 0.050 | 0.392 | |
| callPeaksMultivariate | 8.098 | 0.053 | 8.324 | |
| callPeaksReplicates | 7.294 | 0.061 | 7.362 | |
| callPeaksUnivariate | 1.143 | 0.007 | 1.152 | |
| changeMaxPostCutoff | 2.909 | 0.087 | 2.997 | |
| changePostCutoff | 4.410 | 0.049 | 4.458 | |
| collapseBins | 1.088 | 0.011 | 1.098 | |
| combinatorialStates | 3.569 | 0.045 | 3.615 | |
| combineMultivariates | 16.710 | 0.072 | 16.805 | |
| conversion | 0.000 | 0.000 | 0.001 | |
| enrichment_analysis | 9.151 | 0.180 | 12.655 | |
| experiment.table | 0.001 | 0.001 | 0.003 | |
| exportFiles | 1.175 | 0.015 | 1.191 | |
| exportGRangesAsBedFile | 1.275 | 0.008 | 1.284 | |
| fixedWidthBins | 0.045 | 0.000 | 0.045 | |
| genes_rn4 | 0.070 | 0.004 | 0.074 | |
| genomicFrequencies | 0.152 | 0.012 | 0.165 | |
| getCombinations | 0.166 | 0.015 | 0.181 | |
| getDistinctColors | 0.012 | 0.000 | 0.012 | |
| getStateColors | 0.009 | 0.000 | 0.010 | |
| heatmapCombinations | 0.355 | 0.011 | 0.367 | |
| heatmapCountCorrelation | 0.246 | 0.012 | 0.258 | |
| heatmapTransitionProbs | 0.667 | 0.010 | 0.677 | |
| loadHmmsFromFiles | 1.022 | 0.009 | 1.031 | |
| model.combined | 0.184 | 0.021 | 0.205 | |
| model.multivariate | 0.149 | 0.009 | 0.159 | |
| model.univariate | 0.058 | 0.003 | 0.062 | |
| multiHMM | 0.150 | 0.013 | 0.163 | |
| plotExpression | 1.891 | 0.039 | 8.813 | |
| plotGenomeBrowser | 5.788 | 0.167 | 5.956 | |
| plotHistogram | 1.253 | 0.003 | 1.256 | |
| readBamFileAsGRanges | 0.489 | 0.020 | 0.510 | |
| readBedFileAsGRanges | 0.922 | 0.147 | 1.072 | |
| readCustomBedFile | 3.893 | 0.019 | 3.912 | |
| removeCondition | 1.784 | 0.013 | 1.815 | |
| state.brewer | 0.005 | 0.001 | 0.006 | |
| stateBrewer | 0.019 | 0.001 | 0.039 | |
| transitionFrequencies | 0.221 | 0.026 | 0.493 | |
| unis2pseudomulti | 6.301 | 0.019 | 6.940 | |
| variableWidthBins | 1.064 | 0.027 | 1.092 | |