| Back to Multiple platform build/check report for BioC 3.20: simplified long |
|
This page was generated on 2024-11-20 12:02 -0500 (Wed, 20 Nov 2024).
| Hostname | OS | Arch (*) | R version | Installed pkgs |
|---|---|---|---|---|
| teran2 | Linux (Ubuntu 24.04.1 LTS) | x86_64 | 4.4.2 (2024-10-31) -- "Pile of Leaves" | 4481 |
| nebbiolo2 | Linux (Ubuntu 24.04.1 LTS) | x86_64 | 4.4.2 (2024-10-31) -- "Pile of Leaves" | 4479 |
| palomino8 | Windows Server 2022 Datacenter | x64 | 4.4.2 (2024-10-31 ucrt) -- "Pile of Leaves" | 4359 |
| lconway | macOS 12.7.1 Monterey | x86_64 | 4.4.1 (2024-06-14) -- "Race for Your Life" | 4539 |
| kunpeng2 | Linux (openEuler 22.03 LTS-SP1) | aarch64 | 4.4.1 (2024-06-14) -- "Race for Your Life" | 4493 |
| Click on any hostname to see more info about the system (e.g. compilers) (*) as reported by 'uname -p', except on Windows and Mac OS X | ||||
| Package 271/2289 | Hostname | OS / Arch | INSTALL | BUILD | CHECK | BUILD BIN | ||||||||
| cancerclass 1.50.0 (landing page) Daniel Kosztyla
| teran2 | Linux (Ubuntu 24.04.1 LTS) / x86_64 | OK | OK | OK | |||||||||
| nebbiolo2 | Linux (Ubuntu 24.04.1 LTS) / x86_64 | OK | OK | OK | ||||||||||
| palomino8 | Windows Server 2022 Datacenter / x64 | OK | OK | OK | OK | |||||||||
| lconway | macOS 12.7.1 Monterey / x86_64 | OK | OK | WARNINGS | OK | |||||||||
| kunpeng2 | Linux (openEuler 22.03 LTS-SP1) / aarch64 | OK | OK | OK | ||||||||||
|
To the developers/maintainers of the cancerclass package: - Allow up to 24 hours (and sometimes 48 hours) for your latest push to git@git.bioconductor.org:packages/cancerclass.git to reflect on this report. See Troubleshooting Build Report for more information. - Use the following Renviron settings to reproduce errors and warnings. - If 'R CMD check' started to fail recently on the Linux builder(s) over a missing dependency, add the missing dependency to 'Suggests:' in your DESCRIPTION file. See Renviron.bioc for more information. |
| Package: cancerclass |
| Version: 1.50.0 |
| Command: /home/biocbuild/bbs-3.20-bioc/R/bin/R CMD INSTALL cancerclass |
| StartedAt: 2024-11-19 15:20:56 -0500 (Tue, 19 Nov 2024) |
| EndedAt: 2024-11-19 15:21:00 -0500 (Tue, 19 Nov 2024) |
| EllapsedTime: 3.9 seconds |
| RetCode: 0 |
| Status: OK |
##############################################################################
##############################################################################
###
### Running command:
###
### /home/biocbuild/bbs-3.20-bioc/R/bin/R CMD INSTALL cancerclass
###
##############################################################################
##############################################################################
* installing to library ‘/media/volume/teran2_disk/biocbuild/bbs-3.20-bioc/R/site-library’
* installing *source* package ‘cancerclass’ ...
** using staged installation
** libs
using C compiler: ‘gcc (Ubuntu 13.2.0-23ubuntu4) 13.2.0’
gcc -I"/home/biocbuild/bbs-3.20-bioc/R/include" -DNDEBUG -I/usr/local/include -fpic -g -O2 -Wall -c copa.c -o copa.o
gcc -I"/home/biocbuild/bbs-3.20-bioc/R/include" -DNDEBUG -I/usr/local/include -fpic -g -O2 -Wall -c cor.c -o cor.o
gcc -I"/home/biocbuild/bbs-3.20-bioc/R/include" -DNDEBUG -I/usr/local/include -fpic -g -O2 -Wall -c fc.c -o fc.o
gcc -I"/home/biocbuild/bbs-3.20-bioc/R/include" -DNDEBUG -I/usr/local/include -fpic -g -O2 -Wall -c help.c -o help.o
help.c: In function ‘welch_df’:
help.c:263:19: warning: variable ‘mean2’ set but not used [-Wunused-but-set-variable]
263 | double mean1, mean2, var1, var2 = 0.0;
| ^~~~~
help.c:263:12: warning: variable ‘mean1’ set but not used [-Wunused-but-set-variable]
263 | double mean1, mean2, var1, var2 = 0.0;
| ^~~~~
help.c: In function ‘bsortdesc’:
help.c:344:13: warning: variable ‘anzahl’ set but not used [-Wunused-but-set-variable]
344 | int i,k,anzahl=0;
| ^~~~~~
help.c: In function ‘bsort’:
help.c:368:13: warning: variable ‘anzahl’ set but not used [-Wunused-but-set-variable]
368 | int i,k,anzahl=0;
| ^~~~~~
gcc -I"/home/biocbuild/bbs-3.20-bioc/R/include" -DNDEBUG -I/usr/local/include -fpic -g -O2 -Wall -c ort.c -o ort.o
gcc -I"/home/biocbuild/bbs-3.20-bioc/R/include" -DNDEBUG -I/usr/local/include -fpic -g -O2 -Wall -c os.c -o os.o
gcc -I"/home/biocbuild/bbs-3.20-bioc/R/include" -DNDEBUG -I/usr/local/include -fpic -g -O2 -Wall -c shift.c -o shift.o
gcc -I"/home/biocbuild/bbs-3.20-bioc/R/include" -DNDEBUG -I/usr/local/include -fpic -g -O2 -Wall -c statistics.c -o statistics.o
gcc -I"/home/biocbuild/bbs-3.20-bioc/R/include" -DNDEBUG -I/usr/local/include -fpic -g -O2 -Wall -c student.c -o student.o
gcc -I"/home/biocbuild/bbs-3.20-bioc/R/include" -DNDEBUG -I/usr/local/include -fpic -g -O2 -Wall -c throw.c -o throw.o
gcc -I"/home/biocbuild/bbs-3.20-bioc/R/include" -DNDEBUG -I/usr/local/include -fpic -g -O2 -Wall -c welch.c -o welch.o
gcc -I"/home/biocbuild/bbs-3.20-bioc/R/include" -DNDEBUG -I/usr/local/include -fpic -g -O2 -Wall -c wilcox.c -o wilcox.o
wilcox.c: In function ‘wilcoxon’:
wilcox.c:37:8: warning: variable ‘overall’ set but not used [-Wunused-but-set-variable]
37 | int overall = 0;
| ^~~~~~~
wilcox.c: In function ‘pwilcoxon’:
wilcox.c:75:8: warning: variable ‘overall’ set but not used [-Wunused-but-set-variable]
75 | int overall = 0;
| ^~~~~~~
gcc -shared -L/home/biocbuild/bbs-3.20-bioc/R/lib -L/usr/local/lib -o cancerclass.so copa.o cor.o fc.o help.o ort.o os.o shift.o statistics.o student.o throw.o welch.o wilcox.o -L/home/biocbuild/bbs-3.20-bioc/R/lib -lR
installing to /media/volume/teran2_disk/biocbuild/bbs-3.20-bioc/R/site-library/00LOCK-cancerclass/00new/cancerclass/libs
** R
** data
** byte-compile and prepare package for lazy loading
** help
*** installing help indices
** building package indices
** installing vignettes
** testing if installed package can be loaded from temporary location
** checking absolute paths in shared objects and dynamic libraries
** testing if installed package can be loaded from final location
** testing if installed package keeps a record of temporary installation path
* DONE (cancerclass)