| Back to Multiple platform build/check report for BioC 3.20: simplified long | 
 | 
This page was generated on 2025-04-02 19:35 -0400 (Wed, 02 Apr 2025).
| Hostname | OS | Arch (*) | R version | Installed pkgs | 
|---|---|---|---|---|
| nebbiolo2 | Linux (Ubuntu 24.04.1 LTS) | x86_64 | 4.4.3 (2025-02-28) -- "Trophy Case" | 4764 | 
| palomino8 | Windows Server 2022 Datacenter | x64 | 4.4.3 (2025-02-28 ucrt) -- "Trophy Case" | 4495 | 
| merida1 | macOS 12.7.5 Monterey | x86_64 | 4.4.3 (2025-02-28) -- "Trophy Case" | 4522 | 
| kjohnson1 | macOS 13.6.6 Ventura | arm64 | 4.4.3 (2025-02-28) -- "Trophy Case" | 4449 | 
| taishan | Linux (openEuler 24.03 LTS) | aarch64 | 4.4.3 (2025-02-28) -- "Trophy Case" | 4426 | 
| Click on any hostname to see more info about the system (e.g. compilers) (*) as reported by 'uname -p', except on Windows and Mac OS X | ||||
| Package 205/2289 | Hostname | OS / Arch | INSTALL | BUILD | CHECK | BUILD BIN | ||||||||
| Pierrick Roger 
 | nebbiolo2 | Linux (Ubuntu 24.04.1 LTS) / x86_64 | OK | OK | ERROR | |||||||||
| palomino8 | Windows Server 2022 Datacenter / x64 | OK | OK | ERROR | OK | |||||||||
| merida1 | macOS 12.7.5 Monterey / x86_64 | OK | OK | ERROR | OK | |||||||||
| kjohnson1 | macOS 13.6.6 Ventura / arm64 | OK | OK | ERROR | OK | |||||||||
| taishan | Linux (openEuler 24.03 LTS) / aarch64 | OK | OK | ERROR | ||||||||||
| To the developers/maintainers of the biodbKegg package: - Allow up to 24 hours (and sometimes 48 hours) for your latest push to git@git.bioconductor.org:packages/biodbKegg.git to reflect on this report. See Troubleshooting Build Report for more information. - Use the following Renviron settings to reproduce errors and warnings. - If 'R CMD check' started to fail recently on the Linux builder(s) over a missing dependency, add the missing dependency to 'Suggests:' in your DESCRIPTION file. See Renviron.bioc for more information. - See Martin Grigorov's blog post for how to debug Linux ARM64 related issues on a x86_64 host. | 
| Package: biodbKegg | 
| Version: 1.12.0 | 
| Command: /home/biocbuild/R/R/bin/R CMD check --install=check:biodbKegg.install-out.txt --library=/home/biocbuild/R/R/site-library --no-vignettes --timings biodbKegg_1.12.0.tar.gz | 
| StartedAt: 2025-04-01 04:18:56 -0000 (Tue, 01 Apr 2025) | 
| EndedAt: 2025-04-01 04:47:54 -0000 (Tue, 01 Apr 2025) | 
| EllapsedTime: 1737.4 seconds | 
| RetCode: 1 | 
| Status: ERROR | 
| CheckDir: biodbKegg.Rcheck | 
| Warnings: NA | 
##############################################################################
##############################################################################
###
### Running command:
###
###   /home/biocbuild/R/R/bin/R CMD check --install=check:biodbKegg.install-out.txt --library=/home/biocbuild/R/R/site-library --no-vignettes --timings biodbKegg_1.12.0.tar.gz
###
##############################################################################
##############################################################################
* using log directory ‘/home/biocbuild/bbs-3.20-bioc/meat/biodbKegg.Rcheck’
* using R version 4.4.3 (2025-02-28)
* using platform: aarch64-unknown-linux-gnu
* R was compiled by
    aarch64-unknown-linux-gnu-gcc (GCC) 14.2.0
    GNU Fortran (GCC) 14.2.0
* running under: openEuler 24.03 (LTS)
* using session charset: UTF-8
* using option ‘--no-vignettes’
* checking for file ‘biodbKegg/DESCRIPTION’ ... OK
* this is package ‘biodbKegg’ version ‘1.12.0’
* package encoding: UTF-8
* checking package namespace information ... OK
* checking package dependencies ... OK
* checking if this is a source package ... OK
* checking if there is a namespace ... OK
* checking for hidden files and directories ... OK
* checking for portable file names ... OK
* checking for sufficient/correct file permissions ... OK
* checking whether package ‘biodbKegg’ can be installed ... OK
* checking installed package size ... OK
* checking package directory ... OK
* checking DESCRIPTION meta-information ... OK
* checking top-level files ... OK
* checking for left-over files ... OK
* checking index information ... OK
* checking package subdirectories ... OK
* checking code files for non-ASCII characters ... OK
* checking R files for syntax errors ... OK
* checking whether the package can be loaded ... OK
* checking whether the package can be loaded with stated dependencies ... OK
* checking whether the package can be unloaded cleanly ... OK
* checking whether the namespace can be loaded with stated dependencies ... OK
* checking whether the namespace can be unloaded cleanly ... OK
* checking loading without being on the library search path ... OK
* checking whether startup messages can be suppressed ... OK
* checking dependencies in R code ... OK
* checking S3 generic/method consistency ... OK
* checking replacement functions ... OK
* checking foreign function calls ... OK
* checking R code for possible problems ... OK
* checking Rd files ... OK
* checking Rd metadata ... OK
* checking Rd cross-references ... OK
* checking for missing documentation entries ... OK
* checking for code/documentation mismatches ... OK
* checking Rd \usage sections ... OK
* checking Rd contents ... OK
* checking for unstated dependencies in examples ... OK
* checking files in ‘vignettes’ ... OK
* checking examples ... OK
Examples with CPU (user + system) or elapsed time > 5s
                  user system elapsed
KeggEnzymeConn   7.667  0.122   7.821
KeggCompoundConn 1.768  0.072   5.573
* checking for unstated dependencies in ‘tests’ ... OK
* checking tests ...
  Running ‘testthat.R’
 ERROR
Running the tests in ‘tests/testthat.R’ failed.
Last 13 lines of output:
  ── Failure ('test_700_reaction.R:16:1'): We can search for an entry by name. ───
  id %in% ids is not TRUE
  
  `actual`:   FALSE
  `expected`: TRUE 
  While searching for entry R00105 by name "ATP:NADH 2'-phosphotransferase".
  Backtrace:
      ▆
   1. ├─base::do.call(fct, params)
   2. └─biodb (local) `<fn>`(conn = `<KggRctnC>`, opt = `<named list>`)
   3.   └─testthat::expect_true(id %in% ids, msg)
  
  [ FAIL 13 | WARN 0 | SKIP 0 | PASS 1291 ]
  Error: Test failures
  Execution halted
* checking for unstated dependencies in vignettes ... OK
* checking package vignettes ... OK
* checking running R code from vignettes ... SKIPPED
* checking re-building of vignette outputs ... SKIPPED
* checking PDF version of manual ... OK
* DONE
Status: 1 ERROR
See
  ‘/home/biocbuild/bbs-3.20-bioc/meat/biodbKegg.Rcheck/00check.log’
for details.
biodbKegg.Rcheck/00install.out
############################################################################## ############################################################################## ### ### Running command: ### ### /home/biocbuild/R/R/bin/R CMD INSTALL biodbKegg ### ############################################################################## ############################################################################## * installing to library ‘/home/biocbuild/R/R-4.4.3/site-library’ * installing *source* package ‘biodbKegg’ ... ** using staged installation ** R ** inst ** byte-compile and prepare package for lazy loading ** help *** installing help indices ** building package indices ** installing vignettes ** testing if installed package can be loaded from temporary location Warning in fun(libname, pkgname) : Package 'biodbKegg' is deprecated and will be removed from Bioconductor version 3.21 ** testing if installed package can be loaded from final location Warning in fun(libname, pkgname) : Package 'biodbKegg' is deprecated and will be removed from Bioconductor version 3.21 ** testing if installed package keeps a record of temporary installation path * DONE (biodbKegg)
biodbKegg.Rcheck/tests/testthat.Rout.fail
R version 4.4.3 (2025-02-28) -- "Trophy Case"
Copyright (C) 2025 The R Foundation for Statistical Computing
Platform: aarch64-unknown-linux-gnu
R is free software and comes with ABSOLUTELY NO WARRANTY.
You are welcome to redistribute it under certain conditions.
Type 'license()' or 'licence()' for distribution details.
R is a collaborative project with many contributors.
Type 'contributors()' for more information and
'citation()' on how to cite R or R packages in publications.
Type 'demo()' for some demos, 'help()' for on-line help, or
'help.start()' for an HTML browser interface to help.
Type 'q()' to quit R.
> # vi: fdm=marker
> # Script needed to run testthat automatically from ‘R CMD check’. See
> # testthat::test_dir documentation.
> library(testthat)
> library(biodbKegg)
Warning message:
In fun(libname, pkgname) :
  Package 'biodbKegg' is deprecated and will be removed from Bioconductor
  version 3.21
> Sys.setenv(TESTTHAT_REPORTER = "summary")
> test_check("biodbKegg")
trying URL 'https://www.kegg.jp/kegg/pathway/map/map00260.png?1743482890785913'
downloaded 158 KB
[ FAIL 13 | WARN 0 | SKIP 0 | PASS 1291 ]
══ Failed tests ════════════════════════════════════════════════════════════════
── Failure ('test_100_compound.R:184:1'): ppm tolerance works in annotateMzValues() ──
c("mz", id.col) not identical to colnames(ret).
Lengths differ: 2 is not 1
Backtrace:
    ▆
 1. ├─base::do.call(fct, params)
 2. └─biodb (local) `<fn>`(conn = `<KggCmpnC>`, opt = `<named list>`)
 3.   └─testthat::expect_identical(c("mz", id.col), colnames(ret))
── Failure ('test_200_enzyme.R:79:1'): issue 340 is corrected. ─────────────────
all(right_pws %in% pws) is not TRUE
`actual`:   FALSE
`expected`: TRUE 
Backtrace:
    ▆
 1. ├─base::do.call(fct, params)
 2. └─biodbKegg (local) `<fn>`(conn = `<KggEnzyC>`)
 3.   └─testthat::expect_true(all(right_pws %in% pws)) at test_200_enzyme.R:34:5
── Failure ('test_300_genes.R:32:1'): We can search for an entry by searchable field ──
length(ids) > 0 is not TRUE
`actual`:   FALSE
`expected`: TRUE 
Backtrace:
    ▆
 1. ├─base::do.call(fct, params)
 2. └─biodb (local) `<fn>`(conn = `<KggGnsCn>`, opt = `<named list>`)
 3.   └─testthat::expect_true(length(ids) > 0)
── Failure ('test_300_genes.R:32:1'): We can search for an entry by searchable field ──
c(`mmu%3A14635` = "mmu:14635") %in% character(0) is not TRUE
`actual`:   FALSE
`expected`: TRUE 
Backtrace:
    ▆
 1. ├─base::do.call(fct, params)
 2. └─biodb (local) `<fn>`(conn = `<KggGnsCn>`, opt = `<named list>`)
 3.   └─testthat::expect_true(!!id %in% !!ids)
── Failure ('test_400_module.R:16:1'): We can search for an entry by searchable field ──
length(ids) > 0 is not TRUE
`actual`:   FALSE
`expected`: TRUE 
Backtrace:
    ▆
 1. ├─base::do.call(fct, params)
 2. └─biodb (local) `<fn>`(conn = `<KggMdlCn>`, opt = `<named list>`)
 3.   └─testthat::expect_true(length(ids) > 0)
── Failure ('test_400_module.R:16:1'): We can search for an entry by searchable field ──
c(M00009 = "M00009") %in% character(0) is not TRUE
`actual`:   FALSE
`expected`: TRUE 
Backtrace:
    ▆
 1. ├─base::do.call(fct, params)
 2. └─biodb (local) `<fn>`(conn = `<KggMdlCn>`, opt = `<named list>`)
 3.   └─testthat::expect_true(!!id %in% !!ids)
── Failure ('test_400_module.R:16:1'): We can search for an entry by name. ─────
length(ids) > 0 is not TRUE
`actual`:   FALSE
`expected`: TRUE 
While searching for entry M00009 by name "Citrate cycle (TCA cycle, Krebs cycle)".
Backtrace:
    ▆
 1. ├─base::do.call(fct, params)
 2. └─biodb (local) `<fn>`(conn = `<KggMdlCn>`, opt = `<named list>`)
 3.   └─testthat::expect_true(length(ids) > 0, msg)
── Failure ('test_400_module.R:16:1'): We can search for an entry by name. ─────
id %in% ids is not TRUE
`actual`:   FALSE
`expected`: TRUE 
While searching for entry M00009 by name "Citrate cycle (TCA cycle, Krebs cycle)".
Backtrace:
    ▆
 1. ├─base::do.call(fct, params)
 2. └─biodb (local) `<fn>`(conn = `<KggMdlCn>`, opt = `<named list>`)
 3.   └─testthat::expect_true(id %in% ids, msg)
── Failure ('test_600_pathway.R:103:1'): extractPathwayMapShapes() works correctly. ──
`shapes` has length 2, not length 1.
Backtrace:
    ▆
 1. ├─base::do.call(fct, params)
 2. └─biodbKegg (local) `<fn>`(conn = `<KggPthwC>`)
 3.   └─testthat::expect_length(shapes, items[[i]]) at test_600_pathway.R:68:9
── Failure ('test_700_reaction.R:16:1'): We can search for an entry by searchable field ──
length(ids) > 0 is not TRUE
`actual`:   FALSE
`expected`: TRUE 
Backtrace:
    ▆
 1. ├─base::do.call(fct, params)
 2. └─biodb (local) `<fn>`(conn = `<KggRctnC>`, opt = `<named list>`)
 3.   └─testthat::expect_true(length(ids) > 0)
── Failure ('test_700_reaction.R:16:1'): We can search for an entry by searchable field ──
c(R00105 = "R00105") %in% character(0) is not TRUE
`actual`:   FALSE
`expected`: TRUE 
Backtrace:
    ▆
 1. ├─base::do.call(fct, params)
 2. └─biodb (local) `<fn>`(conn = `<KggRctnC>`, opt = `<named list>`)
 3.   └─testthat::expect_true(!!id %in% !!ids)
── Failure ('test_700_reaction.R:16:1'): We can search for an entry by name. ───
length(ids) > 0 is not TRUE
`actual`:   FALSE
`expected`: TRUE 
While searching for entry R00105 by name "ATP:NADH 2'-phosphotransferase".
Backtrace:
    ▆
 1. ├─base::do.call(fct, params)
 2. └─biodb (local) `<fn>`(conn = `<KggRctnC>`, opt = `<named list>`)
 3.   └─testthat::expect_true(length(ids) > 0, msg)
── Failure ('test_700_reaction.R:16:1'): We can search for an entry by name. ───
id %in% ids is not TRUE
`actual`:   FALSE
`expected`: TRUE 
While searching for entry R00105 by name "ATP:NADH 2'-phosphotransferase".
Backtrace:
    ▆
 1. ├─base::do.call(fct, params)
 2. └─biodb (local) `<fn>`(conn = `<KggRctnC>`, opt = `<named list>`)
 3.   └─testthat::expect_true(id %in% ids, msg)
[ FAIL 13 | WARN 0 | SKIP 0 | PASS 1291 ]
Error: Test failures
Execution halted
biodbKegg.Rcheck/biodbKegg-Ex.timings
| name | user | system | elapsed | |
| KeggCircle | 0.007 | 0.003 | 0.009 | |
| KeggCompoundConn | 1.768 | 0.072 | 5.573 | |
| KeggCompoundEntry | 0.311 | 0.020 | 0.332 | |
| KeggConn | 0.242 | 0.012 | 0.256 | |
| KeggEntry | 0.253 | 0.003 | 0.257 | |
| KeggEnzymeConn | 7.667 | 0.122 | 7.821 | |
| KeggEnzymeEntry | 0.267 | 0.009 | 0.278 | |
| KeggGenesConn | 0.288 | 0.003 | 0.293 | |
| KeggGenesEntry | 0.305 | 0.000 | 0.310 | |
| KeggGlycanConn | 0.235 | 0.002 | 0.238 | |
| KeggGlycanEntry | 0.291 | 0.000 | 0.293 | |
| KeggModuleConn | 0.272 | 0.002 | 0.277 | |
| KeggModuleEntry | 0.291 | 0.000 | 0.291 | |
| KeggOrthologyConn | 0.427 | 0.018 | 0.447 | |
| KeggOrthologyEntry | 0.434 | 0.021 | 0.456 | |
| KeggPathwayConn | 1.803 | 0.030 | 1.856 | |
| KeggPathwayEntry | 0.279 | 0.000 | 0.280 | |
| KeggReactionConn | 0.259 | 0.000 | 0.259 | |
| KeggReactionEntry | 0.266 | 0.002 | 0.269 | |
| KeggRect | 0.004 | 0.000 | 0.004 | |
| KeggShape | 0.000 | 0.000 | 0.001 | |