| Back to Multiple platform build/check report for BioC 3.20: simplified long | 
 | 
This page was generated on 2024-11-20 12:05 -0500 (Wed, 20 Nov 2024).
| Hostname | OS | Arch (*) | R version | Installed pkgs | 
|---|---|---|---|---|
| teran2 | Linux (Ubuntu 24.04.1 LTS) | x86_64 | 4.4.2 (2024-10-31) -- "Pile of Leaves" | 4481 | 
| nebbiolo2 | Linux (Ubuntu 24.04.1 LTS) | x86_64 | 4.4.2 (2024-10-31) -- "Pile of Leaves" | 4479 | 
| palomino8 | Windows Server 2022 Datacenter | x64 | 4.4.2 (2024-10-31 ucrt) -- "Pile of Leaves" | 4359 | 
| lconway | macOS 12.7.1 Monterey | x86_64 | 4.4.1 (2024-06-14) -- "Race for Your Life" | 4539 | 
| kunpeng2 | Linux (openEuler 22.03 LTS-SP1) | aarch64 | 4.4.1 (2024-06-14) -- "Race for Your Life" | 4493 | 
| Click on any hostname to see more info about the system (e.g. compilers) (*) as reported by 'uname -p', except on Windows and Mac OS X | ||||
| Package 205/2289 | Hostname | OS / Arch | INSTALL | BUILD | CHECK | BUILD BIN | ||||||||
| Pierrick Roger 
 | teran2 | Linux (Ubuntu 24.04.1 LTS) / x86_64 | OK | OK | ERROR | |||||||||
| nebbiolo2 | Linux (Ubuntu 24.04.1 LTS) / x86_64 | OK | OK | ERROR | ||||||||||
| palomino8 | Windows Server 2022 Datacenter / x64 | OK | OK | ERROR | OK | |||||||||
| lconway | macOS 12.7.1 Monterey / x86_64 | OK | OK | ERROR | OK | |||||||||
| kunpeng2 | Linux (openEuler 22.03 LTS-SP1) / aarch64 | OK | OK | ERROR | ||||||||||
| To the developers/maintainers of the biodbKegg package: - Allow up to 24 hours (and sometimes 48 hours) for your latest push to git@git.bioconductor.org:packages/biodbKegg.git to reflect on this report. See Troubleshooting Build Report for more information. - Use the following Renviron settings to reproduce errors and warnings. - If 'R CMD check' started to fail recently on the Linux builder(s) over a missing dependency, add the missing dependency to 'Suggests:' in your DESCRIPTION file. See Renviron.bioc for more information. | 
| Package: biodbKegg | 
| Version: 1.12.0 | 
| Command: /Library/Frameworks/R.framework/Resources/bin/R CMD check --install=check:biodbKegg.install-out.txt --library=/Library/Frameworks/R.framework/Resources/library --no-vignettes --timings biodbKegg_1.12.0.tar.gz | 
| StartedAt: 2024-11-19 19:55:44 -0500 (Tue, 19 Nov 2024) | 
| EndedAt: 2024-11-19 20:20:56 -0500 (Tue, 19 Nov 2024) | 
| EllapsedTime: 1511.8 seconds | 
| RetCode: 1 | 
| Status: ERROR | 
| CheckDir: biodbKegg.Rcheck | 
| Warnings: NA | 
##############################################################################
##############################################################################
###
### Running command:
###
###   /Library/Frameworks/R.framework/Resources/bin/R CMD check --install=check:biodbKegg.install-out.txt --library=/Library/Frameworks/R.framework/Resources/library --no-vignettes --timings biodbKegg_1.12.0.tar.gz
###
##############################################################################
##############################################################################
* using log directory ‘/Users/biocbuild/bbs-3.20-bioc/meat/biodbKegg.Rcheck’
* using R version 4.4.1 (2024-06-14)
* using platform: x86_64-apple-darwin20
* R was compiled by
    Apple clang version 14.0.0 (clang-1400.0.29.202)
    GNU Fortran (GCC) 12.2.0
* running under: macOS Monterey 12.7.6
* using session charset: UTF-8
* using option ‘--no-vignettes’
* checking for file ‘biodbKegg/DESCRIPTION’ ... OK
* this is package ‘biodbKegg’ version ‘1.12.0’
* package encoding: UTF-8
* checking package namespace information ... OK
* checking package dependencies ...Warning: unable to access index for repository https://CRAN.R-project.org/src/contrib:
  cannot open URL 'https://CRAN.R-project.org/src/contrib/PACKAGES'
 OK
* checking if this is a source package ... OK
* checking if there is a namespace ... OK
* checking for hidden files and directories ... OK
* checking for portable file names ... OK
* checking for sufficient/correct file permissions ... OK
* checking whether package ‘biodbKegg’ can be installed ... OK
* checking installed package size ... OK
* checking package directory ... OK
* checking DESCRIPTION meta-information ... OK
* checking top-level files ... OK
* checking for left-over files ... OK
* checking index information ... OK
* checking package subdirectories ... OK
* checking code files for non-ASCII characters ... OK
* checking R files for syntax errors ... OK
* checking whether the package can be loaded ... OK
* checking whether the package can be loaded with stated dependencies ... OK
* checking whether the package can be unloaded cleanly ... OK
* checking whether the namespace can be loaded with stated dependencies ... OK
* checking whether the namespace can be unloaded cleanly ... OK
* checking whether startup messages can be suppressed ... OK
* checking dependencies in R code ... OK
* checking S3 generic/method consistency ... OK
* checking replacement functions ... OK
* checking foreign function calls ... OK
* checking R code for possible problems ... OK
* checking Rd files ... OK
* checking Rd metadata ... OK
* checking Rd cross-references ... OK
* checking for missing documentation entries ... OK
* checking for code/documentation mismatches ... OK
* checking Rd \usage sections ... OK
* checking Rd contents ... OK
* checking for unstated dependencies in examples ... OK
* checking files in ‘vignettes’ ... OK
* checking examples ... OK
Examples with CPU (user + system) or elapsed time > 5s
                  user system elapsed
KeggEnzymeConn   5.382  0.601  10.482
KeggCompoundConn 3.199  1.393  10.240
* checking for unstated dependencies in ‘tests’ ... OK
* checking tests ...
  Running ‘testthat.R’
 ERROR
Running the tests in ‘tests/testthat.R’ failed.
Last 13 lines of output:
  ── Failure ('test_700_reaction.R:16:1'): We can search for an entry by name. ───
  id %in% ids is not TRUE
  
  `actual`:   FALSE
  `expected`: TRUE 
  While searching for entry R00105 by name "ATP:NADH 2'-phosphotransferase".
  Backtrace:
      ▆
   1. ├─base::do.call(fct, params)
   2. └─biodb (local) `<fn>`(conn = `<KggRctnC>`, opt = `<named list>`)
   3.   └─testthat::expect_true(id %in% ids, msg)
  
  [ FAIL 12 | WARN 0 | SKIP 0 | PASS 1528 ]
  Error: Test failures
  Execution halted
* checking for unstated dependencies in vignettes ... OK
* checking package vignettes ... OK
* checking running R code from vignettes ... SKIPPED
* checking re-building of vignette outputs ... SKIPPED
* checking PDF version of manual ... OK
* DONE
Status: 1 ERROR
See
  ‘/Users/biocbuild/bbs-3.20-bioc/meat/biodbKegg.Rcheck/00check.log’
for details.
biodbKegg.Rcheck/00install.out
############################################################################## ############################################################################## ### ### Running command: ### ### /Library/Frameworks/R.framework/Resources/bin/R CMD INSTALL biodbKegg ### ############################################################################## ############################################################################## * installing to library ‘/Library/Frameworks/R.framework/Versions/4.4-x86_64/Resources/library’ * installing *source* package ‘biodbKegg’ ... ** using staged installation ** R ** inst ** byte-compile and prepare package for lazy loading ** help *** installing help indices ** building package indices ** installing vignettes ** testing if installed package can be loaded from temporary location Warning in fun(libname, pkgname) : Package 'biodbKegg' is deprecated and will be removed from Bioconductor version 3.21 ** testing if installed package can be loaded from final location Warning in fun(libname, pkgname) : Package 'biodbKegg' is deprecated and will be removed from Bioconductor version 3.21 ** testing if installed package keeps a record of temporary installation path * DONE (biodbKegg)
biodbKegg.Rcheck/tests/testthat.Rout.fail
R version 4.4.1 (2024-06-14) -- "Race for Your Life"
Copyright (C) 2024 The R Foundation for Statistical Computing
Platform: x86_64-apple-darwin20
R is free software and comes with ABSOLUTELY NO WARRANTY.
You are welcome to redistribute it under certain conditions.
Type 'license()' or 'licence()' for distribution details.
R is a collaborative project with many contributors.
Type 'contributors()' for more information and
'citation()' on how to cite R or R packages in publications.
Type 'demo()' for some demos, 'help()' for on-line help, or
'help.start()' for an HTML browser interface to help.
Type 'q()' to quit R.
> # vi: fdm=marker
> # Script needed to run testthat automatically from ‘R CMD check’. See
> # testthat::test_dir documentation.
> library(testthat)
> library(biodbKegg)
Warning message:
In fun(libname, pkgname) :
  Package 'biodbKegg' is deprecated and will be removed from Bioconductor
  version 3.21
> Sys.setenv(TESTTHAT_REPORTER = "summary")
> test_check("biodbKegg")
trying URL 'https://www.kegg.jp/kegg/pathway/map/map00260.png?17320655441545395'
downloaded 158 KB
[ FAIL 12 | WARN 0 | SKIP 0 | PASS 1528 ]
══ Failed tests ════════════════════════════════════════════════════════════════
── Failure ('test_100_compound.R:184:1'): ppm tolerance works in annotateMzValues() ──
c("mz", id.col) not identical to colnames(ret).
Lengths differ: 2 is not 1
Backtrace:
    ▆
 1. ├─base::do.call(fct, params)
 2. └─biodb (local) `<fn>`(conn = `<KggCmpnC>`, opt = `<named list>`)
 3.   └─testthat::expect_identical(c("mz", id.col), colnames(ret))
── Failure ('test_300_genes.R:32:1'): We can search for an entry by searchable field ──
length(ids) > 0 is not TRUE
`actual`:   FALSE
`expected`: TRUE 
Backtrace:
    ▆
 1. ├─base::do.call(fct, params)
 2. └─biodb (local) `<fn>`(conn = `<KggGnsCn>`, opt = `<named list>`)
 3.   └─testthat::expect_true(length(ids) > 0)
── Failure ('test_300_genes.R:32:1'): We can search for an entry by searchable field ──
c(`mmu%3A14635` = "mmu:14635") %in% character(0) is not TRUE
`actual`:   FALSE
`expected`: TRUE 
Backtrace:
    ▆
 1. ├─base::do.call(fct, params)
 2. └─biodb (local) `<fn>`(conn = `<KggGnsCn>`, opt = `<named list>`)
 3.   └─testthat::expect_true(!!id %in% !!ids)
── Failure ('test_400_module.R:16:1'): We can search for an entry by searchable field ──
length(ids) > 0 is not TRUE
`actual`:   FALSE
`expected`: TRUE 
Backtrace:
    ▆
 1. ├─base::do.call(fct, params)
 2. └─biodb (local) `<fn>`(conn = `<KggMdlCn>`, opt = `<named list>`)
 3.   └─testthat::expect_true(length(ids) > 0)
── Failure ('test_400_module.R:16:1'): We can search for an entry by searchable field ──
c(M00009 = "M00009") %in% character(0) is not TRUE
`actual`:   FALSE
`expected`: TRUE 
Backtrace:
    ▆
 1. ├─base::do.call(fct, params)
 2. └─biodb (local) `<fn>`(conn = `<KggMdlCn>`, opt = `<named list>`)
 3.   └─testthat::expect_true(!!id %in% !!ids)
── Failure ('test_400_module.R:16:1'): We can search for an entry by name. ─────
length(ids) > 0 is not TRUE
`actual`:   FALSE
`expected`: TRUE 
While searching for entry M00009 by name "Citrate cycle (TCA cycle, Krebs cycle)".
Backtrace:
    ▆
 1. ├─base::do.call(fct, params)
 2. └─biodb (local) `<fn>`(conn = `<KggMdlCn>`, opt = `<named list>`)
 3.   └─testthat::expect_true(length(ids) > 0, msg)
── Failure ('test_400_module.R:16:1'): We can search for an entry by name. ─────
id %in% ids is not TRUE
`actual`:   FALSE
`expected`: TRUE 
While searching for entry M00009 by name "Citrate cycle (TCA cycle, Krebs cycle)".
Backtrace:
    ▆
 1. ├─base::do.call(fct, params)
 2. └─biodb (local) `<fn>`(conn = `<KggMdlCn>`, opt = `<named list>`)
 3.   └─testthat::expect_true(id %in% ids, msg)
── Failure ('test_600_pathway.R:103:1'): extractPathwayMapShapes() works correctly. ──
`shapes` has length 2, not length 1.
Backtrace:
    ▆
 1. ├─base::do.call(fct, params)
 2. └─biodbKegg (local) `<fn>`(conn = `<KggPthwC>`)
 3.   └─testthat::expect_length(shapes, items[[i]]) at test_600_pathway.R:68:9
── Failure ('test_700_reaction.R:16:1'): We can search for an entry by searchable field ──
length(ids) > 0 is not TRUE
`actual`:   FALSE
`expected`: TRUE 
Backtrace:
    ▆
 1. ├─base::do.call(fct, params)
 2. └─biodb (local) `<fn>`(conn = `<KggRctnC>`, opt = `<named list>`)
 3.   └─testthat::expect_true(length(ids) > 0)
── Failure ('test_700_reaction.R:16:1'): We can search for an entry by searchable field ──
c(R00105 = "R00105") %in% character(0) is not TRUE
`actual`:   FALSE
`expected`: TRUE 
Backtrace:
    ▆
 1. ├─base::do.call(fct, params)
 2. └─biodb (local) `<fn>`(conn = `<KggRctnC>`, opt = `<named list>`)
 3.   └─testthat::expect_true(!!id %in% !!ids)
── Failure ('test_700_reaction.R:16:1'): We can search for an entry by name. ───
length(ids) > 0 is not TRUE
`actual`:   FALSE
`expected`: TRUE 
While searching for entry R00105 by name "ATP:NADH 2'-phosphotransferase".
Backtrace:
    ▆
 1. ├─base::do.call(fct, params)
 2. └─biodb (local) `<fn>`(conn = `<KggRctnC>`, opt = `<named list>`)
 3.   └─testthat::expect_true(length(ids) > 0, msg)
── Failure ('test_700_reaction.R:16:1'): We can search for an entry by name. ───
id %in% ids is not TRUE
`actual`:   FALSE
`expected`: TRUE 
While searching for entry R00105 by name "ATP:NADH 2'-phosphotransferase".
Backtrace:
    ▆
 1. ├─base::do.call(fct, params)
 2. └─biodb (local) `<fn>`(conn = `<KggRctnC>`, opt = `<named list>`)
 3.   └─testthat::expect_true(id %in% ids, msg)
[ FAIL 12 | WARN 0 | SKIP 0 | PASS 1528 ]
Error: Test failures
Execution halted
biodbKegg.Rcheck/biodbKegg-Ex.timings
| name | user | system | elapsed | |
| KeggCircle | 0.010 | 0.003 | 0.012 | |
| KeggCompoundConn | 3.199 | 1.393 | 10.240 | |
| KeggCompoundEntry | 0.306 | 0.025 | 0.471 | |
| KeggConn | 0.288 | 0.029 | 0.436 | |
| KeggEntry | 0.284 | 0.030 | 0.572 | |
| KeggEnzymeConn | 5.382 | 0.601 | 10.482 | |
| KeggEnzymeEntry | 0.337 | 0.032 | 0.475 | |
| KeggGenesConn | 0.377 | 0.042 | 0.665 | |
| KeggGenesEntry | 0.353 | 0.017 | 0.381 | |
| KeggGlycanConn | 0.340 | 0.016 | 0.374 | |
| KeggGlycanEntry | 0.377 | 0.018 | 0.412 | |
| KeggModuleConn | 0.514 | 0.028 | 0.564 | |
| KeggModuleEntry | 0.320 | 0.014 | 0.351 | |
| KeggOrthologyConn | 0.459 | 0.030 | 2.556 | |
| KeggOrthologyEntry | 0.434 | 0.054 | 0.828 | |
| KeggPathwayConn | 1.244 | 0.033 | 1.322 | |
| KeggPathwayEntry | 0.300 | 0.017 | 0.329 | |
| KeggReactionConn | 0.323 | 0.015 | 0.354 | |
| KeggReactionEntry | 0.320 | 0.016 | 0.349 | |
| KeggRect | 0.003 | 0.000 | 0.002 | |
| KeggShape | 0.001 | 0.001 | 0.001 | |