| Back to Multiple platform build/check report for BioC 3.20: simplified long | 
 | 
This page was generated on 2024-11-20 12:01 -0500 (Wed, 20 Nov 2024).
| Hostname | OS | Arch (*) | R version | Installed pkgs | 
|---|---|---|---|---|
| teran2 | Linux (Ubuntu 24.04.1 LTS) | x86_64 | 4.4.2 (2024-10-31) -- "Pile of Leaves" | 4481 | 
| nebbiolo2 | Linux (Ubuntu 24.04.1 LTS) | x86_64 | 4.4.2 (2024-10-31) -- "Pile of Leaves" | 4479 | 
| palomino8 | Windows Server 2022 Datacenter | x64 | 4.4.2 (2024-10-31 ucrt) -- "Pile of Leaves" | 4359 | 
| lconway | macOS 12.7.1 Monterey | x86_64 | 4.4.1 (2024-06-14) -- "Race for Your Life" | 4539 | 
| kunpeng2 | Linux (openEuler 22.03 LTS-SP1) | aarch64 | 4.4.1 (2024-06-14) -- "Race for Your Life" | 4493 | 
| Click on any hostname to see more info about the system (e.g. compilers) (*) as reported by 'uname -p', except on Windows and Mac OS X | ||||
| Package 41/2289 | Hostname | OS / Arch | INSTALL | BUILD | CHECK | BUILD BIN | ||||||||
| alabaster.base 1.6.1  (landing page) Aaron Lun 
 | teran2 | Linux (Ubuntu 24.04.1 LTS) / x86_64 | OK | OK | WARNINGS |  | ||||||||
| nebbiolo2 | Linux (Ubuntu 24.04.1 LTS) / x86_64 | OK | OK | WARNINGS | ||||||||||
| palomino8 | Windows Server 2022 Datacenter / x64 | OK | OK | OK | OK |  | ||||||||
| lconway | macOS 12.7.1 Monterey / x86_64 | OK | OK | WARNINGS | OK |  | ||||||||
| kunpeng2 | Linux (openEuler 22.03 LTS-SP1) / aarch64 | OK | OK | WARNINGS | ||||||||||
| To the developers/maintainers of the alabaster.base package: - Allow up to 24 hours (and sometimes 48 hours) for your latest push to git@git.bioconductor.org:packages/alabaster.base.git to reflect on this report. See Troubleshooting Build Report for more information. - Use the following Renviron settings to reproduce errors and warnings. - If 'R CMD check' started to fail recently on the Linux builder(s) over a missing dependency, add the missing dependency to 'Suggests:' in your DESCRIPTION file. See Renviron.bioc for more information. | 
| Package: alabaster.base | 
| Version: 1.6.1 | 
| Command: /home/biocbuild/bbs-3.20-bioc/R/bin/R CMD INSTALL alabaster.base | 
| StartedAt: 2024-11-19 15:32:12 -0500 (Tue, 19 Nov 2024) | 
| EndedAt: 2024-11-19 15:33:29 -0500 (Tue, 19 Nov 2024) | 
| EllapsedTime: 76.7 seconds | 
| RetCode: 0 | 
| Status: OK | 
##############################################################################
##############################################################################
###
### Running command:
###
###   /home/biocbuild/bbs-3.20-bioc/R/bin/R CMD INSTALL alabaster.base
###
##############################################################################
##############################################################################
* installing to library ‘/media/volume/teran2_disk/biocbuild/bbs-3.20-bioc/R/site-library’
* installing *source* package ‘alabaster.base’ ...
** using staged installation
** libs
using C++ compiler: ‘g++ (Ubuntu 13.2.0-23ubuntu4) 13.2.0’
using C++17
g++ -std=gnu++17 -I"/home/biocbuild/bbs-3.20-bioc/R/include" -DNDEBUG -I../inst/include -I'/media/volume/teran2_disk/biocbuild/bbs-3.20-bioc/R/site-library/Rcpp/include' -I'/media/volume/teran2_disk/biocbuild/bbs-3.20-bioc/R/site-library/Rhdf5lib/include' -I/usr/local/include    -fpic  -g -O2  -Wall  -c RcppExports.cpp -o RcppExports.o
g++ -std=gnu++17 -I"/home/biocbuild/bbs-3.20-bioc/R/include" -DNDEBUG -I../inst/include -I'/media/volume/teran2_disk/biocbuild/bbs-3.20-bioc/R/site-library/Rcpp/include' -I'/media/volume/teran2_disk/biocbuild/bbs-3.20-bioc/R/site-library/Rhdf5lib/include' -I/usr/local/include    -fpic  -g -O2  -Wall  -c check_csv.cpp -o check_csv.o
g++ -std=gnu++17 -I"/home/biocbuild/bbs-3.20-bioc/R/include" -DNDEBUG -I../inst/include -I'/media/volume/teran2_disk/biocbuild/bbs-3.20-bioc/R/site-library/Rcpp/include' -I'/media/volume/teran2_disk/biocbuild/bbs-3.20-bioc/R/site-library/Rhdf5lib/include' -I/usr/local/include    -fpic  -g -O2  -Wall  -c check_list.cpp -o check_list.o
g++ -std=gnu++17 -I"/home/biocbuild/bbs-3.20-bioc/R/include" -DNDEBUG -I../inst/include -I'/media/volume/teran2_disk/biocbuild/bbs-3.20-bioc/R/site-library/Rcpp/include' -I'/media/volume/teran2_disk/biocbuild/bbs-3.20-bioc/R/site-library/Rhdf5lib/include' -I/usr/local/include    -fpic  -g -O2  -Wall  -c choose_numeric_missing_placeholder.cpp -o choose_numeric_missing_placeholder.o
g++ -std=gnu++17 -I"/home/biocbuild/bbs-3.20-bioc/R/include" -DNDEBUG -I../inst/include -I'/media/volume/teran2_disk/biocbuild/bbs-3.20-bioc/R/site-library/Rcpp/include' -I'/media/volume/teran2_disk/biocbuild/bbs-3.20-bioc/R/site-library/Rhdf5lib/include' -I/usr/local/include    -fpic  -g -O2  -Wall  -c is_rfc3339.cpp -o is_rfc3339.o
g++ -std=gnu++17 -I"/home/biocbuild/bbs-3.20-bioc/R/include" -DNDEBUG -I../inst/include -I'/media/volume/teran2_disk/biocbuild/bbs-3.20-bioc/R/site-library/Rcpp/include' -I'/media/volume/teran2_disk/biocbuild/bbs-3.20-bioc/R/site-library/Rhdf5lib/include' -I/usr/local/include    -fpic  -g -O2  -Wall  -c load_csv.cpp -o load_csv.o
g++ -std=gnu++17 -I"/home/biocbuild/bbs-3.20-bioc/R/include" -DNDEBUG -I../inst/include -I'/media/volume/teran2_disk/biocbuild/bbs-3.20-bioc/R/site-library/Rcpp/include' -I'/media/volume/teran2_disk/biocbuild/bbs-3.20-bioc/R/site-library/Rhdf5lib/include' -I/usr/local/include    -fpic  -g -O2  -Wall  -c load_list.cpp -o load_list.o
g++ -std=gnu++17 -I"/home/biocbuild/bbs-3.20-bioc/R/include" -DNDEBUG -I../inst/include -I'/media/volume/teran2_disk/biocbuild/bbs-3.20-bioc/R/site-library/Rcpp/include' -I'/media/volume/teran2_disk/biocbuild/bbs-3.20-bioc/R/site-library/Rhdf5lib/include' -I/usr/local/include    -fpic  -g -O2  -Wall  -c validate.cpp -o validate.o
In file included from ../inst/include/chihaya/validate.hpp:13,
                 from ../inst/include/chihaya/chihaya.hpp:10,
                 from ../inst/include/takane/utils_public.hpp:13,
                 from ../inst/include/takane/_validate.hpp:9,
                 from ../inst/include/takane/takane.hpp:4,
                 from validate.cpp:2:
../inst/include/chihaya/sparse_matrix.hpp: In function ‘void chihaya::sparse_matrix::internal::validate_indices(const H5::DataSet&, const std::vector<long unsigned int>&, size_t, size_t, bool) [with Index_ = long unsigned int]’:
../inst/include/chihaya/sparse_matrix.hpp:51:32: warning: ‘previous’ may be used uninitialized [-Wmaybe-uninitialized]
   51 |             if (x > start && i <= previous) {
      |                              ~~^~~~~~~~~~~
../inst/include/chihaya/sparse_matrix.hpp:45:16: note: ‘previous’ was declared here
   45 |         Index_ previous;
      |                ^~~~~~~~
../inst/include/chihaya/sparse_matrix.hpp: In function ‘void chihaya::sparse_matrix::internal::validate_indices(const H5::DataSet&, const std::vector<long unsigned int>&, size_t, size_t, bool) [with Index_ = int]’:
../inst/include/chihaya/sparse_matrix.hpp:51:32: warning: ‘previous’ may be used uninitialized [-Wmaybe-uninitialized]
   51 |             if (x > start && i <= previous) {
      |                              ~~^~~~~~~~~~~
../inst/include/chihaya/sparse_matrix.hpp:45:16: note: ‘previous’ was declared here
   45 |         Index_ previous;
      |                ^~~~~~~~
g++ -std=gnu++17 -shared -L/home/biocbuild/bbs-3.20-bioc/R/lib -L/usr/local/lib -o alabaster.base.so RcppExports.o check_csv.o check_list.o choose_numeric_missing_placeholder.o is_rfc3339.o load_csv.o load_list.o validate.o /media/volume/teran2_disk/biocbuild/bbs-3.20-bioc/R/site-library/Rhdf5lib/lib/libhdf5_cpp.a /media/volume/teran2_disk/biocbuild/bbs-3.20-bioc/R/site-library/Rhdf5lib/lib/libhdf5.a -L/media/volume/teran2_disk/biocbuild/bbs-3.20-bioc/R/site-library/Rhdf5lib/lib -lcrypto -lcurl -lsz -laec -lz -ldl -lm -lz -L/home/biocbuild/bbs-3.20-bioc/R/lib -lR
installing to /media/volume/teran2_disk/biocbuild/bbs-3.20-bioc/R/site-library/00LOCK-alabaster.base/00new/alabaster.base/libs
** R
** inst
** byte-compile and prepare package for lazy loading
** help
*** installing help indices
** building package indices
** installing vignettes
** testing if installed package can be loaded from temporary location
** checking absolute paths in shared objects and dynamic libraries
** testing if installed package can be loaded from final location
** testing if installed package keeps a record of temporary installation path
* DONE (alabaster.base)