| Back to Multiple platform build/check report for BioC 3.20: simplified long | 
 | 
This page was generated on 2025-04-02 19:33 -0400 (Wed, 02 Apr 2025).
| Hostname | OS | Arch (*) | R version | Installed pkgs | 
|---|---|---|---|---|
| nebbiolo2 | Linux (Ubuntu 24.04.1 LTS) | x86_64 | 4.4.3 (2025-02-28) -- "Trophy Case" | 4764 | 
| palomino8 | Windows Server 2022 Datacenter | x64 | 4.4.3 (2025-02-28 ucrt) -- "Trophy Case" | 4495 | 
| merida1 | macOS 12.7.5 Monterey | x86_64 | 4.4.3 (2025-02-28) -- "Trophy Case" | 4522 | 
| kjohnson1 | macOS 13.6.6 Ventura | arm64 | 4.4.3 (2025-02-28) -- "Trophy Case" | 4449 | 
| taishan | Linux (openEuler 24.03 LTS) | aarch64 | 4.4.3 (2025-02-28) -- "Trophy Case" | 4426 | 
| Click on any hostname to see more info about the system (e.g. compilers) (*) as reported by 'uname -p', except on Windows and Mac OS X | ||||
| Package 2156/2289 | Hostname | OS / Arch | INSTALL | BUILD | CHECK | BUILD BIN | ||||||||
| TitanCNA 1.44.0  (landing page) Gavin Ha 
 | nebbiolo2 | Linux (Ubuntu 24.04.1 LTS) / x86_64 | OK | OK | WARNINGS |  | ||||||||
| palomino8 | Windows Server 2022 Datacenter / x64 | OK | OK | WARNINGS | OK |  | ||||||||
| merida1 | macOS 12.7.5 Monterey / x86_64 | OK | OK | WARNINGS | OK |  | ||||||||
| kjohnson1 | macOS 13.6.6 Ventura / arm64 | OK | OK | WARNINGS | OK |  | ||||||||
| taishan | Linux (openEuler 24.03 LTS) / aarch64 | OK | OK | WARNINGS | ||||||||||
| To the developers/maintainers of the TitanCNA package: - Allow up to 24 hours (and sometimes 48 hours) for your latest push to git@git.bioconductor.org:packages/TitanCNA.git to reflect on this report. See Troubleshooting Build Report for more information. - Use the following Renviron settings to reproduce errors and warnings. - If 'R CMD check' started to fail recently on the Linux builder(s) over a missing dependency, add the missing dependency to 'Suggests:' in your DESCRIPTION file. See Renviron.bioc for more information. | 
| Package: TitanCNA | 
| Version: 1.44.0 | 
| Command: /Library/Frameworks/R.framework/Resources/bin/R CMD INSTALL TitanCNA | 
| StartedAt: 2025-03-31 15:39:05 -0400 (Mon, 31 Mar 2025) | 
| EndedAt: 2025-03-31 15:40:39 -0400 (Mon, 31 Mar 2025) | 
| EllapsedTime: 93.3 seconds | 
| RetCode: 0 | 
| Status: OK | 
##############################################################################
##############################################################################
###
### Running command:
###
###   /Library/Frameworks/R.framework/Resources/bin/R CMD INSTALL TitanCNA
###
##############################################################################
##############################################################################
* installing to library ‘/Library/Frameworks/R.framework/Versions/4.4-x86_64/Resources/library’
* installing *source* package ‘TitanCNA’ ...
** using staged installation
** libs
using C compiler: ‘Apple clang version 14.0.0 (clang-1400.0.29.202)’
using SDK: ‘MacOSX11.3.sdk’
clang -arch x86_64 -I"/Library/Frameworks/R.framework/Resources/include" -DNDEBUG   -I/opt/R/x86_64/include    -fPIC  -falign-functions=64 -Wall -g -O2  -c fwd_backC_clonalCN.c -o fwd_backC_clonalCN.o
fwd_backC_clonalCN.c:257:21: warning: equality comparison with extraneous parentheses [-Wparentheses-equality]
            if ((iZS==jZS)){
                 ~~~^~~~~
fwd_backC_clonalCN.c:257:21: note: remove extraneous parentheses around the comparison to silence this warning
            if ((iZS==jZS)){
                ~   ^    ~
fwd_backC_clonalCN.c:257:21: note: use '=' to turn this equality comparison into an assignment
            if ((iZS==jZS)){
                    ^~
                    =
1 warning generated.
clang -arch x86_64 -I"/Library/Frameworks/R.framework/Resources/include" -DNDEBUG   -I/opt/R/x86_64/include    -fPIC  -falign-functions=64 -Wall -g -O2  -c getPositionOverlapC.c -o getPositionOverlapC.o
clang -arch x86_64 -I"/Library/Frameworks/R.framework/Resources/include" -DNDEBUG   -I/opt/R/x86_64/include    -fPIC  -falign-functions=64 -Wall -g -O2  -c register.c -o register.o
clang -arch x86_64 -I"/Library/Frameworks/R.framework/Resources/include" -DNDEBUG   -I/opt/R/x86_64/include    -fPIC  -falign-functions=64 -Wall -g -O2  -c viterbiC_clonalCN.c -o viterbiC_clonalCN.o
clang -arch x86_64 -dynamiclib -Wl,-headerpad_max_install_names -undefined dynamic_lookup -L/Library/Frameworks/R.framework/Resources/lib -L/opt/R/x86_64/lib -o TitanCNA.so fwd_backC_clonalCN.o getPositionOverlapC.o register.o viterbiC_clonalCN.o -F/Library/Frameworks/R.framework/.. -framework R -Wl,-framework -Wl,CoreFoundation
installing to /Library/Frameworks/R.framework/Versions/4.4-x86_64/Resources/library/00LOCK-TitanCNA/00new/TitanCNA/libs
** R
** data
** inst
** byte-compile and prepare package for lazy loading
Warning: replacing previous import ‘GenomicRanges::shift’ by ‘data.table::shift’ when loading ‘TitanCNA’
Warning: replacing previous import ‘data.table::first’ by ‘dplyr::first’ when loading ‘TitanCNA’
Warning: replacing previous import ‘IRanges::desc’ by ‘dplyr::desc’ when loading ‘TitanCNA’
Warning: replacing previous import ‘IRanges::slice’ by ‘dplyr::slice’ when loading ‘TitanCNA’
Warning: replacing previous import ‘GenomeInfoDb::intersect’ by ‘dplyr::intersect’ when loading ‘TitanCNA’
Warning: replacing previous import ‘data.table::last’ by ‘dplyr::last’ when loading ‘TitanCNA’
Warning: replacing previous import ‘GenomicRanges::union’ by ‘dplyr::union’ when loading ‘TitanCNA’
Warning: replacing previous import ‘data.table::between’ by ‘dplyr::between’ when loading ‘TitanCNA’
Warning: replacing previous import ‘BiocGenerics::combine’ by ‘dplyr::combine’ when loading ‘TitanCNA’
Warning: replacing previous import ‘IRanges::collapse’ by ‘dplyr::collapse’ when loading ‘TitanCNA’
Warning: replacing previous import ‘GenomicRanges::setdiff’ by ‘dplyr::setdiff’ when loading ‘TitanCNA’
Warning: replacing previous import ‘dplyr::select’ by ‘VariantAnnotation::select’ when loading ‘TitanCNA’
** help
*** installing help indices
** building package indices
** installing vignettes
** testing if installed package can be loaded from temporary location
Warning: replacing previous import ‘GenomicRanges::shift’ by ‘data.table::shift’ when loading ‘TitanCNA’
Warning: replacing previous import ‘data.table::first’ by ‘dplyr::first’ when loading ‘TitanCNA’
Warning: replacing previous import ‘IRanges::desc’ by ‘dplyr::desc’ when loading ‘TitanCNA’
Warning: replacing previous import ‘IRanges::slice’ by ‘dplyr::slice’ when loading ‘TitanCNA’
Warning: replacing previous import ‘GenomeInfoDb::intersect’ by ‘dplyr::intersect’ when loading ‘TitanCNA’
Warning: replacing previous import ‘data.table::last’ by ‘dplyr::last’ when loading ‘TitanCNA’
Warning: replacing previous import ‘GenomicRanges::union’ by ‘dplyr::union’ when loading ‘TitanCNA’
Warning: replacing previous import ‘data.table::between’ by ‘dplyr::between’ when loading ‘TitanCNA’
Warning: replacing previous import ‘BiocGenerics::combine’ by ‘dplyr::combine’ when loading ‘TitanCNA’
Warning: replacing previous import ‘IRanges::collapse’ by ‘dplyr::collapse’ when loading ‘TitanCNA’
Warning: replacing previous import ‘GenomicRanges::setdiff’ by ‘dplyr::setdiff’ when loading ‘TitanCNA’
Warning: replacing previous import ‘dplyr::select’ by ‘VariantAnnotation::select’ when loading ‘TitanCNA’
** checking absolute paths in shared objects and dynamic libraries
** testing if installed package can be loaded from final location
Warning: replacing previous import ‘GenomicRanges::shift’ by ‘data.table::shift’ when loading ‘TitanCNA’
Warning: replacing previous import ‘data.table::first’ by ‘dplyr::first’ when loading ‘TitanCNA’
Warning: replacing previous import ‘IRanges::desc’ by ‘dplyr::desc’ when loading ‘TitanCNA’
Warning: replacing previous import ‘IRanges::slice’ by ‘dplyr::slice’ when loading ‘TitanCNA’
Warning: replacing previous import ‘GenomeInfoDb::intersect’ by ‘dplyr::intersect’ when loading ‘TitanCNA’
Warning: replacing previous import ‘data.table::last’ by ‘dplyr::last’ when loading ‘TitanCNA’
Warning: replacing previous import ‘GenomicRanges::union’ by ‘dplyr::union’ when loading ‘TitanCNA’
Warning: replacing previous import ‘data.table::between’ by ‘dplyr::between’ when loading ‘TitanCNA’
Warning: replacing previous import ‘BiocGenerics::combine’ by ‘dplyr::combine’ when loading ‘TitanCNA’
Warning: replacing previous import ‘IRanges::collapse’ by ‘dplyr::collapse’ when loading ‘TitanCNA’
Warning: replacing previous import ‘GenomicRanges::setdiff’ by ‘dplyr::setdiff’ when loading ‘TitanCNA’
Warning: replacing previous import ‘dplyr::select’ by ‘VariantAnnotation::select’ when loading ‘TitanCNA’
** testing if installed package keeps a record of temporary installation path
* DONE (TitanCNA)