| Back to Multiple platform build/check report for BioC 3.20: simplified long |
|
This page was generated on 2024-11-20 12:08 -0500 (Wed, 20 Nov 2024).
| Hostname | OS | Arch (*) | R version | Installed pkgs |
|---|---|---|---|---|
| teran2 | Linux (Ubuntu 24.04.1 LTS) | x86_64 | 4.4.2 (2024-10-31) -- "Pile of Leaves" | 4481 |
| nebbiolo2 | Linux (Ubuntu 24.04.1 LTS) | x86_64 | 4.4.2 (2024-10-31) -- "Pile of Leaves" | 4479 |
| palomino8 | Windows Server 2022 Datacenter | x64 | 4.4.2 (2024-10-31 ucrt) -- "Pile of Leaves" | 4359 |
| lconway | macOS 12.7.1 Monterey | x86_64 | 4.4.1 (2024-06-14) -- "Race for Your Life" | 4539 |
| kunpeng2 | Linux (openEuler 22.03 LTS-SP1) | aarch64 | 4.4.1 (2024-06-14) -- "Race for Your Life" | 4493 |
| Click on any hostname to see more info about the system (e.g. compilers) (*) as reported by 'uname -p', except on Windows and Mac OS X | ||||
| Package 1979/2289 | Hostname | OS / Arch | INSTALL | BUILD | CHECK | BUILD BIN | ||||||||
| SingleR 2.8.0 (landing page) Aaron Lun
| teran2 | Linux (Ubuntu 24.04.1 LTS) / x86_64 | OK | OK | OK | |||||||||
| nebbiolo2 | Linux (Ubuntu 24.04.1 LTS) / x86_64 | OK | OK | OK | ||||||||||
| palomino8 | Windows Server 2022 Datacenter / x64 | OK | OK | OK | OK | |||||||||
| lconway | macOS 12.7.1 Monterey / x86_64 | OK | OK | OK | OK | |||||||||
| kunpeng2 | Linux (openEuler 22.03 LTS-SP1) / aarch64 | OK | OK | OK | ||||||||||
|
To the developers/maintainers of the SingleR package: - Allow up to 24 hours (and sometimes 48 hours) for your latest push to git@git.bioconductor.org:packages/SingleR.git to reflect on this report. See Troubleshooting Build Report for more information. - Use the following Renviron settings to reproduce errors and warnings. - If 'R CMD check' started to fail recently on the Linux builder(s) over a missing dependency, add the missing dependency to 'Suggests:' in your DESCRIPTION file. See Renviron.bioc for more information. - See Martin Grigorov's blog post for how to debug Linux ARM64 related issues on a x86_64 host. |
| Package: SingleR |
| Version: 2.8.0 |
| Command: /home/biocbuild/R/R/bin/R CMD INSTALL SingleR |
| StartedAt: 2024-11-19 21:22:48 -0000 (Tue, 19 Nov 2024) |
| EndedAt: 2024-11-19 21:24:33 -0000 (Tue, 19 Nov 2024) |
| EllapsedTime: 104.8 seconds |
| RetCode: 0 |
| Status: OK |
##############################################################################
##############################################################################
###
### Running command:
###
### /home/biocbuild/R/R/bin/R CMD INSTALL SingleR
###
##############################################################################
##############################################################################
* installing to library ‘/home/biocbuild/R/R-4.4.1/site-library’
* installing *source* package ‘SingleR’ ...
** using staged installation
** libs
using C++ compiler: ‘g++ (conda-forge gcc 14.2.0-1) 14.2.0’
using C++17
g++ -std=gnu++17 -I"/home/biocbuild/R/R-4.4.1/include" -DNDEBUG -I'/home/biocbuild/R/R-4.4.1/site-library/Rcpp/include' -I'/home/biocbuild/R/R-4.4.1/site-library/beachmat/include' -I'/home/biocbuild/R/R-4.4.1/site-library/assorthead/include' -I'/home/biocbuild/R/R-4.4.1/site-library/BiocNeighbors/include' -I/usr/local/include -fPIC -g -O2 -Wall -c RcppExports.cpp -o RcppExports.o
g++ -std=gnu++17 -I"/home/biocbuild/R/R-4.4.1/include" -DNDEBUG -I'/home/biocbuild/R/R-4.4.1/site-library/Rcpp/include' -I'/home/biocbuild/R/R-4.4.1/site-library/beachmat/include' -I'/home/biocbuild/R/R-4.4.1/site-library/assorthead/include' -I'/home/biocbuild/R/R-4.4.1/site-library/BiocNeighbors/include' -I/usr/local/include -fPIC -g -O2 -Wall -c classify_integrated.cpp -o classify_integrated.o
g++ -std=gnu++17 -I"/home/biocbuild/R/R-4.4.1/include" -DNDEBUG -I'/home/biocbuild/R/R-4.4.1/site-library/Rcpp/include' -I'/home/biocbuild/R/R-4.4.1/site-library/beachmat/include' -I'/home/biocbuild/R/R-4.4.1/site-library/assorthead/include' -I'/home/biocbuild/R/R-4.4.1/site-library/BiocNeighbors/include' -I/usr/local/include -fPIC -g -O2 -Wall -c classify_single.cpp -o classify_single.o
g++ -std=gnu++17 -I"/home/biocbuild/R/R-4.4.1/include" -DNDEBUG -I'/home/biocbuild/R/R-4.4.1/site-library/Rcpp/include' -I'/home/biocbuild/R/R-4.4.1/site-library/beachmat/include' -I'/home/biocbuild/R/R-4.4.1/site-library/assorthead/include' -I'/home/biocbuild/R/R-4.4.1/site-library/BiocNeighbors/include' -I/usr/local/include -fPIC -g -O2 -Wall -c find_classic_markers.cpp -o find_classic_markers.o
g++ -std=gnu++17 -I"/home/biocbuild/R/R-4.4.1/include" -DNDEBUG -I'/home/biocbuild/R/R-4.4.1/site-library/Rcpp/include' -I'/home/biocbuild/R/R-4.4.1/site-library/beachmat/include' -I'/home/biocbuild/R/R-4.4.1/site-library/assorthead/include' -I'/home/biocbuild/R/R-4.4.1/site-library/BiocNeighbors/include' -I/usr/local/include -fPIC -g -O2 -Wall -c grouped_medians.cpp -o grouped_medians.o
g++ -std=gnu++17 -I"/home/biocbuild/R/R-4.4.1/include" -DNDEBUG -I'/home/biocbuild/R/R-4.4.1/site-library/Rcpp/include' -I'/home/biocbuild/R/R-4.4.1/site-library/beachmat/include' -I'/home/biocbuild/R/R-4.4.1/site-library/assorthead/include' -I'/home/biocbuild/R/R-4.4.1/site-library/BiocNeighbors/include' -I/usr/local/include -fPIC -g -O2 -Wall -c train_integrated.cpp -o train_integrated.o
g++ -std=gnu++17 -I"/home/biocbuild/R/R-4.4.1/include" -DNDEBUG -I'/home/biocbuild/R/R-4.4.1/site-library/Rcpp/include' -I'/home/biocbuild/R/R-4.4.1/site-library/beachmat/include' -I'/home/biocbuild/R/R-4.4.1/site-library/assorthead/include' -I'/home/biocbuild/R/R-4.4.1/site-library/BiocNeighbors/include' -I/usr/local/include -fPIC -g -O2 -Wall -c train_single.cpp -o train_single.o
train_single.cpp: In function 'SEXPREC* train_single(Rcpp::IntegerVector, Rcpp::RObject, Rcpp::IntegerVector, Rcpp::IntegerVector, Rcpp::List, Rcpp::RObject, int)':
train_single.cpp:19:9: warning: unused variable 'NR' [-Wunused-variable]
19 | int NR = parsed->ptr->nrow();
| ^~
g++ -std=gnu++17 -shared -L/home/biocbuild/R/R-4.4.1/lib -L/usr/local/lib -o SingleR.so RcppExports.o classify_integrated.o classify_single.o find_classic_markers.o grouped_medians.o train_integrated.o train_single.o -L/home/biocbuild/R/R-4.4.1/lib -lR
installing to /home/biocbuild/R/R-4.4.1/site-library/00LOCK-SingleR/00new/SingleR/libs
** R
** inst
** byte-compile and prepare package for lazy loading
** help
*** installing help indices
** building package indices
** installing vignettes
** testing if installed package can be loaded from temporary location
** checking absolute paths in shared objects and dynamic libraries
** testing if installed package can be loaded from final location
** testing if installed package keeps a record of temporary installation path
* DONE (SingleR)