| Back to Multiple platform build/check report for BioC 3.20: simplified long | 
 | 
This page was generated on 2025-04-02 19:36 -0400 (Wed, 02 Apr 2025).
| Hostname | OS | Arch (*) | R version | Installed pkgs | 
|---|---|---|---|---|
| nebbiolo2 | Linux (Ubuntu 24.04.1 LTS) | x86_64 | 4.4.3 (2025-02-28) -- "Trophy Case" | 4764 | 
| palomino8 | Windows Server 2022 Datacenter | x64 | 4.4.3 (2025-02-28 ucrt) -- "Trophy Case" | 4495 | 
| merida1 | macOS 12.7.5 Monterey | x86_64 | 4.4.3 (2025-02-28) -- "Trophy Case" | 4522 | 
| kjohnson1 | macOS 13.6.6 Ventura | arm64 | 4.4.3 (2025-02-28) -- "Trophy Case" | 4449 | 
| taishan | Linux (openEuler 24.03 LTS) | aarch64 | 4.4.3 (2025-02-28) -- "Trophy Case" | 4426 | 
| Click on any hostname to see more info about the system (e.g. compilers) (*) as reported by 'uname -p', except on Windows and Mac OS X | ||||
| Package 1944/2289 | Hostname | OS / Arch | INSTALL | BUILD | CHECK | BUILD BIN | ||||||||
| SharedObject 1.20.0  (landing page) Jiefei Wang 
 | nebbiolo2 | Linux (Ubuntu 24.04.1 LTS) / x86_64 | OK | OK | WARNINGS |  | ||||||||
| palomino8 | Windows Server 2022 Datacenter / x64 | OK | OK | OK | OK |  | ||||||||
| merida1 | macOS 12.7.5 Monterey / x86_64 | OK | OK | WARNINGS | OK |  | ||||||||
| kjohnson1 | macOS 13.6.6 Ventura / arm64 | OK | OK | WARNINGS | OK |  | ||||||||
| taishan | Linux (openEuler 24.03 LTS) / aarch64 | OK | OK | WARNINGS | ||||||||||
| To the developers/maintainers of the SharedObject package: - Allow up to 24 hours (and sometimes 48 hours) for your latest push to git@git.bioconductor.org:packages/SharedObject.git to reflect on this report. See Troubleshooting Build Report for more information. - Use the following Renviron settings to reproduce errors and warnings. - If 'R CMD check' started to fail recently on the Linux builder(s) over a missing dependency, add the missing dependency to 'Suggests:' in your DESCRIPTION file. See Renviron.bioc for more information. - See Martin Grigorov's blog post for how to debug Linux ARM64 related issues on a x86_64 host. | 
| Package: SharedObject | 
| Version: 1.20.0 | 
| Command: /home/biocbuild/R/R/bin/R CMD INSTALL SharedObject | 
| StartedAt: 2025-03-31 20:12:38 -0000 (Mon, 31 Mar 2025) | 
| EndedAt: 2025-03-31 20:13:25 -0000 (Mon, 31 Mar 2025) | 
| EllapsedTime: 46.9 seconds | 
| RetCode: 0 | 
| Status: OK | 
##############################################################################
##############################################################################
###
### Running command:
###
###   /home/biocbuild/R/R/bin/R CMD INSTALL SharedObject
###
##############################################################################
##############################################################################
* installing to library ‘/home/biocbuild/R/R-4.4.3/site-library’
* installing *source* package ‘SharedObject’ ...
** using staged installation
checking for gcc... /opt/ohpc/pub/compiler/gcc/14.2.0/bin/aarch64-unknown-linux-gnu-gcc
checking whether the C compiler works... yes
checking for C compiler default output file name... a.out
checking for suffix of executables... 
checking whether we are cross compiling... no
checking for suffix of object files... o
checking whether we are using the GNU C compiler... yes
checking whether /opt/ohpc/pub/compiler/gcc/14.2.0/bin/aarch64-unknown-linux-gnu-gcc accepts -g... yes
checking for /opt/ohpc/pub/compiler/gcc/14.2.0/bin/aarch64-unknown-linux-gnu-gcc option to accept ISO C89... none needed
checking for shm_open in -lrt... yes
configure: creating ./config.status
config.status: creating src/Makevars
** libs
using C++ compiler: ‘aarch64-unknown-linux-gnu-g++ (GCC) 14.2.0’
using C++11
/opt/ohpc/pub/compiler/gcc/14.2.0/bin/aarch64-unknown-linux-gnu-g++ -std=gnu++11 -I"/home/biocbuild/R/R-4.4.3/include" -DNDEBUG  -I'/home/biocbuild/R/R-4.4.3/site-library/BH/include' -I'/home/biocbuild/R/R-4.4.3/site-library/Rcpp/include' -I/usr/local/include    -fPIC  -g -O2  -Wall  -c C_interface.cpp -o C_interface.o
/opt/ohpc/pub/compiler/gcc/14.2.0/bin/aarch64-unknown-linux-gnu-g++ -std=gnu++11 -I"/home/biocbuild/R/R-4.4.3/include" -DNDEBUG  -I'/home/biocbuild/R/R-4.4.3/site-library/BH/include' -I'/home/biocbuild/R/R-4.4.3/site-library/Rcpp/include' -I/usr/local/include    -fPIC  -g -O2  -Wall  -c RcppExports.cpp -o RcppExports.o
/opt/ohpc/pub/compiler/gcc/14.2.0/bin/aarch64-unknown-linux-gnu-g++ -std=gnu++11 -I"/home/biocbuild/R/R-4.4.3/include" -DNDEBUG  -I'/home/biocbuild/R/R-4.4.3/site-library/BH/include' -I'/home/biocbuild/R/R-4.4.3/site-library/Rcpp/include' -I/usr/local/include    -fPIC  -g -O2  -Wall  -c altrep.cpp -o altrep.o
altrep.cpp: In function ‘SEXPREC* createSharedStringFromSource(SEXP, bool, SEXP)’:
altrep.cpp:146:69: warning: format ‘%llu’ expects argument of type ‘long long unsigned int’, but argument 2 has type ‘long unsigned int’ [-Wformat=]
  146 |                 Rf_error("Something is wrong with the unit size: %llu\n", unitSize);
      |                                                                  ~~~^     ~~~~~~~~
      |                                                                     |     |
      |                                                                     |     long unsigned int
      |                                                                     long long unsigned int
      |                                                                  %lu
altrep.cpp: In function ‘SEXPREC* unshareString(SEXP, SEXP)’:
altrep.cpp:241:98: warning: format ‘%llu’ expects argument of type ‘long long unsigned int’, but argument 2 has type ‘size_t’ {aka ‘long unsigned int’} [-Wformat=]
  241 |                         Rf_error("Unknown unit size in the unshareString function, unit size: %llu", (uint64_t)unitSize);
      |                                                                                               ~~~^   ~~~~~~~~~~~~~~~~~~
      |                                                                                                  |   |
      |                                                                                                  |   size_t {aka long unsigned int}
      |                                                                                                  long long unsigned int
      |                                                                                               %lu
/opt/ohpc/pub/compiler/gcc/14.2.0/bin/aarch64-unknown-linux-gnu-g++ -std=gnu++11 -I"/home/biocbuild/R/R-4.4.3/include" -DNDEBUG  -I'/home/biocbuild/R/R-4.4.3/site-library/BH/include' -I'/home/biocbuild/R/R-4.4.3/site-library/Rcpp/include' -I/usr/local/include    -fPIC  -g -O2  -Wall  -c altrepRegistration.cpp -o altrepRegistration.o
/opt/ohpc/pub/compiler/gcc/14.2.0/bin/aarch64-unknown-linux-gnu-g++ -std=gnu++11 -I"/home/biocbuild/R/R-4.4.3/include" -DNDEBUG  -I'/home/biocbuild/R/R-4.4.3/site-library/BH/include' -I'/home/biocbuild/R/R-4.4.3/site-library/Rcpp/include' -I/usr/local/include    -fPIC  -g -O2  -Wall  -c numericAltrepOperations.cpp -o numericAltrepOperations.o
numericAltrepOperations.cpp: In function ‘Rboolean sharedVector_Inspect(SEXP, int, int, int, void (*)(SEXP, int, int, int))’:
numericAltrepOperations.cpp:13:27: warning: format ‘%llu’ expects argument of type ‘long long unsigned int’, but argument 2 has type ‘R_xlen_t’ {aka ‘long int’} [-Wformat=]
   13 |         Rprintf(" (len=%llu, type=%d, COW=%d, SC=%d, SS=%d) shared object ID:%s\n", Rf_xlength(x), TYPEOF(x),
      |                        ~~~^                                                         ~~~~~~~~~~~~~
      |                           |                                                                   |
      |                           long long unsigned int                                              R_xlen_t {aka long int}
      |                        %lu
/opt/ohpc/pub/compiler/gcc/14.2.0/bin/aarch64-unknown-linux-gnu-g++ -std=gnu++11 -I"/home/biocbuild/R/R-4.4.3/include" -DNDEBUG  -I'/home/biocbuild/R/R-4.4.3/site-library/BH/include' -I'/home/biocbuild/R/R-4.4.3/site-library/Rcpp/include' -I/usr/local/include    -fPIC  -g -O2  -Wall  -c sharedMemory.cpp -o sharedMemory.o
/opt/ohpc/pub/compiler/gcc/14.2.0/bin/aarch64-unknown-linux-gnu-g++ -std=gnu++11 -I"/home/biocbuild/R/R-4.4.3/include" -DNDEBUG  -I'/home/biocbuild/R/R-4.4.3/site-library/BH/include' -I'/home/biocbuild/R/R-4.4.3/site-library/Rcpp/include' -I/usr/local/include    -fPIC  -g -O2  -Wall  -c sharedObjectClass.cpp -o sharedObjectClass.o
sharedObjectClass.cpp: In function ‘void validate_shared_memory(std::string, boost::interprocess::shared_memory_object*)’:
sharedObjectClass.cpp:73:14: warning: comparison of integer expressions of different signedness: ‘boost::interprocess::offset_t’ {aka ‘long int’} and ‘size_t’ {aka ‘long unsigned int’} [-Wsign-compare]
   73 |     if (size > free_size)
      |         ~~~~~^~~~~~~~~~~
sharedObjectClass.cpp:93:62: warning: format ‘%llu’ expects argument of type ‘long long unsigned int’, but argument 3 has type ‘uint64_t’ {aka ‘long unsigned int’} [-Wformat=]
   93 |             "Testing shared memory failed, key: %s, size: %lluB.\n"
      |                                                           ~~~^
      |                                                              |
      |                                                              long long unsigned int
      |                                                           %lu
......
   96 |             key.c_str(), (uint64_t)size);
      |                          ~~~~~~~~~~~~~~                       
      |                          |
      |                          uint64_t {aka long unsigned int}
In function ‘uint64_t get_size(boost::interprocess::shared_memory_object*)’,
    inlined from ‘void SharedObjectClass::openSharedMemoryHandle()’ at sharedObjectClass.cpp:121:20:
sharedObjectClass.cpp:29:12: warning: ‘size’ may be used uninitialized [-Wmaybe-uninitialized]
   29 |     return size;
      |            ^~~~
sharedObjectClass.cpp: In member function ‘void SharedObjectClass::openSharedMemoryHandle()’:
sharedObjectClass.cpp:27:14: note: ‘size’ was declared here
   27 |     offset_t size;
      |              ^~~~
In function ‘uint64_t get_size(boost::interprocess::shared_memory_object*)’,
    inlined from ‘size_t SharedObjectClass::getSharedMemorySize()’ at sharedObjectClass.cpp:148:28:
sharedObjectClass.cpp:29:12: warning: ‘size’ may be used uninitialized [-Wmaybe-uninitialized]
   29 |     return size;
      |            ^~~~
sharedObjectClass.cpp: In member function ‘size_t SharedObjectClass::getSharedMemorySize()’:
sharedObjectClass.cpp:27:14: note: ‘size’ was declared here
   27 |     offset_t size;
      |              ^~~~
In function ‘uint64_t get_size(boost::interprocess::shared_memory_object*)’,
    inlined from ‘size_t SharedObjectClass::getSharedMemorySize()’ at sharedObjectClass.cpp:141:24:
sharedObjectClass.cpp:29:12: warning: ‘size’ may be used uninitialized [-Wmaybe-uninitialized]
   29 |     return size;
      |            ^~~~
sharedObjectClass.cpp: In member function ‘size_t SharedObjectClass::getSharedMemorySize()’:
sharedObjectClass.cpp:27:14: note: ‘size’ was declared here
   27 |     offset_t size;
      |              ^~~~
In function ‘uint64_t get_size(boost::interprocess::shared_memory_object*)’,
    inlined from ‘void SharedObjectClass::allocateSharedMemory()’ at sharedObjectClass.cpp:228:20:
sharedObjectClass.cpp:29:12: warning: ‘size’ may be used uninitialized [-Wmaybe-uninitialized]
   29 |     return size;
      |            ^~~~
sharedObjectClass.cpp: In member function ‘void SharedObjectClass::allocateSharedMemory()’:
sharedObjectClass.cpp:27:14: note: ‘size’ was declared here
   27 |     offset_t size;
      |              ^~~~
/opt/ohpc/pub/compiler/gcc/14.2.0/bin/aarch64-unknown-linux-gnu-g++ -std=gnu++11 -I"/home/biocbuild/R/R-4.4.3/include" -DNDEBUG  -I'/home/biocbuild/R/R-4.4.3/site-library/BH/include' -I'/home/biocbuild/R/R-4.4.3/site-library/Rcpp/include' -I/usr/local/include    -fPIC  -g -O2  -Wall  -c stringAltrepOperations.cpp -o stringAltrepOperations.o
stringAltrepOperations.cpp: In function ‘Rboolean sharedString_Inspect(SEXP, int, int, int, void (*)(SEXP, int, int, int))’:
stringAltrepOperations.cpp:13:23: warning: format ‘%llu’ expects argument of type ‘long long unsigned int’, but argument 2 has type ‘R_xlen_t’ {aka ‘long int’} [-Wformat=]
   13 |     Rprintf(" (len=%llu, COW=%d) shared string object\n", Rf_xlength(x),
      |                    ~~~^                                   ~~~~~~~~~~~~~
      |                       |                                             |
      |                       long long unsigned int                        R_xlen_t {aka long int}
      |                    %lu
/opt/ohpc/pub/compiler/gcc/14.2.0/bin/aarch64-unknown-linux-gnu-g++ -std=gnu++11 -I"/home/biocbuild/R/R-4.4.3/include" -DNDEBUG  -I'/home/biocbuild/R/R-4.4.3/site-library/BH/include' -I'/home/biocbuild/R/R-4.4.3/site-library/Rcpp/include' -I/usr/local/include    -fPIC  -g -O2  -Wall  -c utils.cpp -o utils.o
/opt/ohpc/pub/compiler/gcc/14.2.0/bin/aarch64-unknown-linux-gnu-g++ -std=gnu++11 -shared -L/home/biocbuild/R/R-4.4.3/lib -L/usr/local/lib -o SharedObject.so C_interface.o RcppExports.o altrep.o altrepRegistration.o numericAltrepOperations.o sharedMemory.o sharedObjectClass.o stringAltrepOperations.o utils.o -lrt -L/home/biocbuild/R/R-4.4.3/lib -lR
mkdir -p ../inst/include&&\
 mkdir -p ../inst/include/SharedObject&&\
 mkdir -p ../inst/usrlib
ar -crv SharedObject.a C_interface.o RcppExports.o altrep.o altrepRegistration.o numericAltrepOperations.o sharedMemory.o sharedObjectClass.o stringAltrepOperations.o utils.o
a - C_interface.o
a - RcppExports.o
a - altrep.o
a - altrepRegistration.o
a - numericAltrepOperations.o
a - sharedMemory.o
a - sharedObjectClass.o
a - stringAltrepOperations.o
a - utils.o
cp "sharedMemory.h" "../inst/include/SharedObject/"&&\
 cp SharedObject.a "../inst/usrlib/"
installing to /home/biocbuild/R/R-4.4.3/site-library/00LOCK-SharedObject/00new/SharedObject/libs
** R
** inst
** byte-compile and prepare package for lazy loading
** help
*** installing help indices
** building package indices
** installing vignettes
** testing if installed package can be loaded from temporary location
** checking absolute paths in shared objects and dynamic libraries
** testing if installed package can be loaded from final location
** testing if installed package keeps a record of temporary installation path
* DONE (SharedObject)