| Back to Multiple platform build/check report for BioC 3.20: simplified long |
|
This page was generated on 2024-11-20 12:02 -0500 (Wed, 20 Nov 2024).
| Hostname | OS | Arch (*) | R version | Installed pkgs |
|---|---|---|---|---|
| teran2 | Linux (Ubuntu 24.04.1 LTS) | x86_64 | 4.4.2 (2024-10-31) -- "Pile of Leaves" | 4481 |
| nebbiolo2 | Linux (Ubuntu 24.04.1 LTS) | x86_64 | 4.4.2 (2024-10-31) -- "Pile of Leaves" | 4479 |
| palomino8 | Windows Server 2022 Datacenter | x64 | 4.4.2 (2024-10-31 ucrt) -- "Pile of Leaves" | 4359 |
| lconway | macOS 12.7.1 Monterey | x86_64 | 4.4.1 (2024-06-14) -- "Race for Your Life" | 4539 |
| kunpeng2 | Linux (openEuler 22.03 LTS-SP1) | aarch64 | 4.4.1 (2024-06-14) -- "Race for Your Life" | 4493 |
| Click on any hostname to see more info about the system (e.g. compilers) (*) as reported by 'uname -p', except on Windows and Mac OS X | ||||
| Package 1890/2289 | Hostname | OS / Arch | INSTALL | BUILD | CHECK | BUILD BIN | ||||||||
| Sconify 1.26.0 (landing page) Tyler J Burns
| teran2 | Linux (Ubuntu 24.04.1 LTS) / x86_64 | OK | OK | OK | |||||||||
| nebbiolo2 | Linux (Ubuntu 24.04.1 LTS) / x86_64 | OK | OK | OK | ||||||||||
| palomino8 | Windows Server 2022 Datacenter / x64 | OK | OK | OK | OK | |||||||||
| lconway | macOS 12.7.1 Monterey / x86_64 | OK | OK | OK | OK | |||||||||
| kunpeng2 | Linux (openEuler 22.03 LTS-SP1) / aarch64 | OK | OK | OK | ||||||||||
|
To the developers/maintainers of the Sconify package: - Allow up to 24 hours (and sometimes 48 hours) for your latest push to git@git.bioconductor.org:packages/Sconify.git to reflect on this report. See Troubleshooting Build Report for more information. - Use the following Renviron settings to reproduce errors and warnings. - If 'R CMD check' started to fail recently on the Linux builder(s) over a missing dependency, add the missing dependency to 'Suggests:' in your DESCRIPTION file. See Renviron.bioc for more information. |
| Package: Sconify |
| Version: 1.26.0 |
| Command: /home/biocbuild/bbs-3.20-bioc/R/bin/R CMD check --install=check:Sconify.install-out.txt --library=/home/biocbuild/bbs-3.20-bioc/R/site-library --timings Sconify_1.26.0.tar.gz |
| StartedAt: 2024-11-20 09:18:28 -0500 (Wed, 20 Nov 2024) |
| EndedAt: 2024-11-20 09:20:35 -0500 (Wed, 20 Nov 2024) |
| EllapsedTime: 127.5 seconds |
| RetCode: 0 |
| Status: OK |
| CheckDir: Sconify.Rcheck |
| Warnings: 0 |
##############################################################################
##############################################################################
###
### Running command:
###
### /home/biocbuild/bbs-3.20-bioc/R/bin/R CMD check --install=check:Sconify.install-out.txt --library=/home/biocbuild/bbs-3.20-bioc/R/site-library --timings Sconify_1.26.0.tar.gz
###
##############################################################################
##############################################################################
* using log directory ‘/media/volume/teran2_disk/biocbuild/bbs-3.20-bioc/meat/Sconify.Rcheck’
* using R version 4.4.2 (2024-10-31)
* using platform: x86_64-pc-linux-gnu
* R was compiled by
gcc (Ubuntu 13.2.0-23ubuntu4) 13.2.0
GNU Fortran (Ubuntu 13.2.0-23ubuntu4) 13.2.0
* running under: Ubuntu 24.04.1 LTS
* using session charset: UTF-8
* checking for file ‘Sconify/DESCRIPTION’ ... OK
* checking extension type ... Package
* this is package ‘Sconify’ version ‘1.26.0’
* package encoding: UTF-8
* checking package namespace information ... OK
* checking package dependencies ... OK
* checking if this is a source package ... OK
* checking if there is a namespace ... OK
* checking for hidden files and directories ... OK
* checking for portable file names ... OK
* checking for sufficient/correct file permissions ... OK
* checking whether package ‘Sconify’ can be installed ... OK
* checking installed package size ... OK
* checking package directory ... OK
* checking ‘build’ directory ... OK
* checking DESCRIPTION meta-information ... OK
* checking top-level files ... OK
* checking for left-over files ... OK
* checking index information ... OK
* checking package subdirectories ... OK
* checking code files for non-ASCII characters ... OK
* checking R files for syntax errors ... OK
* checking whether the package can be loaded ... OK
* checking whether the package can be loaded with stated dependencies ... OK
* checking whether the package can be unloaded cleanly ... OK
* checking whether the namespace can be loaded with stated dependencies ... OK
* checking whether the namespace can be unloaded cleanly ... OK
* checking loading without being on the library search path ... OK
* checking dependencies in R code ... OK
* checking S3 generic/method consistency ... OK
* checking replacement functions ... OK
* checking foreign function calls ... OK
* checking R code for possible problems ... OK
* checking Rd files ... OK
* checking Rd metadata ... OK
* checking Rd cross-references ... OK
* checking for missing documentation entries ... OK
* checking for code/documentation mismatches ... OK
* checking Rd \usage sections ... OK
* checking Rd contents ... OK
* checking for unstated dependencies in examples ... OK
* checking contents of ‘data’ directory ... OK
* checking data for non-ASCII characters ... OK
* checking LazyData ... OK
* checking data for ASCII and uncompressed saves ... OK
* checking files in ‘vignettes’ ... OK
* checking examples ... OK
Examples with CPU (user + system) or elapsed time > 5s
user system elapsed
SconeValues 8.744 0.06 9.431
* checking for unstated dependencies in ‘tests’ ... OK
* checking tests ...
Running ‘testthat.R’
OK
* checking for unstated dependencies in vignettes ... OK
* checking package vignettes ... OK
* checking re-building of vignette outputs ... OK
* checking PDF version of manual ... OK
* DONE
Status: OK
Sconify.Rcheck/00install.out
############################################################################## ############################################################################## ### ### Running command: ### ### /home/biocbuild/bbs-3.20-bioc/R/bin/R CMD INSTALL Sconify ### ############################################################################## ############################################################################## * installing to library ‘/media/volume/teran2_disk/biocbuild/bbs-3.20-bioc/R/site-library’ * installing *source* package ‘Sconify’ ... ** using staged installation ** R ** data *** moving datasets to lazyload DB ** inst ** byte-compile and prepare package for lazy loading Note: wrong number of arguments to '/' Note: wrong number of arguments to 'asinh' ** help *** installing help indices ** building package indices ** installing vignettes ** testing if installed package can be loaded from temporary location ** testing if installed package can be loaded from final location ** testing if installed package keeps a record of temporary installation path * DONE (Sconify)
Sconify.Rcheck/tests/testthat.Rout
R version 4.4.2 (2024-10-31) -- "Pile of Leaves"
Copyright (C) 2024 The R Foundation for Statistical Computing
Platform: x86_64-pc-linux-gnu
R is free software and comes with ABSOLUTELY NO WARRANTY.
You are welcome to redistribute it under certain conditions.
Type 'license()' or 'licence()' for distribution details.
R is a collaborative project with many contributors.
Type 'contributors()' for more information and
'citation()' on how to cite R or R packages in publications.
Type 'demo()' for some demos, 'help()' for on-line help, or
'help.start()' for an HTML browser interface to help.
Type 'q()' to quit R.
> library(testthat)
> library(Sconify)
>
> test_check("Sconify")
Read the 100 x 27 data matrix successfully!
OpenMP is working. 1 threads.
Using no_dims = 2, perplexity = 30.000000, and theta = 0.500000
Computing input similarities...
Building tree...
Done in 0.00 seconds (sparsity = 0.967000)!
Learning embedding...
Iteration 50: error is 51.981246 (50 iterations in 0.01 seconds)
Iteration 100: error is 52.001550 (50 iterations in 0.01 seconds)
Iteration 150: error is 54.118323 (50 iterations in 0.01 seconds)
Iteration 200: error is 51.429055 (50 iterations in 0.01 seconds)
Iteration 250: error is 54.562744 (50 iterations in 0.01 seconds)
Iteration 300: error is 1.412899 (50 iterations in 0.01 seconds)
Iteration 350: error is 0.882229 (50 iterations in 0.00 seconds)
Iteration 400: error is 0.280937 (50 iterations in 0.01 seconds)
Iteration 450: error is 0.228461 (50 iterations in 0.01 seconds)
Iteration 500: error is 0.193760 (50 iterations in 0.01 seconds)
Iteration 550: error is 0.191656 (50 iterations in 0.01 seconds)
Iteration 600: error is 0.190544 (50 iterations in 0.01 seconds)
Iteration 650: error is 0.189118 (50 iterations in 0.01 seconds)
Iteration 700: error is 0.191576 (50 iterations in 0.01 seconds)
Iteration 750: error is 0.190330 (50 iterations in 0.01 seconds)
Iteration 800: error is 0.190712 (50 iterations in 0.01 seconds)
Iteration 850: error is 0.191936 (50 iterations in 0.01 seconds)
Iteration 900: error is 0.189731 (50 iterations in 0.01 seconds)
Iteration 950: error is 0.189877 (50 iterations in 0.01 seconds)
Iteration 1000: error is 0.190198 (50 iterations in 0.01 seconds)
Fitting performed in 0.12 seconds.
Read the 1000 x 27 data matrix successfully!
OpenMP is working. 1 threads.
Using no_dims = 2, perplexity = 30.000000, and theta = 0.500000
Computing input similarities...
Building tree...
Done in 0.08 seconds (sparsity = 0.129120)!
Learning embedding...
Iteration 50: error is 64.164460 (50 iterations in 0.52 seconds)
Iteration 100: error is 60.839824 (50 iterations in 0.18 seconds)
Iteration 150: error is 60.361277 (50 iterations in 0.17 seconds)
Iteration 200: error is 60.207500 (50 iterations in 0.17 seconds)
Iteration 250: error is 60.136696 (50 iterations in 0.18 seconds)
Iteration 300: error is 1.341352 (50 iterations in 0.13 seconds)
Iteration 350: error is 1.228229 (50 iterations in 0.12 seconds)
Iteration 400: error is 1.196416 (50 iterations in 0.12 seconds)
Iteration 450: error is 1.185317 (50 iterations in 0.12 seconds)
Iteration 500: error is 1.178152 (50 iterations in 0.12 seconds)
Iteration 550: error is 1.172275 (50 iterations in 0.12 seconds)
Iteration 600: error is 1.169024 (50 iterations in 0.12 seconds)
Iteration 650: error is 1.165715 (50 iterations in 0.12 seconds)
Iteration 700: error is 1.163034 (50 iterations in 0.12 seconds)
Iteration 750: error is 1.160610 (50 iterations in 0.12 seconds)
Iteration 800: error is 1.158852 (50 iterations in 0.12 seconds)
Iteration 850: error is 1.157429 (50 iterations in 0.12 seconds)
Iteration 900: error is 1.155315 (50 iterations in 0.12 seconds)
Iteration 950: error is 1.152466 (50 iterations in 0.12 seconds)
Iteration 1000: error is 1.150499 (50 iterations in 0.11 seconds)
Fitting performed in 2.99 seconds.
[ FAIL 0 | WARN 4 | SKIP 0 | PASS 72 ]
[ FAIL 0 | WARN 4 | SKIP 0 | PASS 72 ]
>
> proc.time()
user system elapsed
15.511 0.331 18.174
Sconify.Rcheck/Sconify-Ex.timings
| name | user | system | elapsed | |
| FcsToTibble | 0.088 | 0.004 | 0.142 | |
| Fnn | 0.210 | 0.578 | 0.790 | |
| GetKnnDe | 0.064 | 0.004 | 0.067 | |
| GetMarkerNames | 0.017 | 0.001 | 0.019 | |
| ImputeTesting | 2.215 | 0.001 | 2.260 | |
| MakeHist | 0.215 | 0.000 | 0.288 | |
| MakeKnnList | 0.242 | 0.006 | 0.298 | |
| MeaningOfLife | 0.001 | 0.000 | 0.000 | |
| ParseMarkers | 0.255 | 0.010 | 0.638 | |
| PostProcessing | 0.053 | 0.003 | 0.104 | |
| ProcessMultipleFiles | 0.101 | 0.000 | 0.117 | |
| QuantNormalizeElements | 0.135 | 0.000 | 0.135 | |
| SconeValues | 8.744 | 0.060 | 9.431 | |
| SplitFile | 0.052 | 0.001 | 0.053 | |
| StringToNumbers | 0 | 0 | 0 | |
| SubsampleAndTsne | 1.272 | 0.002 | 1.369 | |
| TsneVis | 0.118 | 0.000 | 0.122 | |