| Back to Multiple platform build/check report for BioC 3.20: simplified long |
|
This page was generated on 2025-04-02 19:33 -0400 (Wed, 02 Apr 2025).
| Hostname | OS | Arch (*) | R version | Installed pkgs |
|---|---|---|---|---|
| nebbiolo2 | Linux (Ubuntu 24.04.1 LTS) | x86_64 | 4.4.3 (2025-02-28) -- "Trophy Case" | 4764 |
| palomino8 | Windows Server 2022 Datacenter | x64 | 4.4.3 (2025-02-28 ucrt) -- "Trophy Case" | 4495 |
| merida1 | macOS 12.7.5 Monterey | x86_64 | 4.4.3 (2025-02-28) -- "Trophy Case" | 4522 |
| kjohnson1 | macOS 13.6.6 Ventura | arm64 | 4.4.3 (2025-02-28) -- "Trophy Case" | 4449 |
| taishan | Linux (openEuler 24.03 LTS) | aarch64 | 4.4.3 (2025-02-28) -- "Trophy Case" | 4426 |
| Click on any hostname to see more info about the system (e.g. compilers) (*) as reported by 'uname -p', except on Windows and Mac OS X | ||||
| Package 1890/2289 | Hostname | OS / Arch | INSTALL | BUILD | CHECK | BUILD BIN | ||||||||
| Sconify 1.26.0 (landing page) Tyler J Burns
| nebbiolo2 | Linux (Ubuntu 24.04.1 LTS) / x86_64 | OK | OK | OK | |||||||||
| palomino8 | Windows Server 2022 Datacenter / x64 | OK | OK | OK | OK | |||||||||
| merida1 | macOS 12.7.5 Monterey / x86_64 | OK | OK | OK | OK | |||||||||
| kjohnson1 | macOS 13.6.6 Ventura / arm64 | OK | OK | OK | OK | |||||||||
| taishan | Linux (openEuler 24.03 LTS) / aarch64 | OK | OK | OK | ||||||||||
|
To the developers/maintainers of the Sconify package: - Allow up to 24 hours (and sometimes 48 hours) for your latest push to git@git.bioconductor.org:packages/Sconify.git to reflect on this report. See Troubleshooting Build Report for more information. - Use the following Renviron settings to reproduce errors and warnings. - If 'R CMD check' started to fail recently on the Linux builder(s) over a missing dependency, add the missing dependency to 'Suggests:' in your DESCRIPTION file. See Renviron.bioc for more information. |
| Package: Sconify |
| Version: 1.26.0 |
| Command: /Library/Frameworks/R.framework/Resources/bin/R CMD check --install=check:Sconify.install-out.txt --library=/Library/Frameworks/R.framework/Resources/library --no-vignettes --timings Sconify_1.26.0.tar.gz |
| StartedAt: 2025-04-01 08:48:30 -0400 (Tue, 01 Apr 2025) |
| EndedAt: 2025-04-01 08:52:33 -0400 (Tue, 01 Apr 2025) |
| EllapsedTime: 242.8 seconds |
| RetCode: 0 |
| Status: OK |
| CheckDir: Sconify.Rcheck |
| Warnings: 0 |
##############################################################################
##############################################################################
###
### Running command:
###
### /Library/Frameworks/R.framework/Resources/bin/R CMD check --install=check:Sconify.install-out.txt --library=/Library/Frameworks/R.framework/Resources/library --no-vignettes --timings Sconify_1.26.0.tar.gz
###
##############################################################################
##############################################################################
* using log directory ‘/Users/biocbuild/bbs-3.20-bioc/meat/Sconify.Rcheck’
* using R version 4.4.3 (2025-02-28)
* using platform: x86_64-apple-darwin20
* R was compiled by
Apple clang version 14.0.0 (clang-1400.0.29.202)
GNU Fortran (GCC) 12.2.0
* running under: macOS Monterey 12.7.6
* using session charset: UTF-8
* using option ‘--no-vignettes’
* checking for file ‘Sconify/DESCRIPTION’ ... OK
* checking extension type ... Package
* this is package ‘Sconify’ version ‘1.26.0’
* package encoding: UTF-8
* checking package namespace information ... OK
* checking package dependencies ... OK
* checking if this is a source package ... OK
* checking if there is a namespace ... OK
* checking for hidden files and directories ... OK
* checking for portable file names ... OK
* checking for sufficient/correct file permissions ... OK
* checking whether package ‘Sconify’ can be installed ... OK
* checking installed package size ... OK
* checking package directory ... OK
* checking ‘build’ directory ... OK
* checking DESCRIPTION meta-information ... OK
* checking top-level files ... OK
* checking for left-over files ... OK
* checking index information ... OK
* checking package subdirectories ... OK
* checking code files for non-ASCII characters ... OK
* checking R files for syntax errors ... OK
* checking whether the package can be loaded ... OK
* checking whether the package can be loaded with stated dependencies ... OK
* checking whether the package can be unloaded cleanly ... OK
* checking whether the namespace can be loaded with stated dependencies ... OK
* checking whether the namespace can be unloaded cleanly ... OK
* checking dependencies in R code ... OK
* checking S3 generic/method consistency ... OK
* checking replacement functions ... OK
* checking foreign function calls ... OK
* checking R code for possible problems ... OK
* checking Rd files ... OK
* checking Rd metadata ... OK
* checking Rd cross-references ... OK
* checking for missing documentation entries ... OK
* checking for code/documentation mismatches ... OK
* checking Rd \usage sections ... OK
* checking Rd contents ... OK
* checking for unstated dependencies in examples ... OK
* checking contents of ‘data’ directory ... OK
* checking data for non-ASCII characters ... OK
* checking LazyData ... OK
* checking data for ASCII and uncompressed saves ... OK
* checking files in ‘vignettes’ ... OK
* checking examples ... OK
Examples with CPU (user + system) or elapsed time > 5s
user system elapsed
SconeValues 29.473 0.298 32.408
ImputeTesting 8.414 0.046 9.306
* checking for unstated dependencies in ‘tests’ ... OK
* checking tests ...
Running ‘testthat.R’
OK
* checking for unstated dependencies in vignettes ... OK
* checking package vignettes ... OK
* checking running R code from vignettes ... SKIPPED
* checking re-building of vignette outputs ... SKIPPED
* checking PDF version of manual ... OK
* DONE
Status: OK
Sconify.Rcheck/00install.out
############################################################################## ############################################################################## ### ### Running command: ### ### /Library/Frameworks/R.framework/Resources/bin/R CMD INSTALL Sconify ### ############################################################################## ############################################################################## * installing to library ‘/Library/Frameworks/R.framework/Versions/4.4-x86_64/Resources/library’ * installing *source* package ‘Sconify’ ... ** using staged installation ** R ** data *** moving datasets to lazyload DB ** inst ** byte-compile and prepare package for lazy loading Note: wrong number of arguments to '/' Note: wrong number of arguments to 'asinh' ** help *** installing help indices ** building package indices ** installing vignettes ** testing if installed package can be loaded from temporary location ** testing if installed package can be loaded from final location ** testing if installed package keeps a record of temporary installation path * DONE (Sconify)
Sconify.Rcheck/tests/testthat.Rout
R version 4.4.3 (2025-02-28) -- "Trophy Case"
Copyright (C) 2025 The R Foundation for Statistical Computing
Platform: x86_64-apple-darwin20
R is free software and comes with ABSOLUTELY NO WARRANTY.
You are welcome to redistribute it under certain conditions.
Type 'license()' or 'licence()' for distribution details.
R is a collaborative project with many contributors.
Type 'contributors()' for more information and
'citation()' on how to cite R or R packages in publications.
Type 'demo()' for some demos, 'help()' for on-line help, or
'help.start()' for an HTML browser interface to help.
Type 'q()' to quit R.
> library(testthat)
> library(Sconify)
>
> test_check("Sconify")
Read the 100 x 27 data matrix successfully!
Using no_dims = 2, perplexity = 30.000000, and theta = 0.500000
Computing input similarities...
Building tree...
Done in 0.01 seconds (sparsity = 0.966600)!
Learning embedding...
Iteration 50: error is 50.511480 (50 iterations in 0.02 seconds)
Iteration 100: error is 49.659022 (50 iterations in 0.02 seconds)
Iteration 150: error is 52.348142 (50 iterations in 0.02 seconds)
Iteration 200: error is 50.151529 (50 iterations in 0.02 seconds)
Iteration 250: error is 53.729504 (50 iterations in 0.02 seconds)
Iteration 300: error is 1.438016 (50 iterations in 0.02 seconds)
Iteration 350: error is 0.741611 (50 iterations in 0.02 seconds)
Iteration 400: error is 0.281941 (50 iterations in 0.01 seconds)
Iteration 450: error is 0.202165 (50 iterations in 0.01 seconds)
Iteration 500: error is 0.174559 (50 iterations in 0.01 seconds)
Iteration 550: error is 0.162415 (50 iterations in 0.01 seconds)
Iteration 600: error is 0.157351 (50 iterations in 0.01 seconds)
Iteration 650: error is 0.159417 (50 iterations in 0.01 seconds)
Iteration 700: error is 0.161181 (50 iterations in 0.01 seconds)
Iteration 750: error is 0.163001 (50 iterations in 0.01 seconds)
Iteration 800: error is 0.163628 (50 iterations in 0.01 seconds)
Iteration 850: error is 0.164002 (50 iterations in 0.01 seconds)
Iteration 900: error is 0.164004 (50 iterations in 0.01 seconds)
Iteration 950: error is 0.164085 (50 iterations in 0.01 seconds)
Iteration 1000: error is 0.164100 (50 iterations in 0.01 seconds)
Fitting performed in 0.31 seconds.
Read the 1000 x 27 data matrix successfully!
Using no_dims = 2, perplexity = 30.000000, and theta = 0.500000
Computing input similarities...
Building tree...
Done in 0.22 seconds (sparsity = 0.129120)!
Learning embedding...
Iteration 50: error is 66.618359 (50 iterations in 0.42 seconds)
Iteration 100: error is 60.700386 (50 iterations in 0.25 seconds)
Iteration 150: error is 60.351323 (50 iterations in 0.27 seconds)
Iteration 200: error is 60.215571 (50 iterations in 0.27 seconds)
Iteration 250: error is 60.138989 (50 iterations in 0.27 seconds)
Iteration 300: error is 1.355486 (50 iterations in 0.24 seconds)
Iteration 350: error is 1.242550 (50 iterations in 0.22 seconds)
Iteration 400: error is 1.210742 (50 iterations in 0.22 seconds)
Iteration 450: error is 1.199122 (50 iterations in 0.21 seconds)
Iteration 500: error is 1.189744 (50 iterations in 0.21 seconds)
Iteration 550: error is 1.185410 (50 iterations in 0.21 seconds)
Iteration 600: error is 1.181810 (50 iterations in 0.21 seconds)
Iteration 650: error is 1.177539 (50 iterations in 0.21 seconds)
Iteration 700: error is 1.175931 (50 iterations in 0.21 seconds)
Iteration 750: error is 1.173794 (50 iterations in 0.21 seconds)
Iteration 800: error is 1.170624 (50 iterations in 0.22 seconds)
Iteration 850: error is 1.167955 (50 iterations in 0.21 seconds)
Iteration 900: error is 1.166521 (50 iterations in 0.21 seconds)
Iteration 950: error is 1.164511 (50 iterations in 0.21 seconds)
Iteration 1000: error is 1.163348 (50 iterations in 0.22 seconds)
Fitting performed in 4.71 seconds.
[ FAIL 0 | WARN 4 | SKIP 0 | PASS 72 ]
[ FAIL 0 | WARN 4 | SKIP 0 | PASS 72 ]
>
> proc.time()
user system elapsed
46.322 1.098 51.359
Sconify.Rcheck/Sconify-Ex.timings
| name | user | system | elapsed | |
| FcsToTibble | 0.246 | 0.008 | 0.273 | |
| Fnn | 0.942 | 2.723 | 4.050 | |
| GetKnnDe | 0.115 | 0.018 | 0.144 | |
| GetMarkerNames | 0.055 | 0.004 | 0.063 | |
| ImputeTesting | 8.414 | 0.046 | 9.306 | |
| MakeHist | 0.670 | 0.015 | 0.780 | |
| MakeKnnList | 0.814 | 0.027 | 0.930 | |
| MeaningOfLife | 0.001 | 0.001 | 0.001 | |
| ParseMarkers | 0.535 | 0.039 | 0.658 | |
| PostProcessing | 0.165 | 0.004 | 0.193 | |
| ProcessMultipleFiles | 0.227 | 0.008 | 0.307 | |
| QuantNormalizeElements | 0.517 | 0.006 | 0.605 | |
| SconeValues | 29.473 | 0.298 | 32.408 | |
| SplitFile | 0.159 | 0.004 | 0.176 | |
| StringToNumbers | 0.001 | 0.001 | 0.001 | |
| SubsampleAndTsne | 2.757 | 0.055 | 3.071 | |
| TsneVis | 0.366 | 0.006 | 0.420 | |