| Back to Multiple platform build/check report for BioC 3.20: simplified long |
|
This page was generated on 2024-06-11 15:41 -0400 (Tue, 11 Jun 2024).
| Hostname | OS | Arch (*) | R version | Installed pkgs |
|---|---|---|---|---|
| nebbiolo2 | Linux (Ubuntu 22.04.3 LTS) | x86_64 | 4.4.0 RC (2024-04-16 r86468) -- "Puppy Cup" | 4679 |
| palomino4 | Windows Server 2022 Datacenter | x64 | 4.4.0 RC (2024-04-16 r86468 ucrt) -- "Puppy Cup" | 4414 |
| merida1 | macOS 12.7.4 Monterey | x86_64 | 4.4.0 Patched (2024-04-24 r86482) -- "Puppy Cup" | 4441 |
| kjohnson1 | macOS 13.6.6 Ventura | arm64 | 4.4.0 Patched (2024-04-24 r86482) -- "Puppy Cup" | 4394 |
| Click on any hostname to see more info about the system (e.g. compilers) (*) as reported by 'uname -p', except on Windows and Mac OS X | ||||
| Package 1959/2239 | Hostname | OS / Arch | INSTALL | BUILD | CHECK | BUILD BIN | ||||||||
| SNPhood 1.35.0 (landing page) Christian Arnold
| nebbiolo2 | Linux (Ubuntu 22.04.3 LTS) / x86_64 | OK | OK | OK | |||||||||
| palomino4 | Windows Server 2022 Datacenter / x64 | OK | OK | OK | OK | |||||||||
| merida1 | macOS 12.7.4 Monterey / x86_64 | OK | OK | OK | OK | |||||||||
| kjohnson1 | macOS 13.6.6 Ventura / arm64 | OK | OK | OK | OK | |||||||||
|
To the developers/maintainers of the SNPhood package: - Allow up to 24 hours (and sometimes 48 hours) for your latest push to git@git.bioconductor.org:packages/SNPhood.git to reflect on this report. See Troubleshooting Build Report for more information. - Use the following Renviron settings to reproduce errors and warnings. - If 'R CMD check' started to fail recently on the Linux builder(s) over a missing dependency, add the missing dependency to 'Suggests:' in your DESCRIPTION file. See Renviron.bioc for more information. |
| Package: SNPhood |
| Version: 1.35.0 |
| Command: F:\biocbuild\bbs-3.20-bioc\R\bin\R.exe CMD check --no-multiarch --install=check:SNPhood.install-out.txt --library=F:\biocbuild\bbs-3.20-bioc\R\library --no-vignettes --timings SNPhood_1.35.0.tar.gz |
| StartedAt: 2024-06-10 10:05:48 -0400 (Mon, 10 Jun 2024) |
| EndedAt: 2024-06-10 10:21:32 -0400 (Mon, 10 Jun 2024) |
| EllapsedTime: 944.7 seconds |
| RetCode: 0 |
| Status: OK |
| CheckDir: SNPhood.Rcheck |
| Warnings: 0 |
##############################################################################
##############################################################################
###
### Running command:
###
### F:\biocbuild\bbs-3.20-bioc\R\bin\R.exe CMD check --no-multiarch --install=check:SNPhood.install-out.txt --library=F:\biocbuild\bbs-3.20-bioc\R\library --no-vignettes --timings SNPhood_1.35.0.tar.gz
###
##############################################################################
##############################################################################
* using log directory 'F:/biocbuild/bbs-3.20-bioc/meat/SNPhood.Rcheck'
* using R version 4.4.0 RC (2024-04-16 r86468 ucrt)
* using platform: x86_64-w64-mingw32
* R was compiled by
gcc.exe (GCC) 13.2.0
GNU Fortran (GCC) 13.2.0
* running under: Windows Server 2022 x64 (build 20348)
* using session charset: UTF-8
* using option '--no-vignettes'
* checking for file 'SNPhood/DESCRIPTION' ... OK
* this is package 'SNPhood' version '1.35.0'
* checking package namespace information ... OK
* checking package dependencies ... OK
* checking if this is a source package ... OK
* checking if there is a namespace ... OK
* checking for hidden files and directories ... OK
* checking for portable file names ... OK
* checking whether package 'SNPhood' can be installed ... OK
* checking installed package size ... OK
* checking package directory ... OK
* checking 'build' directory ... OK
* checking DESCRIPTION meta-information ... NOTE
BugReports field is not a suitable URL but contains an email address:
use the Contact field instead
* checking top-level files ... OK
* checking for left-over files ... OK
* checking index information ... OK
* checking package subdirectories ... OK
* checking code files for non-ASCII characters ... OK
* checking R files for syntax errors ... OK
* checking whether the package can be loaded ... OK
* checking whether the package can be loaded with stated dependencies ... OK
* checking whether the package can be unloaded cleanly ... OK
* checking whether the namespace can be loaded with stated dependencies ... OK
* checking whether the namespace can be unloaded cleanly ... OK
* checking whether startup messages can be suppressed ... OK
* checking dependencies in R code ... OK
* checking S3 generic/method consistency ... OK
* checking replacement functions ... OK
* checking foreign function calls ... OK
* checking R code for possible problems ... NOTE
.calcBinomTestVector: no visible binding for global variable 'pp'
Undefined global functions or variables:
pp
* checking Rd files ... OK
* checking Rd metadata ... OK
* checking Rd cross-references ... OK
* checking for missing documentation entries ... OK
* checking for code/documentation mismatches ... OK
* checking Rd \usage sections ... OK
* checking Rd contents ... OK
* checking for unstated dependencies in examples ... OK
* checking contents of 'data' directory ... OK
* checking data for non-ASCII characters ... OK
* checking LazyData ... OK
* checking data for ASCII and uncompressed saves ... OK
* checking files in 'vignettes' ... OK
* checking examples ... OK
Examples with CPU (user + system) or elapsed time > 5s
user system elapsed
analyzeSNPhood 68.45 5.45 75.67
plotAndSummarizeAllelicBiasTest 19.58 0.26 19.78
plotAllelicBiasResults 19.13 0.28 19.40
testForAllelicBiases 19.02 0.14 19.11
plotFDRResults 18.69 0.20 18.84
results 4.91 4.51 9.44
* checking for unstated dependencies in vignettes ... OK
* checking package vignettes ... OK
* checking running R code from vignettes ... SKIPPED
* checking re-building of vignette outputs ... SKIPPED
* checking PDF version of manual ... OK
* DONE
Status: 2 NOTEs
See
'F:/biocbuild/bbs-3.20-bioc/meat/SNPhood.Rcheck/00check.log'
for details.
SNPhood.Rcheck/00install.out
############################################################################## ############################################################################## ### ### Running command: ### ### F:\biocbuild\bbs-3.20-bioc\R\bin\R.exe CMD INSTALL SNPhood ### ############################################################################## ############################################################################## * installing to library 'F:/biocbuild/bbs-3.20-bioc/R/library' * installing *source* package 'SNPhood' ... ** using staged installation ** R ** data *** moving datasets to lazyload DB ** byte-compile and prepare package for lazy loading ** help *** installing help indices ** building package indices ** installing vignettes ** testing if installed package can be loaded from temporary location ** testing if installed package can be loaded from final location ** testing if installed package keeps a record of temporary installation path * DONE (SNPhood)
SNPhood.Rcheck/SNPhood-Ex.timings
| name | user | system | elapsed | |
| analyzeSNPhood | 68.45 | 5.45 | 75.67 | |
| annotation-methods | 0.31 | 0.06 | 0.37 | |
| annotationBins | 0.21 | 0.05 | 0.26 | |
| annotationBins2 | 1.35 | 0.13 | 1.47 | |
| annotationDatasets | 0.11 | 0.09 | 0.20 | |
| annotationReadGroups | 0.97 | 0.11 | 1.08 | |
| annotationRegions | 0.14 | 0.03 | 0.17 | |
| associateGenotypes | 4.78 | 0.19 | 4.97 | |
| bins-methods | 0.20 | 0.01 | 0.22 | |
| changeObjectIntegrityChecking | 1.08 | 0.02 | 1.10 | |
| collectFiles | 0.05 | 0.00 | 0.04 | |
| convertToAllelicFractions | 0.18 | 0.00 | 0.19 | |
| counts-method | 1.10 | 0.02 | 1.11 | |
| datasets-methods | 0.12 | 0.03 | 0.16 | |
| deleteDatasets | 0.11 | 0.04 | 0.15 | |
| deleteReadGroups | 1.02 | 0.08 | 1.10 | |
| deleteRegions | 0.16 | 0.02 | 0.17 | |
| enrichment-methods | 1.03 | 0.00 | 1.03 | |
| getDefaultParameterList | 0 | 0 | 0 | |
| mergeReadGroups | 0.19 | 0.04 | 0.24 | |
| parameters-methods | 0.15 | 0.02 | 0.18 | |
| plotAllelicBiasResults | 19.13 | 0.28 | 19.40 | |
| plotAllelicBiasResultsOverview | 0.87 | 0.20 | 1.08 | |
| plotAndCalculateCorrelationDatasets | 0.38 | 0.11 | 0.53 | |
| plotAndCalculateWeakAndStrongGenotype | 1.78 | 0.09 | 1.88 | |
| plotAndClusterMatrix | 0.78 | 0.07 | 0.86 | |
| plotAndSummarizeAllelicBiasTest | 19.58 | 0.26 | 19.78 | |
| plotBinCounts | 1.09 | 0.05 | 1.14 | |
| plotClusterAverage | 0.47 | 0.09 | 0.56 | |
| plotFDRResults | 18.69 | 0.20 | 18.84 | |
| plotGenotypesPerCluster | 0.41 | 0.05 | 0.46 | |
| plotGenotypesPerSNP | 0.32 | 0.05 | 0.37 | |
| plotRegionCounts | 3.08 | 0.25 | 3.35 | |
| readGroups-methods | 0.10 | 0.05 | 0.15 | |
| regions-methods | 0.11 | 0.04 | 0.16 | |
| renameBins | 0.15 | 0.05 | 0.20 | |
| renameDatasets | 0.13 | 0.06 | 0.19 | |
| renameReadGroups | 0.20 | 0.03 | 0.23 | |
| renameRegions | 3.23 | 0.07 | 3.30 | |
| results | 4.91 | 4.51 | 9.44 | |
| testForAllelicBiases | 19.02 | 0.14 | 19.11 | |